BEGIN:VCALENDAR
VERSION:2.0
PRODID:-//Las Vegas Central Office for Alcoholics Anonymous - ECPv6.15.20//NONSGML v1.0//EN
CALSCALE:GREGORIAN
METHOD:PUBLISH
X-WR-CALNAME:Las Vegas Central Office for Alcoholics Anonymous
X-ORIGINAL-URL:https://www.lvcentraloffice.org
X-WR-CALDESC:Events for Las Vegas Central Office for Alcoholics Anonymous
REFRESH-INTERVAL;VALUE=DURATION:PT1H
X-Robots-Tag:noindex
X-PUBLISHED-TTL:PT1H
BEGIN:VTIMEZONE
TZID:America/Los_Angeles
BEGIN:DAYLIGHT
TZOFFSETFROM:-0800
TZOFFSETTO:-0700
TZNAME:PDT
DTSTART:20280312T100000
END:DAYLIGHT
BEGIN:STANDARD
TZOFFSETFROM:-0700
TZOFFSETTO:-0800
TZNAME:PST
DTSTART:20281105T090000
END:STANDARD
BEGIN:DAYLIGHT
TZOFFSETFROM:-0800
TZOFFSETTO:-0700
TZNAME:PDT
DTSTART:20290311T100000
END:DAYLIGHT
BEGIN:STANDARD
TZOFFSETFROM:-0700
TZOFFSETTO:-0800
TZNAME:PST
DTSTART:20291104T090000
END:STANDARD
BEGIN:DAYLIGHT
TZOFFSETFROM:-0800
TZOFFSETTO:-0700
TZNAME:PDT
DTSTART:20300310T100000
END:DAYLIGHT
BEGIN:STANDARD
TZOFFSETFROM:-0700
TZOFFSETTO:-0800
TZNAME:PST
DTSTART:20301103T090000
END:STANDARD
END:VTIMEZONE
BEGIN:VEVENT
DTSTART;TZID=America/Los_Angeles:20290725T170000
DTEND;TZID=America/Los_Angeles:20290725T180000
DTSTAMP:20260425T175106
CREATED:20250604T213851Z
LAST-MODIFIED:20250604T213851Z
UID:10003150-1879693200-1879696800@www.lvcentraloffice.org
SUMMARY:Public Information Committee Meeting
DESCRIPTION:
URL:https://www.lvcentraloffice.org/event/public-information-committee-meeting/2029-07-25/
LOCATION:Central Office Meeting Room\, 1515 E Tropicana Ave\, Suite 710\, Las Vegas\, NV\, 89119\, United States
END:VEVENT
BEGIN:VEVENT
DTSTART;TZID=America/Los_Angeles:20290726T190000
DTEND;TZID=America/Los_Angeles:20290726T200000
DTSTAMP:20260425T175106
CREATED:20250424T212353Z
LAST-MODIFIED:20250424T212353Z
UID:10001274-1879786800-1879790400@www.lvcentraloffice.org
SUMMARY:D21 General Service Meeting
DESCRIPTION:
URL:https://www.lvcentraloffice.org/event/d21-general-service-meeting/2029-07-26/
LOCATION:D21 meeting place\, 1401 North Decatur Blvd\, Suite 19\, Las Vegas\, NV\, 89108\, United States
END:VEVENT
BEGIN:VEVENT
DTSTART;TZID=America/Los_Angeles:20290727T090000
DTEND;TZID=America/Los_Angeles:20290727T130000
DTSTAMP:20260425T175106
CREATED:20260323T165052Z
LAST-MODIFIED:20260323T203718Z
UID:10004415-1879837200-1879851600@www.lvcentraloffice.org
SUMMARY:Archive Committee Meeting
DESCRIPTION:Archives Meetings Flyer
URL:https://www.lvcentraloffice.org/event/archive-committee-meeting-2-2/2029-07-27/
LOCATION:Central Office Meeting Room\, 1515 E Tropicana Ave\, Suite 710\, Las Vegas\, NV\, 89119\, United States
END:VEVENT
BEGIN:VEVENT
DTSTART;TZID=America/Los_Angeles:20290729T180000
DTEND;TZID=America/Los_Angeles:20290729T190000
DTSTAMP:20260425T175106
CREATED:20250527T171424Z
LAST-MODIFIED:20250804T192231Z
UID:10001442-1880042400-1880046000@www.lvcentraloffice.org
SUMMARY:The Traditions and Concepts Presentation
DESCRIPTION:Geared to help General Service Reps \nZoom Meeting ID: 653 006 6012 \nPassword: 1935
URL:https://www.lvcentraloffice.org/event/the-traditions-and-concepts-presentation/2029-07-29/
LOCATION:ONLINE ONLY
END:VEVENT
BEGIN:VEVENT
DTSTART;TZID=America/Los_Angeles:20290731T190000
DTEND;TZID=America/Los_Angeles:20290731T200000
DTSTAMP:20260425T175106
CREATED:20250424T195145Z
LAST-MODIFIED:20250424T195145Z
UID:10000540-1880218800-1880222400@www.lvcentraloffice.org
SUMMARY:Grapevine Committee Meeting
DESCRIPTION:ID:  863 7191 9329  Passcode: Grapevine
URL:https://www.lvcentraloffice.org/event/grapevine-committee-meeting/2029-07-31/
LOCATION:ONLINE ONLY
END:VEVENT
BEGIN:VEVENT
DTSTART;TZID=America/Los_Angeles:20290801T183000
DTEND;TZID=America/Los_Angeles:20290801T193000
DTSTAMP:20260425T175106
CREATED:20250424T212109Z
LAST-MODIFIED:20250424T212109Z
UID:10001044-1880303400-1880307000@www.lvcentraloffice.org
SUMMARY:District 17 General Service Meeting
DESCRIPTION:
URL:https://www.lvcentraloffice.org/event/district-17-general-service-meeting/2029-08-01/
LOCATION:Desert View Hospital Conference Room\, 360 S Lola Ln\, Pahrump\, NV\, 89048\, United States
END:VEVENT
BEGIN:VEVENT
DTSTART;TZID=America/Los_Angeles:20290802T190000
DTEND;TZID=America/Los_Angeles:20290802T200000
DTSTAMP:20260425T175106
CREATED:20250424T212353Z
LAST-MODIFIED:20250424T212353Z
UID:10001275-1880391600-1880395200@www.lvcentraloffice.org
SUMMARY:D21 General Service Meeting
DESCRIPTION:
URL:https://www.lvcentraloffice.org/event/d21-general-service-meeting/2029-08-02/
LOCATION:D21 meeting place\, 1401 North Decatur Blvd\, Suite 19\, Las Vegas\, NV\, 89108\, United States
END:VEVENT
BEGIN:VEVENT
DTSTART;TZID=America/Los_Angeles:20290804T133000
DTEND;TZID=America/Los_Angeles:20290804T143000
DTSTAMP:20260425T175106
CREATED:20250424T174809Z
LAST-MODIFIED:20250424T211009Z
UID:10000054-1880544600-1880548200@www.lvcentraloffice.org
SUMMARY:D9 General Service Meeting
DESCRIPTION:
URL:https://www.lvcentraloffice.org/event/d9-committee-meeting/2029-08-04/
LOCATION:Central Office Meeting Room\, 1515 E Tropicana Ave\, Suite 710\, Las Vegas\, NV\, 89119\, United States
END:VEVENT
BEGIN:VEVENT
DTSTART;TZID=America/Los_Angeles:20290805T133000
DTEND;TZID=America/Los_Angeles:20290805T143000
DTSTAMP:20260425T175106
CREATED:20250424T175052Z
LAST-MODIFIED:20250722T222356Z
UID:10000115-1880631000-1880634600@www.lvcentraloffice.org
SUMMARY:LVYPAA Committee Meeting
DESCRIPTION:
URL:https://www.lvcentraloffice.org/event/lvypa-committee-meeting/2029-08-05/
LOCATION:Central Office Meeting Room\, 1515 E Tropicana Ave\, Suite 710\, Las Vegas\, NV\, 89119\, United States
END:VEVENT
BEGIN:VEVENT
DTSTART;TZID=America/Los_Angeles:20290809T190000
DTEND;TZID=America/Los_Angeles:20290809T200000
DTSTAMP:20260425T175106
CREATED:20250424T212353Z
LAST-MODIFIED:20250424T212353Z
UID:10001276-1880996400-1881000000@www.lvcentraloffice.org
SUMMARY:D21 General Service Meeting
DESCRIPTION:
URL:https://www.lvcentraloffice.org/event/d21-general-service-meeting/2029-08-09/
LOCATION:D21 meeting place\, 1401 North Decatur Blvd\, Suite 19\, Las Vegas\, NV\, 89108\, United States
END:VEVENT
BEGIN:VEVENT
DTSTART;TZID=America/Los_Angeles:20290811T131500
DTEND;TZID=America/Los_Angeles:20290811T141500
DTSTAMP:20260425T175106
CREATED:20250424T210244Z
LAST-MODIFIED:20250424T210244Z
UID:10000864-1881148500-1881152100@www.lvcentraloffice.org
SUMMARY:District 5B General Service Meeting
DESCRIPTION:
URL:https://www.lvcentraloffice.org/event/district-5b-general-service-meeting/2029-08-11/
LOCATION:Keep Coming Back Club\, 5717 W Alexander Rd Ste 145\, Las Vegas\, NV\, 89130\, United States
END:VEVENT
BEGIN:VEVENT
DTSTART;TZID=America/Los_Angeles:20290812T094500
DTEND;TZID=America/Los_Angeles:20290812T104500
DTSTAMP:20260425T175106
CREATED:20250424T211729Z
LAST-MODIFIED:20250424T211729Z
UID:10000984-1881222300-1881225900@www.lvcentraloffice.org
SUMMARY:D15 General Service Meeting
DESCRIPTION:
URL:https://www.lvcentraloffice.org/event/d15-general-service-meeting/2029-08-12/
LOCATION:TIE Club\, 329 North 11th Street\, Las Vegas\, NV\, 89101\, United States
END:VEVENT
BEGIN:VEVENT
DTSTART;TZID=America/Los_Angeles:20290813T163000
DTEND;TZID=America/Los_Angeles:20290813T173000
DTSTAMP:20260425T175106
CREATED:20250424T194307Z
LAST-MODIFIED:20250424T194307Z
UID:10000480-1881333000-1881336600@www.lvcentraloffice.org
SUMMARY:CPC Committee Meeting
DESCRIPTION:ID: 869 7461 4930   Passcode: Serenity
URL:https://www.lvcentraloffice.org/event/cpc-committee-meeting/2029-08-13/
LOCATION:ONLINE ONLY
END:VEVENT
BEGIN:VEVENT
DTSTART;TZID=America/Los_Angeles:20290813T180000
DTEND;TZID=America/Los_Angeles:20290813T190000
DTSTAMP:20260425T175106
CREATED:20250424T175208Z
LAST-MODIFIED:20250424T180936Z
UID:10000175-1881338400-1881342000@www.lvcentraloffice.org
SUMMARY:Intergroup Meeting
DESCRIPTION:Zoom Information: \nMeeting ID: 95812571807 Pass Code: 710AA  \n 
URL:https://www.lvcentraloffice.org/event/intergroup-meeting/2029-08-13/
LOCATION:Central Office Meeting Room\, 1515 E Tropicana Ave\, Suite 710\, Las Vegas\, NV\, 89119\, United States
END:VEVENT
BEGIN:VEVENT
DTSTART;TZID=America/Los_Angeles:20290816T190000
DTEND;TZID=America/Los_Angeles:20290816T200000
DTSTAMP:20260425T175106
CREATED:20250424T212353Z
LAST-MODIFIED:20250424T212353Z
UID:10001277-1881601200-1881604800@www.lvcentraloffice.org
SUMMARY:D21 General Service Meeting
DESCRIPTION:
URL:https://www.lvcentraloffice.org/event/d21-general-service-meeting/2029-08-16/
LOCATION:D21 meeting place\, 1401 North Decatur Blvd\, Suite 19\, Las Vegas\, NV\, 89108\, United States
END:VEVENT
BEGIN:VEVENT
DTSTART;TZID=America/Los_Angeles:20290818T103000
DTEND;TZID=America/Los_Angeles:20290818T140000
DTSTAMP:20260425T175106
CREATED:20260323T165914Z
LAST-MODIFIED:20260413T184320Z
UID:10004475-1881743400-1881756000@www.lvcentraloffice.org
SUMMARY:Archives Virtual Committee Meeting
DESCRIPTION:Archives Meetings Flyer \nMEETING ID: 867 1631 4717\nPasscode: Archives42
URL:https://www.lvcentraloffice.org/event/archives-virtual-committee-meeting/2029-08-18/
LOCATION:
END:VEVENT
BEGIN:VEVENT
DTSTART;TZID=America/Los_Angeles:20290819T100000
DTEND;TZID=America/Los_Angeles:20290819T230000
DTSTAMP:20260425T175106
CREATED:20251104T191839Z
LAST-MODIFIED:20260313T215429Z
UID:10000235-1881828000-1881874800@www.lvcentraloffice.org
SUMMARY:District 1 General Service Meeting
DESCRIPTION:
URL:https://www.lvcentraloffice.org/event/district-1-committee-meeting-2/2029-08-19/
LOCATION:Central Office Meeting Room\, 1515 E Tropicana Ave\, Suite 710\, Las Vegas\, NV\, 89119\, United States
END:VEVENT
BEGIN:VEVENT
DTSTART;TZID=America/Los_Angeles:20290819T150000
DTEND;TZID=America/Los_Angeles:20290819T160000
DTSTAMP:20260425T175106
CREATED:20250424T211456Z
LAST-MODIFIED:20250424T211456Z
UID:10000924-1881846000-1881849600@www.lvcentraloffice.org
SUMMARY:D13 General Service Meeting
DESCRIPTION:
URL:https://www.lvcentraloffice.org/event/d13-general-service-meeting/2029-08-19/
LOCATION:Triangle Club\, 4600 S. Nellis Blvd\, Las Vegas\, NV\, 89121\, United States
END:VEVENT
BEGIN:VEVENT
DTSTART;TZID=America/Los_Angeles:20290821T173000
DTEND;TZID=America/Los_Angeles:20290821T175000
DTSTAMP:20260425T175106
CREATED:20250424T180028Z
LAST-MODIFIED:20250424T180028Z
UID:10000296-1882027800-1882029000@www.lvcentraloffice.org
SUMMARY:H&I Committee Orientation
DESCRIPTION:
URL:https://www.lvcentraloffice.org/event/hi-committee-orientation/2029-08-21/
LOCATION:Central Office Meeting Room\, 1515 E Tropicana Ave\, Suite 710\, Las Vegas\, NV\, 89119\, United States
END:VEVENT
BEGIN:VEVENT
DTSTART;TZID=America/Los_Angeles:20290821T180000
DTEND;TZID=America/Los_Angeles:20290821T190000
DTSTAMP:20260425T175106
CREATED:20250424T182008Z
LAST-MODIFIED:20250424T182008Z
UID:10000359-1882029600-1882033200@www.lvcentraloffice.org
SUMMARY:H&I Committee Meeting
DESCRIPTION:
URL:https://www.lvcentraloffice.org/event/hi-committee-meeting/2029-08-21/
LOCATION:Central Office Meeting Room\, 1515 E Tropicana Ave\, Suite 710\, Las Vegas\, NV\, 89119\, United States
END:VEVENT
BEGIN:VEVENT
DTSTART;TZID=America/Los_Angeles:20290822T170000
DTEND;TZID=America/Los_Angeles:20290822T180000
DTSTAMP:20260425T175106
CREATED:20250604T213851Z
LAST-MODIFIED:20250604T213851Z
UID:10003151-1882112400-1882116000@www.lvcentraloffice.org
SUMMARY:Public Information Committee Meeting
DESCRIPTION:
URL:https://www.lvcentraloffice.org/event/public-information-committee-meeting/2029-08-22/
LOCATION:Central Office Meeting Room\, 1515 E Tropicana Ave\, Suite 710\, Las Vegas\, NV\, 89119\, United States
END:VEVENT
BEGIN:VEVENT
DTSTART;TZID=America/Los_Angeles:20290823T190000
DTEND;TZID=America/Los_Angeles:20290823T200000
DTSTAMP:20260425T175106
CREATED:20250424T212353Z
LAST-MODIFIED:20250424T212353Z
UID:10001278-1882206000-1882209600@www.lvcentraloffice.org
SUMMARY:D21 General Service Meeting
DESCRIPTION:
URL:https://www.lvcentraloffice.org/event/d21-general-service-meeting/2029-08-23/
LOCATION:D21 meeting place\, 1401 North Decatur Blvd\, Suite 19\, Las Vegas\, NV\, 89108\, United States
END:VEVENT
BEGIN:VEVENT
DTSTART;TZID=America/Los_Angeles:20290826T180000
DTEND;TZID=America/Los_Angeles:20290826T190000
DTSTAMP:20260425T175106
CREATED:20250527T171424Z
LAST-MODIFIED:20250804T192231Z
UID:10001443-1882461600-1882465200@www.lvcentraloffice.org
SUMMARY:The Traditions and Concepts Presentation
DESCRIPTION:Geared to help General Service Reps \nZoom Meeting ID: 653 006 6012 \nPassword: 1935
URL:https://www.lvcentraloffice.org/event/the-traditions-and-concepts-presentation/2029-08-26/
LOCATION:ONLINE ONLY
END:VEVENT
BEGIN:VEVENT
DTSTART;TZID=America/Los_Angeles:20290827T190000
DTEND;TZID=America/Los_Angeles:20290827T200000
DTSTAMP:20260425T175106
CREATED:20250424T194038Z
LAST-MODIFIED:20250424T194038Z
UID:10000420-1882551600-1882555200@www.lvcentraloffice.org
SUMMARY:Accessibility/Meetings To Go Committee Meeting
DESCRIPTION:ID: 8330 643 2783   Passcode: handofaa
URL:https://www.lvcentraloffice.org/event/accessibility-meetings-to-go-committee-meeting/2029-08-27/
LOCATION:ONLINE ONLY
END:VEVENT
BEGIN:VEVENT
DTSTART;TZID=America/Los_Angeles:20290828T190000
DTEND;TZID=America/Los_Angeles:20290828T200000
DTSTAMP:20260425T175106
CREATED:20250424T195145Z
LAST-MODIFIED:20250424T195145Z
UID:10000541-1882638000-1882641600@www.lvcentraloffice.org
SUMMARY:Grapevine Committee Meeting
DESCRIPTION:ID:  863 7191 9329  Passcode: Grapevine
URL:https://www.lvcentraloffice.org/event/grapevine-committee-meeting/2029-08-28/
LOCATION:ONLINE ONLY
END:VEVENT
BEGIN:VEVENT
DTSTART;TZID=America/Los_Angeles:20290830T190000
DTEND;TZID=America/Los_Angeles:20290830T200000
DTSTAMP:20260425T175106
CREATED:20250424T212353Z
LAST-MODIFIED:20250424T212353Z
UID:10001279-1882810800-1882814400@www.lvcentraloffice.org
SUMMARY:D21 General Service Meeting
DESCRIPTION:
URL:https://www.lvcentraloffice.org/event/d21-general-service-meeting/2029-08-30/
LOCATION:D21 meeting place\, 1401 North Decatur Blvd\, Suite 19\, Las Vegas\, NV\, 89108\, United States
END:VEVENT
BEGIN:VEVENT
DTSTART;TZID=America/Los_Angeles:20290831T090000
DTEND;TZID=America/Los_Angeles:20290831T130000
DTSTAMP:20260425T175106
CREATED:20260323T165052Z
LAST-MODIFIED:20260323T203718Z
UID:10004416-1882861200-1882875600@www.lvcentraloffice.org
SUMMARY:Archive Committee Meeting
DESCRIPTION:Archives Meetings Flyer
URL:https://www.lvcentraloffice.org/event/archive-committee-meeting-2-2/2029-08-31/
LOCATION:Central Office Meeting Room\, 1515 E Tropicana Ave\, Suite 710\, Las Vegas\, NV\, 89119\, United States
END:VEVENT
BEGIN:VEVENT
DTSTART;TZID=America/Los_Angeles:20290901T133000
DTEND;TZID=America/Los_Angeles:20290901T143000
DTSTAMP:20260425T175106
CREATED:20250424T174809Z
LAST-MODIFIED:20250424T211009Z
UID:10000055-1882963800-1882967400@www.lvcentraloffice.org
SUMMARY:D9 General Service Meeting
DESCRIPTION:
URL:https://www.lvcentraloffice.org/event/d9-committee-meeting/2029-09-01/
LOCATION:Central Office Meeting Room\, 1515 E Tropicana Ave\, Suite 710\, Las Vegas\, NV\, 89119\, United States
END:VEVENT
BEGIN:VEVENT
DTSTART;TZID=America/Los_Angeles:20290902T133000
DTEND;TZID=America/Los_Angeles:20290902T143000
DTSTAMP:20260425T175106
CREATED:20250424T175052Z
LAST-MODIFIED:20250722T222356Z
UID:10000116-1883050200-1883053800@www.lvcentraloffice.org
SUMMARY:LVYPAA Committee Meeting
DESCRIPTION:
URL:https://www.lvcentraloffice.org/event/lvypa-committee-meeting/2029-09-02/
LOCATION:Central Office Meeting Room\, 1515 E Tropicana Ave\, Suite 710\, Las Vegas\, NV\, 89119\, United States
END:VEVENT
BEGIN:VEVENT
DTSTART;TZID=America/Los_Angeles:20290905T183000
DTEND;TZID=America/Los_Angeles:20290905T193000
DTSTAMP:20260425T175106
CREATED:20250424T212109Z
LAST-MODIFIED:20250424T212109Z
UID:10001045-1883327400-1883331000@www.lvcentraloffice.org
SUMMARY:District 17 General Service Meeting
DESCRIPTION:
URL:https://www.lvcentraloffice.org/event/district-17-general-service-meeting/2029-09-05/
LOCATION:Desert View Hospital Conference Room\, 360 S Lola Ln\, Pahrump\, NV\, 89048\, United States
END:VEVENT
END:VCALENDAR