BEGIN:VCALENDAR
VERSION:2.0
PRODID:-//Las Vegas Central Office for Alcoholics Anonymous - ECPv6.15.20//NONSGML v1.0//EN
CALSCALE:GREGORIAN
METHOD:PUBLISH
X-ORIGINAL-URL:https://www.lvcentraloffice.org
X-WR-CALDESC:Events for Las Vegas Central Office for Alcoholics Anonymous
REFRESH-INTERVAL;VALUE=DURATION:PT1H
X-Robots-Tag:noindex
X-PUBLISHED-TTL:PT1H
BEGIN:VTIMEZONE
TZID:America/Los_Angeles
BEGIN:DAYLIGHT
TZOFFSETFROM:-0800
TZOFFSETTO:-0700
TZNAME:PDT
DTSTART:20280312T100000
END:DAYLIGHT
BEGIN:STANDARD
TZOFFSETFROM:-0700
TZOFFSETTO:-0800
TZNAME:PST
DTSTART:20281105T090000
END:STANDARD
BEGIN:DAYLIGHT
TZOFFSETFROM:-0800
TZOFFSETTO:-0700
TZNAME:PDT
DTSTART:20290311T100000
END:DAYLIGHT
BEGIN:STANDARD
TZOFFSETFROM:-0700
TZOFFSETTO:-0800
TZNAME:PST
DTSTART:20291104T090000
END:STANDARD
BEGIN:DAYLIGHT
TZOFFSETFROM:-0800
TZOFFSETTO:-0700
TZNAME:PDT
DTSTART:20300310T100000
END:DAYLIGHT
BEGIN:STANDARD
TZOFFSETFROM:-0700
TZOFFSETTO:-0800
TZNAME:PST
DTSTART:20301103T090000
END:STANDARD
END:VTIMEZONE
BEGIN:VEVENT
DTSTART;TZID=America/Los_Angeles:20290414T131500
DTEND;TZID=America/Los_Angeles:20290414T141500
DTSTAMP:20260425T063509
CREATED:20250424T210244Z
LAST-MODIFIED:20250424T210244Z
UID:10000860-1870866900-1870870500@www.lvcentraloffice.org
SUMMARY:District 5B General Service Meeting
DESCRIPTION:
URL:https://www.lvcentraloffice.org/event/district-5b-general-service-meeting/2029-04-14/
LOCATION:Keep Coming Back Club\, 5717 W Alexander Rd Ste 145\, Las Vegas\, NV\, 89130\, United States
END:VEVENT
BEGIN:VEVENT
DTSTART;TZID=America/Los_Angeles:20290415T100000
DTEND;TZID=America/Los_Angeles:20290415T230000
DTSTAMP:20260425T063509
CREATED:20251104T191839Z
LAST-MODIFIED:20260313T215429Z
UID:10000231-1870941600-1870988400@www.lvcentraloffice.org
SUMMARY:District 1 General Service Meeting
DESCRIPTION:
URL:https://www.lvcentraloffice.org/event/district-1-committee-meeting-2/2029-04-15/
LOCATION:Central Office Meeting Room\, 1515 E Tropicana Ave\, Suite 710\, Las Vegas\, NV\, 89119\, United States
END:VEVENT
BEGIN:VEVENT
DTSTART;TZID=America/Los_Angeles:20290415T150000
DTEND;TZID=America/Los_Angeles:20290415T160000
DTSTAMP:20260425T063509
CREATED:20250424T211456Z
LAST-MODIFIED:20250424T211456Z
UID:10000920-1870959600-1870963200@www.lvcentraloffice.org
SUMMARY:D13 General Service Meeting
DESCRIPTION:
URL:https://www.lvcentraloffice.org/event/d13-general-service-meeting/2029-04-15/
LOCATION:Triangle Club\, 4600 S. Nellis Blvd\, Las Vegas\, NV\, 89121\, United States
END:VEVENT
BEGIN:VEVENT
DTSTART;TZID=America/Los_Angeles:20290417T173000
DTEND;TZID=America/Los_Angeles:20290417T175000
DTSTAMP:20260425T063509
CREATED:20250424T180028Z
LAST-MODIFIED:20250424T180028Z
UID:10000292-1871141400-1871142600@www.lvcentraloffice.org
SUMMARY:H&I Committee Orientation
DESCRIPTION:
URL:https://www.lvcentraloffice.org/event/hi-committee-orientation/2029-04-17/
LOCATION:Central Office Meeting Room\, 1515 E Tropicana Ave\, Suite 710\, Las Vegas\, NV\, 89119\, United States
END:VEVENT
BEGIN:VEVENT
DTSTART;TZID=America/Los_Angeles:20290417T180000
DTEND;TZID=America/Los_Angeles:20290417T190000
DTSTAMP:20260425T063509
CREATED:20250424T182008Z
LAST-MODIFIED:20250424T182008Z
UID:10000355-1871143200-1871146800@www.lvcentraloffice.org
SUMMARY:H&I Committee Meeting
DESCRIPTION:
URL:https://www.lvcentraloffice.org/event/hi-committee-meeting/2029-04-17/
LOCATION:Central Office Meeting Room\, 1515 E Tropicana Ave\, Suite 710\, Las Vegas\, NV\, 89119\, United States
END:VEVENT
BEGIN:VEVENT
DTSTART;TZID=America/Los_Angeles:20290419T190000
DTEND;TZID=America/Los_Angeles:20290419T200000
DTSTAMP:20260425T063509
CREATED:20250424T212353Z
LAST-MODIFIED:20250424T212353Z
UID:10001260-1871319600-1871323200@www.lvcentraloffice.org
SUMMARY:D21 General Service Meeting
DESCRIPTION:
URL:https://www.lvcentraloffice.org/event/d21-general-service-meeting/2029-04-19/
LOCATION:D21 meeting place\, 1401 North Decatur Blvd\, Suite 19\, Las Vegas\, NV\, 89108\, United States
END:VEVENT
BEGIN:VEVENT
DTSTART;TZID=America/Los_Angeles:20290421T103000
DTEND;TZID=America/Los_Angeles:20290421T140000
DTSTAMP:20260425T063509
CREATED:20260323T165914Z
LAST-MODIFIED:20260413T184320Z
UID:10004471-1871461800-1871474400@www.lvcentraloffice.org
SUMMARY:Archives Virtual Committee Meeting
DESCRIPTION:Archives Meetings Flyer \nMEETING ID: 867 1631 4717\nPasscode: Archives42
URL:https://www.lvcentraloffice.org/event/archives-virtual-committee-meeting/2029-04-21/
LOCATION:
END:VEVENT
BEGIN:VEVENT
DTSTART;TZID=America/Los_Angeles:20290423T190000
DTEND;TZID=America/Los_Angeles:20290423T200000
DTSTAMP:20260425T063509
CREATED:20250424T194038Z
LAST-MODIFIED:20250424T194038Z
UID:10000416-1871665200-1871668800@www.lvcentraloffice.org
SUMMARY:Accessibility/Meetings To Go Committee Meeting
DESCRIPTION:ID: 8330 643 2783   Passcode: handofaa
URL:https://www.lvcentraloffice.org/event/accessibility-meetings-to-go-committee-meeting/2029-04-23/
LOCATION:ONLINE ONLY
END:VEVENT
BEGIN:VEVENT
DTSTART;TZID=America/Los_Angeles:20290424T190000
DTEND;TZID=America/Los_Angeles:20290424T200000
DTSTAMP:20260425T063509
CREATED:20250424T195145Z
LAST-MODIFIED:20250424T195145Z
UID:10000537-1871751600-1871755200@www.lvcentraloffice.org
SUMMARY:Grapevine Committee Meeting
DESCRIPTION:ID:  863 7191 9329  Passcode: Grapevine
URL:https://www.lvcentraloffice.org/event/grapevine-committee-meeting/2029-04-24/
LOCATION:ONLINE ONLY
END:VEVENT
BEGIN:VEVENT
DTSTART;TZID=America/Los_Angeles:20290425T170000
DTEND;TZID=America/Los_Angeles:20290425T180000
DTSTAMP:20260425T063509
CREATED:20250604T213851Z
LAST-MODIFIED:20250604T213851Z
UID:10003147-1871830800-1871834400@www.lvcentraloffice.org
SUMMARY:Public Information Committee Meeting
DESCRIPTION:
URL:https://www.lvcentraloffice.org/event/public-information-committee-meeting/2029-04-25/
LOCATION:Central Office Meeting Room\, 1515 E Tropicana Ave\, Suite 710\, Las Vegas\, NV\, 89119\, United States
END:VEVENT
BEGIN:VEVENT
DTSTART;TZID=America/Los_Angeles:20290426T190000
DTEND;TZID=America/Los_Angeles:20290426T200000
DTSTAMP:20260425T063509
CREATED:20250424T212353Z
LAST-MODIFIED:20250424T212353Z
UID:10001261-1871924400-1871928000@www.lvcentraloffice.org
SUMMARY:D21 General Service Meeting
DESCRIPTION:
URL:https://www.lvcentraloffice.org/event/d21-general-service-meeting/2029-04-26/
LOCATION:D21 meeting place\, 1401 North Decatur Blvd\, Suite 19\, Las Vegas\, NV\, 89108\, United States
END:VEVENT
BEGIN:VEVENT
DTSTART;TZID=America/Los_Angeles:20290427T090000
DTEND;TZID=America/Los_Angeles:20290427T130000
DTSTAMP:20260425T063509
CREATED:20260323T165052Z
LAST-MODIFIED:20260323T203718Z
UID:10004412-1871974800-1871989200@www.lvcentraloffice.org
SUMMARY:Archive Committee Meeting
DESCRIPTION:Archives Meetings Flyer
URL:https://www.lvcentraloffice.org/event/archive-committee-meeting-2-2/2029-04-27/
LOCATION:Central Office Meeting Room\, 1515 E Tropicana Ave\, Suite 710\, Las Vegas\, NV\, 89119\, United States
END:VEVENT
BEGIN:VEVENT
DTSTART;TZID=America/Los_Angeles:20290429T180000
DTEND;TZID=America/Los_Angeles:20290429T190000
DTSTAMP:20260425T063509
CREATED:20250527T171424Z
LAST-MODIFIED:20250804T192231Z
UID:10001439-1872180000-1872183600@www.lvcentraloffice.org
SUMMARY:The Traditions and Concepts Presentation
DESCRIPTION:Geared to help General Service Reps \nZoom Meeting ID: 653 006 6012 \nPassword: 1935
URL:https://www.lvcentraloffice.org/event/the-traditions-and-concepts-presentation/2029-04-29/
LOCATION:ONLINE ONLY
END:VEVENT
BEGIN:VEVENT
DTSTART;TZID=America/Los_Angeles:20290502T183000
DTEND;TZID=America/Los_Angeles:20290502T193000
DTSTAMP:20260425T063509
CREATED:20250424T212109Z
LAST-MODIFIED:20250424T212109Z
UID:10001041-1872441000-1872444600@www.lvcentraloffice.org
SUMMARY:District 17 General Service Meeting
DESCRIPTION:
URL:https://www.lvcentraloffice.org/event/district-17-general-service-meeting/2029-05-02/
LOCATION:Desert View Hospital Conference Room\, 360 S Lola Ln\, Pahrump\, NV\, 89048\, United States
END:VEVENT
BEGIN:VEVENT
DTSTART;TZID=America/Los_Angeles:20290503T190000
DTEND;TZID=America/Los_Angeles:20290503T200000
DTSTAMP:20260425T063509
CREATED:20250424T212353Z
LAST-MODIFIED:20250424T212353Z
UID:10001262-1872529200-1872532800@www.lvcentraloffice.org
SUMMARY:D21 General Service Meeting
DESCRIPTION:
URL:https://www.lvcentraloffice.org/event/d21-general-service-meeting/2029-05-03/
LOCATION:D21 meeting place\, 1401 North Decatur Blvd\, Suite 19\, Las Vegas\, NV\, 89108\, United States
END:VEVENT
BEGIN:VEVENT
DTSTART;TZID=America/Los_Angeles:20290505T133000
DTEND;TZID=America/Los_Angeles:20290505T143000
DTSTAMP:20260425T063509
CREATED:20250424T174809Z
LAST-MODIFIED:20250424T211009Z
UID:10000051-1872682200-1872685800@www.lvcentraloffice.org
SUMMARY:D9 General Service Meeting
DESCRIPTION:
URL:https://www.lvcentraloffice.org/event/d9-committee-meeting/2029-05-05/
LOCATION:Central Office Meeting Room\, 1515 E Tropicana Ave\, Suite 710\, Las Vegas\, NV\, 89119\, United States
END:VEVENT
BEGIN:VEVENT
DTSTART;TZID=America/Los_Angeles:20290506T133000
DTEND;TZID=America/Los_Angeles:20290506T143000
DTSTAMP:20260425T063509
CREATED:20250424T175052Z
LAST-MODIFIED:20250722T222356Z
UID:10000112-1872768600-1872772200@www.lvcentraloffice.org
SUMMARY:LVYPAA Committee Meeting
DESCRIPTION:
URL:https://www.lvcentraloffice.org/event/lvypa-committee-meeting/2029-05-06/
LOCATION:Central Office Meeting Room\, 1515 E Tropicana Ave\, Suite 710\, Las Vegas\, NV\, 89119\, United States
END:VEVENT
BEGIN:VEVENT
DTSTART;TZID=America/Los_Angeles:20290510T190000
DTEND;TZID=America/Los_Angeles:20290510T200000
DTSTAMP:20260425T063509
CREATED:20250424T212353Z
LAST-MODIFIED:20250424T212353Z
UID:10001263-1873134000-1873137600@www.lvcentraloffice.org
SUMMARY:D21 General Service Meeting
DESCRIPTION:
URL:https://www.lvcentraloffice.org/event/d21-general-service-meeting/2029-05-10/
LOCATION:D21 meeting place\, 1401 North Decatur Blvd\, Suite 19\, Las Vegas\, NV\, 89108\, United States
END:VEVENT
BEGIN:VEVENT
DTSTART;TZID=America/Los_Angeles:20290512T131500
DTEND;TZID=America/Los_Angeles:20290512T141500
DTSTAMP:20260425T063509
CREATED:20250424T210244Z
LAST-MODIFIED:20250424T210244Z
UID:10000861-1873286100-1873289700@www.lvcentraloffice.org
SUMMARY:District 5B General Service Meeting
DESCRIPTION:
URL:https://www.lvcentraloffice.org/event/district-5b-general-service-meeting/2029-05-12/
LOCATION:Keep Coming Back Club\, 5717 W Alexander Rd Ste 145\, Las Vegas\, NV\, 89130\, United States
END:VEVENT
BEGIN:VEVENT
DTSTART;TZID=America/Los_Angeles:20290513T094500
DTEND;TZID=America/Los_Angeles:20290513T104500
DTSTAMP:20260425T063509
CREATED:20250424T211729Z
LAST-MODIFIED:20250424T211729Z
UID:10000981-1873359900-1873363500@www.lvcentraloffice.org
SUMMARY:D15 General Service Meeting
DESCRIPTION:
URL:https://www.lvcentraloffice.org/event/d15-general-service-meeting/2029-05-13/
LOCATION:TIE Club\, 329 North 11th Street\, Las Vegas\, NV\, 89101\, United States
END:VEVENT
BEGIN:VEVENT
DTSTART;TZID=America/Los_Angeles:20290514T163000
DTEND;TZID=America/Los_Angeles:20290514T173000
DTSTAMP:20260425T063509
CREATED:20250424T194307Z
LAST-MODIFIED:20250424T194307Z
UID:10000477-1873470600-1873474200@www.lvcentraloffice.org
SUMMARY:CPC Committee Meeting
DESCRIPTION:ID: 869 7461 4930   Passcode: Serenity
URL:https://www.lvcentraloffice.org/event/cpc-committee-meeting/2029-05-14/
LOCATION:ONLINE ONLY
END:VEVENT
BEGIN:VEVENT
DTSTART;TZID=America/Los_Angeles:20290514T180000
DTEND;TZID=America/Los_Angeles:20290514T190000
DTSTAMP:20260425T063509
CREATED:20250424T175208Z
LAST-MODIFIED:20250424T180936Z
UID:10000172-1873476000-1873479600@www.lvcentraloffice.org
SUMMARY:Intergroup Meeting
DESCRIPTION:Zoom Information: \nMeeting ID: 95812571807 Pass Code: 710AA  \n 
URL:https://www.lvcentraloffice.org/event/intergroup-meeting/2029-05-14/
LOCATION:Central Office Meeting Room\, 1515 E Tropicana Ave\, Suite 710\, Las Vegas\, NV\, 89119\, United States
END:VEVENT
BEGIN:VEVENT
DTSTART;TZID=America/Los_Angeles:20290515T173000
DTEND;TZID=America/Los_Angeles:20290515T175000
DTSTAMP:20260425T063509
CREATED:20250424T180028Z
LAST-MODIFIED:20250424T180028Z
UID:10000293-1873560600-1873561800@www.lvcentraloffice.org
SUMMARY:H&I Committee Orientation
DESCRIPTION:
URL:https://www.lvcentraloffice.org/event/hi-committee-orientation/2029-05-15/
LOCATION:Central Office Meeting Room\, 1515 E Tropicana Ave\, Suite 710\, Las Vegas\, NV\, 89119\, United States
END:VEVENT
BEGIN:VEVENT
DTSTART;TZID=America/Los_Angeles:20290515T180000
DTEND;TZID=America/Los_Angeles:20290515T190000
DTSTAMP:20260425T063509
CREATED:20250424T182008Z
LAST-MODIFIED:20250424T182008Z
UID:10000356-1873562400-1873566000@www.lvcentraloffice.org
SUMMARY:H&I Committee Meeting
DESCRIPTION:
URL:https://www.lvcentraloffice.org/event/hi-committee-meeting/2029-05-15/
LOCATION:Central Office Meeting Room\, 1515 E Tropicana Ave\, Suite 710\, Las Vegas\, NV\, 89119\, United States
END:VEVENT
BEGIN:VEVENT
DTSTART;TZID=America/Los_Angeles:20290517T190000
DTEND;TZID=America/Los_Angeles:20290517T200000
DTSTAMP:20260425T063509
CREATED:20250424T212353Z
LAST-MODIFIED:20250424T212353Z
UID:10001264-1873738800-1873742400@www.lvcentraloffice.org
SUMMARY:D21 General Service Meeting
DESCRIPTION:
URL:https://www.lvcentraloffice.org/event/d21-general-service-meeting/2029-05-17/
LOCATION:D21 meeting place\, 1401 North Decatur Blvd\, Suite 19\, Las Vegas\, NV\, 89108\, United States
END:VEVENT
BEGIN:VEVENT
DTSTART;TZID=America/Los_Angeles:20290519T103000
DTEND;TZID=America/Los_Angeles:20290519T140000
DTSTAMP:20260425T063509
CREATED:20260323T165914Z
LAST-MODIFIED:20260413T184320Z
UID:10004472-1873881000-1873893600@www.lvcentraloffice.org
SUMMARY:Archives Virtual Committee Meeting
DESCRIPTION:Archives Meetings Flyer \nMEETING ID: 867 1631 4717\nPasscode: Archives42
URL:https://www.lvcentraloffice.org/event/archives-virtual-committee-meeting/2029-05-19/
LOCATION:
END:VEVENT
BEGIN:VEVENT
DTSTART;TZID=America/Los_Angeles:20290520T100000
DTEND;TZID=America/Los_Angeles:20290520T230000
DTSTAMP:20260425T063509
CREATED:20251104T191839Z
LAST-MODIFIED:20260313T215429Z
UID:10000232-1873965600-1874012400@www.lvcentraloffice.org
SUMMARY:District 1 General Service Meeting
DESCRIPTION:
URL:https://www.lvcentraloffice.org/event/district-1-committee-meeting-2/2029-05-20/
LOCATION:Central Office Meeting Room\, 1515 E Tropicana Ave\, Suite 710\, Las Vegas\, NV\, 89119\, United States
END:VEVENT
BEGIN:VEVENT
DTSTART;TZID=America/Los_Angeles:20290520T150000
DTEND;TZID=America/Los_Angeles:20290520T160000
DTSTAMP:20260425T063509
CREATED:20250424T211456Z
LAST-MODIFIED:20250424T211456Z
UID:10000921-1873983600-1873987200@www.lvcentraloffice.org
SUMMARY:D13 General Service Meeting
DESCRIPTION:
URL:https://www.lvcentraloffice.org/event/d13-general-service-meeting/2029-05-20/
LOCATION:Triangle Club\, 4600 S. Nellis Blvd\, Las Vegas\, NV\, 89121\, United States
END:VEVENT
BEGIN:VEVENT
DTSTART;TZID=America/Los_Angeles:20290523T170000
DTEND;TZID=America/Los_Angeles:20290523T180000
DTSTAMP:20260425T063509
CREATED:20250604T213851Z
LAST-MODIFIED:20250604T213851Z
UID:10003148-1874250000-1874253600@www.lvcentraloffice.org
SUMMARY:Public Information Committee Meeting
DESCRIPTION:
URL:https://www.lvcentraloffice.org/event/public-information-committee-meeting/2029-05-23/
LOCATION:Central Office Meeting Room\, 1515 E Tropicana Ave\, Suite 710\, Las Vegas\, NV\, 89119\, United States
END:VEVENT
BEGIN:VEVENT
DTSTART;TZID=America/Los_Angeles:20290524T190000
DTEND;TZID=America/Los_Angeles:20290524T200000
DTSTAMP:20260425T063509
CREATED:20250424T212353Z
LAST-MODIFIED:20250424T212353Z
UID:10001265-1874343600-1874347200@www.lvcentraloffice.org
SUMMARY:D21 General Service Meeting
DESCRIPTION:
URL:https://www.lvcentraloffice.org/event/d21-general-service-meeting/2029-05-24/
LOCATION:D21 meeting place\, 1401 North Decatur Blvd\, Suite 19\, Las Vegas\, NV\, 89108\, United States
END:VEVENT
END:VCALENDAR