BEGIN:VCALENDAR
VERSION:2.0
PRODID:-//Las Vegas Central Office for Alcoholics Anonymous - ECPv6.15.20//NONSGML v1.0//EN
CALSCALE:GREGORIAN
METHOD:PUBLISH
X-ORIGINAL-URL:https://www.lvcentraloffice.org
X-WR-CALDESC:Events for Las Vegas Central Office for Alcoholics Anonymous
REFRESH-INTERVAL;VALUE=DURATION:PT1H
X-Robots-Tag:noindex
X-PUBLISHED-TTL:PT1H
BEGIN:VTIMEZONE
TZID:America/Los_Angeles
BEGIN:DAYLIGHT
TZOFFSETFROM:-0800
TZOFFSETTO:-0700
TZNAME:PDT
DTSTART:20280312T100000
END:DAYLIGHT
BEGIN:STANDARD
TZOFFSETFROM:-0700
TZOFFSETTO:-0800
TZNAME:PST
DTSTART:20281105T090000
END:STANDARD
BEGIN:DAYLIGHT
TZOFFSETFROM:-0800
TZOFFSETTO:-0700
TZNAME:PDT
DTSTART:20290311T100000
END:DAYLIGHT
BEGIN:STANDARD
TZOFFSETFROM:-0700
TZOFFSETTO:-0800
TZNAME:PST
DTSTART:20291104T090000
END:STANDARD
BEGIN:DAYLIGHT
TZOFFSETFROM:-0800
TZOFFSETTO:-0700
TZNAME:PDT
DTSTART:20300310T100000
END:DAYLIGHT
BEGIN:STANDARD
TZOFFSETFROM:-0700
TZOFFSETTO:-0800
TZNAME:PST
DTSTART:20301103T090000
END:STANDARD
END:VTIMEZONE
BEGIN:VEVENT
DTSTART;TZID=America/Los_Angeles:20290520T150000
DTEND;TZID=America/Los_Angeles:20290520T160000
DTSTAMP:20260425T080342
CREATED:20250424T211456Z
LAST-MODIFIED:20250424T211456Z
UID:10000921-1873983600-1873987200@www.lvcentraloffice.org
SUMMARY:D13 General Service Meeting
DESCRIPTION:
URL:https://www.lvcentraloffice.org/event/d13-general-service-meeting/2029-05-20/
LOCATION:Triangle Club\, 4600 S. Nellis Blvd\, Las Vegas\, NV\, 89121\, United States
END:VEVENT
BEGIN:VEVENT
DTSTART;TZID=America/Los_Angeles:20290523T170000
DTEND;TZID=America/Los_Angeles:20290523T180000
DTSTAMP:20260425T080342
CREATED:20250604T213851Z
LAST-MODIFIED:20250604T213851Z
UID:10003148-1874250000-1874253600@www.lvcentraloffice.org
SUMMARY:Public Information Committee Meeting
DESCRIPTION:
URL:https://www.lvcentraloffice.org/event/public-information-committee-meeting/2029-05-23/
LOCATION:Central Office Meeting Room\, 1515 E Tropicana Ave\, Suite 710\, Las Vegas\, NV\, 89119\, United States
END:VEVENT
BEGIN:VEVENT
DTSTART;TZID=America/Los_Angeles:20290524T190000
DTEND;TZID=America/Los_Angeles:20290524T200000
DTSTAMP:20260425T080342
CREATED:20250424T212353Z
LAST-MODIFIED:20250424T212353Z
UID:10001265-1874343600-1874347200@www.lvcentraloffice.org
SUMMARY:D21 General Service Meeting
DESCRIPTION:
URL:https://www.lvcentraloffice.org/event/d21-general-service-meeting/2029-05-24/
LOCATION:D21 meeting place\, 1401 North Decatur Blvd\, Suite 19\, Las Vegas\, NV\, 89108\, United States
END:VEVENT
BEGIN:VEVENT
DTSTART;TZID=America/Los_Angeles:20290525T090000
DTEND;TZID=America/Los_Angeles:20290525T130000
DTSTAMP:20260425T080342
CREATED:20260323T165052Z
LAST-MODIFIED:20260323T203718Z
UID:10004413-1874394000-1874408400@www.lvcentraloffice.org
SUMMARY:Archive Committee Meeting
DESCRIPTION:Archives Meetings Flyer
URL:https://www.lvcentraloffice.org/event/archive-committee-meeting-2-2/2029-05-25/
LOCATION:Central Office Meeting Room\, 1515 E Tropicana Ave\, Suite 710\, Las Vegas\, NV\, 89119\, United States
END:VEVENT
BEGIN:VEVENT
DTSTART;TZID=America/Los_Angeles:20290527T180000
DTEND;TZID=America/Los_Angeles:20290527T190000
DTSTAMP:20260425T080342
CREATED:20250527T171424Z
LAST-MODIFIED:20250804T192231Z
UID:10001440-1874599200-1874602800@www.lvcentraloffice.org
SUMMARY:The Traditions and Concepts Presentation
DESCRIPTION:Geared to help General Service Reps \nZoom Meeting ID: 653 006 6012 \nPassword: 1935
URL:https://www.lvcentraloffice.org/event/the-traditions-and-concepts-presentation/2029-05-27/
LOCATION:ONLINE ONLY
END:VEVENT
BEGIN:VEVENT
DTSTART;TZID=America/Los_Angeles:20290528T190000
DTEND;TZID=America/Los_Angeles:20290528T200000
DTSTAMP:20260425T080342
CREATED:20250424T194038Z
LAST-MODIFIED:20250424T194038Z
UID:10000417-1874689200-1874692800@www.lvcentraloffice.org
SUMMARY:Accessibility/Meetings To Go Committee Meeting
DESCRIPTION:ID: 8330 643 2783   Passcode: handofaa
URL:https://www.lvcentraloffice.org/event/accessibility-meetings-to-go-committee-meeting/2029-05-28/
LOCATION:ONLINE ONLY
END:VEVENT
BEGIN:VEVENT
DTSTART;TZID=America/Los_Angeles:20290529T190000
DTEND;TZID=America/Los_Angeles:20290529T200000
DTSTAMP:20260425T080342
CREATED:20250424T195145Z
LAST-MODIFIED:20250424T195145Z
UID:10000538-1874775600-1874779200@www.lvcentraloffice.org
SUMMARY:Grapevine Committee Meeting
DESCRIPTION:ID:  863 7191 9329  Passcode: Grapevine
URL:https://www.lvcentraloffice.org/event/grapevine-committee-meeting/2029-05-29/
LOCATION:ONLINE ONLY
END:VEVENT
BEGIN:VEVENT
DTSTART;TZID=America/Los_Angeles:20290531T190000
DTEND;TZID=America/Los_Angeles:20290531T200000
DTSTAMP:20260425T080342
CREATED:20250424T212353Z
LAST-MODIFIED:20250424T212353Z
UID:10001266-1874948400-1874952000@www.lvcentraloffice.org
SUMMARY:D21 General Service Meeting
DESCRIPTION:
URL:https://www.lvcentraloffice.org/event/d21-general-service-meeting/2029-05-31/
LOCATION:D21 meeting place\, 1401 North Decatur Blvd\, Suite 19\, Las Vegas\, NV\, 89108\, United States
END:VEVENT
BEGIN:VEVENT
DTSTART;TZID=America/Los_Angeles:20290602T133000
DTEND;TZID=America/Los_Angeles:20290602T143000
DTSTAMP:20260425T080342
CREATED:20250424T174809Z
LAST-MODIFIED:20250424T211009Z
UID:10000052-1875101400-1875105000@www.lvcentraloffice.org
SUMMARY:D9 General Service Meeting
DESCRIPTION:
URL:https://www.lvcentraloffice.org/event/d9-committee-meeting/2029-06-02/
LOCATION:Central Office Meeting Room\, 1515 E Tropicana Ave\, Suite 710\, Las Vegas\, NV\, 89119\, United States
END:VEVENT
BEGIN:VEVENT
DTSTART;TZID=America/Los_Angeles:20290603T133000
DTEND;TZID=America/Los_Angeles:20290603T143000
DTSTAMP:20260425T080342
CREATED:20250424T175052Z
LAST-MODIFIED:20250722T222356Z
UID:10000113-1875187800-1875191400@www.lvcentraloffice.org
SUMMARY:LVYPAA Committee Meeting
DESCRIPTION:
URL:https://www.lvcentraloffice.org/event/lvypa-committee-meeting/2029-06-03/
LOCATION:Central Office Meeting Room\, 1515 E Tropicana Ave\, Suite 710\, Las Vegas\, NV\, 89119\, United States
END:VEVENT
BEGIN:VEVENT
DTSTART;TZID=America/Los_Angeles:20290606T183000
DTEND;TZID=America/Los_Angeles:20290606T193000
DTSTAMP:20260425T080342
CREATED:20250424T212109Z
LAST-MODIFIED:20250424T212109Z
UID:10001042-1875465000-1875468600@www.lvcentraloffice.org
SUMMARY:District 17 General Service Meeting
DESCRIPTION:
URL:https://www.lvcentraloffice.org/event/district-17-general-service-meeting/2029-06-06/
LOCATION:Desert View Hospital Conference Room\, 360 S Lola Ln\, Pahrump\, NV\, 89048\, United States
END:VEVENT
BEGIN:VEVENT
DTSTART;TZID=America/Los_Angeles:20290607T190000
DTEND;TZID=America/Los_Angeles:20290607T200000
DTSTAMP:20260425T080342
CREATED:20250424T212353Z
LAST-MODIFIED:20250424T212353Z
UID:10001267-1875553200-1875556800@www.lvcentraloffice.org
SUMMARY:D21 General Service Meeting
DESCRIPTION:
URL:https://www.lvcentraloffice.org/event/d21-general-service-meeting/2029-06-07/
LOCATION:D21 meeting place\, 1401 North Decatur Blvd\, Suite 19\, Las Vegas\, NV\, 89108\, United States
END:VEVENT
BEGIN:VEVENT
DTSTART;TZID=America/Los_Angeles:20290609T131500
DTEND;TZID=America/Los_Angeles:20290609T141500
DTSTAMP:20260425T080342
CREATED:20250424T210244Z
LAST-MODIFIED:20250424T210244Z
UID:10000862-1875705300-1875708900@www.lvcentraloffice.org
SUMMARY:District 5B General Service Meeting
DESCRIPTION:
URL:https://www.lvcentraloffice.org/event/district-5b-general-service-meeting/2029-06-09/
LOCATION:Keep Coming Back Club\, 5717 W Alexander Rd Ste 145\, Las Vegas\, NV\, 89130\, United States
END:VEVENT
BEGIN:VEVENT
DTSTART;TZID=America/Los_Angeles:20290610T094500
DTEND;TZID=America/Los_Angeles:20290610T104500
DTSTAMP:20260425T080342
CREATED:20250424T211729Z
LAST-MODIFIED:20250424T211729Z
UID:10000982-1875779100-1875782700@www.lvcentraloffice.org
SUMMARY:D15 General Service Meeting
DESCRIPTION:
URL:https://www.lvcentraloffice.org/event/d15-general-service-meeting/2029-06-10/
LOCATION:TIE Club\, 329 North 11th Street\, Las Vegas\, NV\, 89101\, United States
END:VEVENT
BEGIN:VEVENT
DTSTART;TZID=America/Los_Angeles:20290611T163000
DTEND;TZID=America/Los_Angeles:20290611T173000
DTSTAMP:20260425T080342
CREATED:20250424T194307Z
LAST-MODIFIED:20250424T194307Z
UID:10000478-1875889800-1875893400@www.lvcentraloffice.org
SUMMARY:CPC Committee Meeting
DESCRIPTION:ID: 869 7461 4930   Passcode: Serenity
URL:https://www.lvcentraloffice.org/event/cpc-committee-meeting/2029-06-11/
LOCATION:ONLINE ONLY
END:VEVENT
BEGIN:VEVENT
DTSTART;TZID=America/Los_Angeles:20290611T180000
DTEND;TZID=America/Los_Angeles:20290611T190000
DTSTAMP:20260425T080342
CREATED:20250424T175208Z
LAST-MODIFIED:20250424T180936Z
UID:10000173-1875895200-1875898800@www.lvcentraloffice.org
SUMMARY:Intergroup Meeting
DESCRIPTION:Zoom Information: \nMeeting ID: 95812571807 Pass Code: 710AA  \n 
URL:https://www.lvcentraloffice.org/event/intergroup-meeting/2029-06-11/
LOCATION:Central Office Meeting Room\, 1515 E Tropicana Ave\, Suite 710\, Las Vegas\, NV\, 89119\, United States
END:VEVENT
BEGIN:VEVENT
DTSTART;TZID=America/Los_Angeles:20290614T190000
DTEND;TZID=America/Los_Angeles:20290614T200000
DTSTAMP:20260425T080342
CREATED:20250424T212353Z
LAST-MODIFIED:20250424T212353Z
UID:10001268-1876158000-1876161600@www.lvcentraloffice.org
SUMMARY:D21 General Service Meeting
DESCRIPTION:
URL:https://www.lvcentraloffice.org/event/d21-general-service-meeting/2029-06-14/
LOCATION:D21 meeting place\, 1401 North Decatur Blvd\, Suite 19\, Las Vegas\, NV\, 89108\, United States
END:VEVENT
BEGIN:VEVENT
DTSTART;TZID=America/Los_Angeles:20290616T103000
DTEND;TZID=America/Los_Angeles:20290616T140000
DTSTAMP:20260425T080342
CREATED:20260323T165914Z
LAST-MODIFIED:20260413T184320Z
UID:10004473-1876300200-1876312800@www.lvcentraloffice.org
SUMMARY:Archives Virtual Committee Meeting
DESCRIPTION:Archives Meetings Flyer \nMEETING ID: 867 1631 4717\nPasscode: Archives42
URL:https://www.lvcentraloffice.org/event/archives-virtual-committee-meeting/2029-06-16/
LOCATION:
END:VEVENT
BEGIN:VEVENT
DTSTART;TZID=America/Los_Angeles:20290617T100000
DTEND;TZID=America/Los_Angeles:20290617T230000
DTSTAMP:20260425T080342
CREATED:20251104T191839Z
LAST-MODIFIED:20260313T215429Z
UID:10000233-1876384800-1876431600@www.lvcentraloffice.org
SUMMARY:District 1 General Service Meeting
DESCRIPTION:
URL:https://www.lvcentraloffice.org/event/district-1-committee-meeting-2/2029-06-17/
LOCATION:Central Office Meeting Room\, 1515 E Tropicana Ave\, Suite 710\, Las Vegas\, NV\, 89119\, United States
END:VEVENT
BEGIN:VEVENT
DTSTART;TZID=America/Los_Angeles:20290617T150000
DTEND;TZID=America/Los_Angeles:20290617T160000
DTSTAMP:20260425T080342
CREATED:20250424T211456Z
LAST-MODIFIED:20250424T211456Z
UID:10000922-1876402800-1876406400@www.lvcentraloffice.org
SUMMARY:D13 General Service Meeting
DESCRIPTION:
URL:https://www.lvcentraloffice.org/event/d13-general-service-meeting/2029-06-17/
LOCATION:Triangle Club\, 4600 S. Nellis Blvd\, Las Vegas\, NV\, 89121\, United States
END:VEVENT
BEGIN:VEVENT
DTSTART;TZID=America/Los_Angeles:20290619T173000
DTEND;TZID=America/Los_Angeles:20290619T175000
DTSTAMP:20260425T080342
CREATED:20250424T180028Z
LAST-MODIFIED:20250424T180028Z
UID:10000294-1876584600-1876585800@www.lvcentraloffice.org
SUMMARY:H&I Committee Orientation
DESCRIPTION:
URL:https://www.lvcentraloffice.org/event/hi-committee-orientation/2029-06-19/
LOCATION:Central Office Meeting Room\, 1515 E Tropicana Ave\, Suite 710\, Las Vegas\, NV\, 89119\, United States
END:VEVENT
BEGIN:VEVENT
DTSTART;TZID=America/Los_Angeles:20290619T180000
DTEND;TZID=America/Los_Angeles:20290619T190000
DTSTAMP:20260425T080342
CREATED:20250424T182008Z
LAST-MODIFIED:20250424T182008Z
UID:10000357-1876586400-1876590000@www.lvcentraloffice.org
SUMMARY:H&I Committee Meeting
DESCRIPTION:
URL:https://www.lvcentraloffice.org/event/hi-committee-meeting/2029-06-19/
LOCATION:Central Office Meeting Room\, 1515 E Tropicana Ave\, Suite 710\, Las Vegas\, NV\, 89119\, United States
END:VEVENT
BEGIN:VEVENT
DTSTART;TZID=America/Los_Angeles:20290621T190000
DTEND;TZID=America/Los_Angeles:20290621T200000
DTSTAMP:20260425T080342
CREATED:20250424T212353Z
LAST-MODIFIED:20250424T212353Z
UID:10001269-1876762800-1876766400@www.lvcentraloffice.org
SUMMARY:D21 General Service Meeting
DESCRIPTION:
URL:https://www.lvcentraloffice.org/event/d21-general-service-meeting/2029-06-21/
LOCATION:D21 meeting place\, 1401 North Decatur Blvd\, Suite 19\, Las Vegas\, NV\, 89108\, United States
END:VEVENT
BEGIN:VEVENT
DTSTART;TZID=America/Los_Angeles:20290624T180000
DTEND;TZID=America/Los_Angeles:20290624T190000
DTSTAMP:20260425T080342
CREATED:20250527T171424Z
LAST-MODIFIED:20250804T192231Z
UID:10001441-1877018400-1877022000@www.lvcentraloffice.org
SUMMARY:The Traditions and Concepts Presentation
DESCRIPTION:Geared to help General Service Reps \nZoom Meeting ID: 653 006 6012 \nPassword: 1935
URL:https://www.lvcentraloffice.org/event/the-traditions-and-concepts-presentation/2029-06-24/
LOCATION:ONLINE ONLY
END:VEVENT
BEGIN:VEVENT
DTSTART;TZID=America/Los_Angeles:20290625T190000
DTEND;TZID=America/Los_Angeles:20290625T200000
DTSTAMP:20260425T080342
CREATED:20250424T194038Z
LAST-MODIFIED:20250424T194038Z
UID:10000418-1877108400-1877112000@www.lvcentraloffice.org
SUMMARY:Accessibility/Meetings To Go Committee Meeting
DESCRIPTION:ID: 8330 643 2783   Passcode: handofaa
URL:https://www.lvcentraloffice.org/event/accessibility-meetings-to-go-committee-meeting/2029-06-25/
LOCATION:ONLINE ONLY
END:VEVENT
BEGIN:VEVENT
DTSTART;TZID=America/Los_Angeles:20290626T190000
DTEND;TZID=America/Los_Angeles:20290626T200000
DTSTAMP:20260425T080342
CREATED:20250424T195145Z
LAST-MODIFIED:20250424T195145Z
UID:10000539-1877194800-1877198400@www.lvcentraloffice.org
SUMMARY:Grapevine Committee Meeting
DESCRIPTION:ID:  863 7191 9329  Passcode: Grapevine
URL:https://www.lvcentraloffice.org/event/grapevine-committee-meeting/2029-06-26/
LOCATION:ONLINE ONLY
END:VEVENT
BEGIN:VEVENT
DTSTART;TZID=America/Los_Angeles:20290627T170000
DTEND;TZID=America/Los_Angeles:20290627T180000
DTSTAMP:20260425T080342
CREATED:20250604T213851Z
LAST-MODIFIED:20250604T213851Z
UID:10003149-1877274000-1877277600@www.lvcentraloffice.org
SUMMARY:Public Information Committee Meeting
DESCRIPTION:
URL:https://www.lvcentraloffice.org/event/public-information-committee-meeting/2029-06-27/
LOCATION:Central Office Meeting Room\, 1515 E Tropicana Ave\, Suite 710\, Las Vegas\, NV\, 89119\, United States
END:VEVENT
BEGIN:VEVENT
DTSTART;TZID=America/Los_Angeles:20290628T190000
DTEND;TZID=America/Los_Angeles:20290628T200000
DTSTAMP:20260425T080342
CREATED:20250424T212353Z
LAST-MODIFIED:20250424T212353Z
UID:10001270-1877367600-1877371200@www.lvcentraloffice.org
SUMMARY:D21 General Service Meeting
DESCRIPTION:
URL:https://www.lvcentraloffice.org/event/d21-general-service-meeting/2029-06-28/
LOCATION:D21 meeting place\, 1401 North Decatur Blvd\, Suite 19\, Las Vegas\, NV\, 89108\, United States
END:VEVENT
BEGIN:VEVENT
DTSTART;TZID=America/Los_Angeles:20290629T090000
DTEND;TZID=America/Los_Angeles:20290629T130000
DTSTAMP:20260425T080342
CREATED:20260323T165052Z
LAST-MODIFIED:20260323T203718Z
UID:10004414-1877418000-1877432400@www.lvcentraloffice.org
SUMMARY:Archive Committee Meeting
DESCRIPTION:Archives Meetings Flyer
URL:https://www.lvcentraloffice.org/event/archive-committee-meeting-2-2/2029-06-29/
LOCATION:Central Office Meeting Room\, 1515 E Tropicana Ave\, Suite 710\, Las Vegas\, NV\, 89119\, United States
END:VEVENT
BEGIN:VEVENT
DTSTART;TZID=America/Los_Angeles:20290701T133000
DTEND;TZID=America/Los_Angeles:20290701T143000
DTSTAMP:20260425T080342
CREATED:20250424T175052Z
LAST-MODIFIED:20250722T222356Z
UID:10000114-1877607000-1877610600@www.lvcentraloffice.org
SUMMARY:LVYPAA Committee Meeting
DESCRIPTION:
URL:https://www.lvcentraloffice.org/event/lvypa-committee-meeting/2029-07-01/
LOCATION:Central Office Meeting Room\, 1515 E Tropicana Ave\, Suite 710\, Las Vegas\, NV\, 89119\, United States
END:VEVENT
END:VCALENDAR