BEGIN:VCALENDAR
VERSION:2.0
PRODID:-//Las Vegas Central Office for Alcoholics Anonymous - ECPv6.15.20//NONSGML v1.0//EN
CALSCALE:GREGORIAN
METHOD:PUBLISH
X-WR-CALNAME:Las Vegas Central Office for Alcoholics Anonymous
X-ORIGINAL-URL:https://www.lvcentraloffice.org
X-WR-CALDESC:Events for Las Vegas Central Office for Alcoholics Anonymous
REFRESH-INTERVAL;VALUE=DURATION:PT1H
X-Robots-Tag:noindex
X-PUBLISHED-TTL:PT1H
BEGIN:VTIMEZONE
TZID:America/Los_Angeles
BEGIN:DAYLIGHT
TZOFFSETFROM:-0800
TZOFFSETTO:-0700
TZNAME:PDT
DTSTART:20280312T100000
END:DAYLIGHT
BEGIN:STANDARD
TZOFFSETFROM:-0700
TZOFFSETTO:-0800
TZNAME:PST
DTSTART:20281105T090000
END:STANDARD
BEGIN:DAYLIGHT
TZOFFSETFROM:-0800
TZOFFSETTO:-0700
TZNAME:PDT
DTSTART:20290311T100000
END:DAYLIGHT
BEGIN:STANDARD
TZOFFSETFROM:-0700
TZOFFSETTO:-0800
TZNAME:PST
DTSTART:20291104T090000
END:STANDARD
BEGIN:DAYLIGHT
TZOFFSETFROM:-0800
TZOFFSETTO:-0700
TZNAME:PDT
DTSTART:20300310T100000
END:DAYLIGHT
BEGIN:STANDARD
TZOFFSETFROM:-0700
TZOFFSETTO:-0800
TZNAME:PST
DTSTART:20301103T090000
END:STANDARD
END:VTIMEZONE
BEGIN:VEVENT
DTSTART;TZID=America/Los_Angeles:20290227T190000
DTEND;TZID=America/Los_Angeles:20290227T200000
DTSTAMP:20260424T015411
CREATED:20250424T195145Z
LAST-MODIFIED:20250424T195145Z
UID:10000535-1866913200-1866916800@www.lvcentraloffice.org
SUMMARY:Grapevine Committee Meeting
DESCRIPTION:ID:  863 7191 9329  Passcode: Grapevine
URL:https://www.lvcentraloffice.org/event/grapevine-committee-meeting/2029-02-27/
LOCATION:ONLINE ONLY
END:VEVENT
BEGIN:VEVENT
DTSTART;TZID=America/Los_Angeles:20290228T170000
DTEND;TZID=America/Los_Angeles:20290228T180000
DTSTAMP:20260424T015411
CREATED:20250604T213851Z
LAST-MODIFIED:20250604T213851Z
UID:10003145-1866992400-1866996000@www.lvcentraloffice.org
SUMMARY:Public Information Committee Meeting
DESCRIPTION:
URL:https://www.lvcentraloffice.org/event/public-information-committee-meeting/2029-02-28/
LOCATION:Central Office Meeting Room\, 1515 E Tropicana Ave\, Suite 710\, Las Vegas\, NV\, 89119\, United States
END:VEVENT
BEGIN:VEVENT
DTSTART;TZID=America/Los_Angeles:20290301T190000
DTEND;TZID=America/Los_Angeles:20290301T200000
DTSTAMP:20260424T015411
CREATED:20250424T212353Z
LAST-MODIFIED:20250424T212353Z
UID:10001253-1867086000-1867089600@www.lvcentraloffice.org
SUMMARY:D21 General Service Meeting
DESCRIPTION:
URL:https://www.lvcentraloffice.org/event/d21-general-service-meeting/2029-03-01/
LOCATION:D21 meeting place\, 1401 North Decatur Blvd\, Suite 19\, Las Vegas\, NV\, 89108\, United States
END:VEVENT
BEGIN:VEVENT
DTSTART;TZID=America/Los_Angeles:20290303T133000
DTEND;TZID=America/Los_Angeles:20290303T143000
DTSTAMP:20260424T015411
CREATED:20250424T174809Z
LAST-MODIFIED:20250424T211009Z
UID:10000049-1867239000-1867242600@www.lvcentraloffice.org
SUMMARY:D9 General Service Meeting
DESCRIPTION:
URL:https://www.lvcentraloffice.org/event/d9-committee-meeting/2029-03-03/
LOCATION:Central Office Meeting Room\, 1515 E Tropicana Ave\, Suite 710\, Las Vegas\, NV\, 89119\, United States
END:VEVENT
BEGIN:VEVENT
DTSTART;TZID=America/Los_Angeles:20290304T133000
DTEND;TZID=America/Los_Angeles:20290304T143000
DTSTAMP:20260424T015411
CREATED:20250424T175052Z
LAST-MODIFIED:20250722T222356Z
UID:10000110-1867325400-1867329000@www.lvcentraloffice.org
SUMMARY:LVYPAA Committee Meeting
DESCRIPTION:
URL:https://www.lvcentraloffice.org/event/lvypa-committee-meeting/2029-03-04/
LOCATION:Central Office Meeting Room\, 1515 E Tropicana Ave\, Suite 710\, Las Vegas\, NV\, 89119\, United States
END:VEVENT
BEGIN:VEVENT
DTSTART;TZID=America/Los_Angeles:20290307T183000
DTEND;TZID=America/Los_Angeles:20290307T193000
DTSTAMP:20260424T015411
CREATED:20250424T212109Z
LAST-MODIFIED:20250424T212109Z
UID:10001039-1867602600-1867606200@www.lvcentraloffice.org
SUMMARY:District 17 General Service Meeting
DESCRIPTION:
URL:https://www.lvcentraloffice.org/event/district-17-general-service-meeting/2029-03-07/
LOCATION:Desert View Hospital Conference Room\, 360 S Lola Ln\, Pahrump\, NV\, 89048\, United States
END:VEVENT
BEGIN:VEVENT
DTSTART;TZID=America/Los_Angeles:20290308T190000
DTEND;TZID=America/Los_Angeles:20290308T200000
DTSTAMP:20260424T015411
CREATED:20250424T212353Z
LAST-MODIFIED:20250424T212353Z
UID:10001254-1867690800-1867694400@www.lvcentraloffice.org
SUMMARY:D21 General Service Meeting
DESCRIPTION:
URL:https://www.lvcentraloffice.org/event/d21-general-service-meeting/2029-03-08/
LOCATION:D21 meeting place\, 1401 North Decatur Blvd\, Suite 19\, Las Vegas\, NV\, 89108\, United States
END:VEVENT
BEGIN:VEVENT
DTSTART;TZID=America/Los_Angeles:20290310T131500
DTEND;TZID=America/Los_Angeles:20290310T141500
DTSTAMP:20260424T015411
CREATED:20250424T210244Z
LAST-MODIFIED:20250424T210244Z
UID:10000859-1867842900-1867846500@www.lvcentraloffice.org
SUMMARY:District 5B General Service Meeting
DESCRIPTION:
URL:https://www.lvcentraloffice.org/event/district-5b-general-service-meeting/2029-03-10/
LOCATION:Keep Coming Back Club\, 5717 W Alexander Rd Ste 145\, Las Vegas\, NV\, 89130\, United States
END:VEVENT
BEGIN:VEVENT
DTSTART;TZID=America/Los_Angeles:20290311T094500
DTEND;TZID=America/Los_Angeles:20290311T104500
DTSTAMP:20260424T015411
CREATED:20250424T211729Z
LAST-MODIFIED:20250424T211729Z
UID:10000979-1867916700-1867920300@www.lvcentraloffice.org
SUMMARY:D15 General Service Meeting
DESCRIPTION:
URL:https://www.lvcentraloffice.org/event/d15-general-service-meeting/2029-03-11/
LOCATION:TIE Club\, 329 North 11th Street\, Las Vegas\, NV\, 89101\, United States
END:VEVENT
BEGIN:VEVENT
DTSTART;TZID=America/Los_Angeles:20290312T163000
DTEND;TZID=America/Los_Angeles:20290312T173000
DTSTAMP:20260424T015411
CREATED:20250424T194307Z
LAST-MODIFIED:20250424T194307Z
UID:10000475-1868027400-1868031000@www.lvcentraloffice.org
SUMMARY:CPC Committee Meeting
DESCRIPTION:ID: 869 7461 4930   Passcode: Serenity
URL:https://www.lvcentraloffice.org/event/cpc-committee-meeting/2029-03-12/
LOCATION:ONLINE ONLY
END:VEVENT
BEGIN:VEVENT
DTSTART;TZID=America/Los_Angeles:20290312T180000
DTEND;TZID=America/Los_Angeles:20290312T190000
DTSTAMP:20260424T015411
CREATED:20250424T175208Z
LAST-MODIFIED:20250424T180936Z
UID:10000170-1868032800-1868036400@www.lvcentraloffice.org
SUMMARY:Intergroup Meeting
DESCRIPTION:Zoom Information: \nMeeting ID: 95812571807 Pass Code: 710AA  \n 
URL:https://www.lvcentraloffice.org/event/intergroup-meeting/2029-03-12/
LOCATION:Central Office Meeting Room\, 1515 E Tropicana Ave\, Suite 710\, Las Vegas\, NV\, 89119\, United States
END:VEVENT
BEGIN:VEVENT
DTSTART;TZID=America/Los_Angeles:20290315T190000
DTEND;TZID=America/Los_Angeles:20290315T200000
DTSTAMP:20260424T015411
CREATED:20250424T212353Z
LAST-MODIFIED:20250424T212353Z
UID:10001255-1868295600-1868299200@www.lvcentraloffice.org
SUMMARY:D21 General Service Meeting
DESCRIPTION:
URL:https://www.lvcentraloffice.org/event/d21-general-service-meeting/2029-03-15/
LOCATION:D21 meeting place\, 1401 North Decatur Blvd\, Suite 19\, Las Vegas\, NV\, 89108\, United States
END:VEVENT
BEGIN:VEVENT
DTSTART;TZID=America/Los_Angeles:20290317T103000
DTEND;TZID=America/Los_Angeles:20290317T140000
DTSTAMP:20260424T015411
CREATED:20260323T165914Z
LAST-MODIFIED:20260413T184320Z
UID:10004470-1868437800-1868450400@www.lvcentraloffice.org
SUMMARY:Archives Virtual Committee Meeting
DESCRIPTION:Archives Meetings Flyer \nMEETING ID: 867 1631 4717\nPasscode: Archives42
URL:https://www.lvcentraloffice.org/event/archives-virtual-committee-meeting/2029-03-17/
LOCATION:
END:VEVENT
BEGIN:VEVENT
DTSTART;TZID=America/Los_Angeles:20290318T100000
DTEND;TZID=America/Los_Angeles:20290318T230000
DTSTAMP:20260424T015411
CREATED:20251104T191839Z
LAST-MODIFIED:20260313T215429Z
UID:10000230-1868522400-1868569200@www.lvcentraloffice.org
SUMMARY:District 1 General Service Meeting
DESCRIPTION:
URL:https://www.lvcentraloffice.org/event/district-1-committee-meeting-2/2029-03-18/
LOCATION:Central Office Meeting Room\, 1515 E Tropicana Ave\, Suite 710\, Las Vegas\, NV\, 89119\, United States
END:VEVENT
BEGIN:VEVENT
DTSTART;TZID=America/Los_Angeles:20290318T150000
DTEND;TZID=America/Los_Angeles:20290318T160000
DTSTAMP:20260424T015411
CREATED:20250424T211456Z
LAST-MODIFIED:20250424T211456Z
UID:10000919-1868540400-1868544000@www.lvcentraloffice.org
SUMMARY:D13 General Service Meeting
DESCRIPTION:
URL:https://www.lvcentraloffice.org/event/d13-general-service-meeting/2029-03-18/
LOCATION:Triangle Club\, 4600 S. Nellis Blvd\, Las Vegas\, NV\, 89121\, United States
END:VEVENT
BEGIN:VEVENT
DTSTART;TZID=America/Los_Angeles:20290320T173000
DTEND;TZID=America/Los_Angeles:20290320T175000
DTSTAMP:20260424T015411
CREATED:20250424T180028Z
LAST-MODIFIED:20250424T180028Z
UID:10000291-1868722200-1868723400@www.lvcentraloffice.org
SUMMARY:H&I Committee Orientation
DESCRIPTION:
URL:https://www.lvcentraloffice.org/event/hi-committee-orientation/2029-03-20/
LOCATION:Central Office Meeting Room\, 1515 E Tropicana Ave\, Suite 710\, Las Vegas\, NV\, 89119\, United States
END:VEVENT
BEGIN:VEVENT
DTSTART;TZID=America/Los_Angeles:20290320T180000
DTEND;TZID=America/Los_Angeles:20290320T190000
DTSTAMP:20260424T015411
CREATED:20250424T182008Z
LAST-MODIFIED:20250424T182008Z
UID:10000354-1868724000-1868727600@www.lvcentraloffice.org
SUMMARY:H&I Committee Meeting
DESCRIPTION:
URL:https://www.lvcentraloffice.org/event/hi-committee-meeting/2029-03-20/
LOCATION:Central Office Meeting Room\, 1515 E Tropicana Ave\, Suite 710\, Las Vegas\, NV\, 89119\, United States
END:VEVENT
BEGIN:VEVENT
DTSTART;TZID=America/Los_Angeles:20290322T190000
DTEND;TZID=America/Los_Angeles:20290322T200000
DTSTAMP:20260424T015411
CREATED:20250424T212353Z
LAST-MODIFIED:20250424T212353Z
UID:10001256-1868900400-1868904000@www.lvcentraloffice.org
SUMMARY:D21 General Service Meeting
DESCRIPTION:
URL:https://www.lvcentraloffice.org/event/d21-general-service-meeting/2029-03-22/
LOCATION:D21 meeting place\, 1401 North Decatur Blvd\, Suite 19\, Las Vegas\, NV\, 89108\, United States
END:VEVENT
BEGIN:VEVENT
DTSTART;TZID=America/Los_Angeles:20290325T180000
DTEND;TZID=America/Los_Angeles:20290325T190000
DTSTAMP:20260424T015411
CREATED:20250527T171424Z
LAST-MODIFIED:20250804T192231Z
UID:10001438-1869156000-1869159600@www.lvcentraloffice.org
SUMMARY:The Traditions and Concepts Presentation
DESCRIPTION:Geared to help General Service Reps \nZoom Meeting ID: 653 006 6012 \nPassword: 1935
URL:https://www.lvcentraloffice.org/event/the-traditions-and-concepts-presentation/2029-03-25/
LOCATION:ONLINE ONLY
END:VEVENT
BEGIN:VEVENT
DTSTART;TZID=America/Los_Angeles:20290326T190000
DTEND;TZID=America/Los_Angeles:20290326T200000
DTSTAMP:20260424T015411
CREATED:20250424T194038Z
LAST-MODIFIED:20250424T194038Z
UID:10000415-1869246000-1869249600@www.lvcentraloffice.org
SUMMARY:Accessibility/Meetings To Go Committee Meeting
DESCRIPTION:ID: 8330 643 2783   Passcode: handofaa
URL:https://www.lvcentraloffice.org/event/accessibility-meetings-to-go-committee-meeting/2029-03-26/
LOCATION:ONLINE ONLY
END:VEVENT
BEGIN:VEVENT
DTSTART;TZID=America/Los_Angeles:20290327T190000
DTEND;TZID=America/Los_Angeles:20290327T200000
DTSTAMP:20260424T015411
CREATED:20250424T195145Z
LAST-MODIFIED:20250424T195145Z
UID:10000536-1869332400-1869336000@www.lvcentraloffice.org
SUMMARY:Grapevine Committee Meeting
DESCRIPTION:ID:  863 7191 9329  Passcode: Grapevine
URL:https://www.lvcentraloffice.org/event/grapevine-committee-meeting/2029-03-27/
LOCATION:ONLINE ONLY
END:VEVENT
BEGIN:VEVENT
DTSTART;TZID=America/Los_Angeles:20290328T170000
DTEND;TZID=America/Los_Angeles:20290328T180000
DTSTAMP:20260424T015411
CREATED:20250604T213851Z
LAST-MODIFIED:20250604T213851Z
UID:10003146-1869411600-1869415200@www.lvcentraloffice.org
SUMMARY:Public Information Committee Meeting
DESCRIPTION:
URL:https://www.lvcentraloffice.org/event/public-information-committee-meeting/2029-03-28/
LOCATION:Central Office Meeting Room\, 1515 E Tropicana Ave\, Suite 710\, Las Vegas\, NV\, 89119\, United States
END:VEVENT
BEGIN:VEVENT
DTSTART;TZID=America/Los_Angeles:20290329T190000
DTEND;TZID=America/Los_Angeles:20290329T200000
DTSTAMP:20260424T015411
CREATED:20250424T212353Z
LAST-MODIFIED:20250424T212353Z
UID:10001257-1869505200-1869508800@www.lvcentraloffice.org
SUMMARY:D21 General Service Meeting
DESCRIPTION:
URL:https://www.lvcentraloffice.org/event/d21-general-service-meeting/2029-03-29/
LOCATION:D21 meeting place\, 1401 North Decatur Blvd\, Suite 19\, Las Vegas\, NV\, 89108\, United States
END:VEVENT
BEGIN:VEVENT
DTSTART;TZID=America/Los_Angeles:20290330T090000
DTEND;TZID=America/Los_Angeles:20290330T130000
DTSTAMP:20260424T015411
CREATED:20260323T165052Z
LAST-MODIFIED:20260323T203718Z
UID:10004411-1869555600-1869570000@www.lvcentraloffice.org
SUMMARY:Archive Committee Meeting
DESCRIPTION:Archives Meetings Flyer
URL:https://www.lvcentraloffice.org/event/archive-committee-meeting-2-2/2029-03-30/
LOCATION:Central Office Meeting Room\, 1515 E Tropicana Ave\, Suite 710\, Las Vegas\, NV\, 89119\, United States
END:VEVENT
BEGIN:VEVENT
DTSTART;TZID=America/Los_Angeles:20290401T133000
DTEND;TZID=America/Los_Angeles:20290401T143000
DTSTAMP:20260424T015411
CREATED:20250424T175052Z
LAST-MODIFIED:20250722T222356Z
UID:10000111-1869744600-1869748200@www.lvcentraloffice.org
SUMMARY:LVYPAA Committee Meeting
DESCRIPTION:
URL:https://www.lvcentraloffice.org/event/lvypa-committee-meeting/2029-04-01/
LOCATION:Central Office Meeting Room\, 1515 E Tropicana Ave\, Suite 710\, Las Vegas\, NV\, 89119\, United States
END:VEVENT
BEGIN:VEVENT
DTSTART;TZID=America/Los_Angeles:20290404T183000
DTEND;TZID=America/Los_Angeles:20290404T193000
DTSTAMP:20260424T015411
CREATED:20250424T212109Z
LAST-MODIFIED:20250424T212109Z
UID:10001040-1870021800-1870025400@www.lvcentraloffice.org
SUMMARY:District 17 General Service Meeting
DESCRIPTION:
URL:https://www.lvcentraloffice.org/event/district-17-general-service-meeting/2029-04-04/
LOCATION:Desert View Hospital Conference Room\, 360 S Lola Ln\, Pahrump\, NV\, 89048\, United States
END:VEVENT
BEGIN:VEVENT
DTSTART;TZID=America/Los_Angeles:20290405T190000
DTEND;TZID=America/Los_Angeles:20290405T200000
DTSTAMP:20260424T015411
CREATED:20250424T212353Z
LAST-MODIFIED:20250424T212353Z
UID:10001258-1870110000-1870113600@www.lvcentraloffice.org
SUMMARY:D21 General Service Meeting
DESCRIPTION:
URL:https://www.lvcentraloffice.org/event/d21-general-service-meeting/2029-04-05/
LOCATION:D21 meeting place\, 1401 North Decatur Blvd\, Suite 19\, Las Vegas\, NV\, 89108\, United States
END:VEVENT
BEGIN:VEVENT
DTSTART;TZID=America/Los_Angeles:20290407T133000
DTEND;TZID=America/Los_Angeles:20290407T143000
DTSTAMP:20260424T015411
CREATED:20250424T174809Z
LAST-MODIFIED:20250424T211009Z
UID:10000050-1870263000-1870266600@www.lvcentraloffice.org
SUMMARY:D9 General Service Meeting
DESCRIPTION:
URL:https://www.lvcentraloffice.org/event/d9-committee-meeting/2029-04-07/
LOCATION:Central Office Meeting Room\, 1515 E Tropicana Ave\, Suite 710\, Las Vegas\, NV\, 89119\, United States
END:VEVENT
BEGIN:VEVENT
DTSTART;TZID=America/Los_Angeles:20290408T094500
DTEND;TZID=America/Los_Angeles:20290408T104500
DTSTAMP:20260424T015411
CREATED:20250424T211729Z
LAST-MODIFIED:20250424T211729Z
UID:10000980-1870335900-1870339500@www.lvcentraloffice.org
SUMMARY:D15 General Service Meeting
DESCRIPTION:
URL:https://www.lvcentraloffice.org/event/d15-general-service-meeting/2029-04-08/
LOCATION:TIE Club\, 329 North 11th Street\, Las Vegas\, NV\, 89101\, United States
END:VEVENT
BEGIN:VEVENT
DTSTART;TZID=America/Los_Angeles:20290409T163000
DTEND;TZID=America/Los_Angeles:20290409T173000
DTSTAMP:20260424T015411
CREATED:20250424T194307Z
LAST-MODIFIED:20250424T194307Z
UID:10000476-1870446600-1870450200@www.lvcentraloffice.org
SUMMARY:CPC Committee Meeting
DESCRIPTION:ID: 869 7461 4930   Passcode: Serenity
URL:https://www.lvcentraloffice.org/event/cpc-committee-meeting/2029-04-09/
LOCATION:ONLINE ONLY
END:VEVENT
END:VCALENDAR