BEGIN:VCALENDAR
VERSION:2.0
PRODID:-//Las Vegas Central Office for Alcoholics Anonymous - ECPv6.15.20//NONSGML v1.0//EN
CALSCALE:GREGORIAN
METHOD:PUBLISH
X-ORIGINAL-URL:https://www.lvcentraloffice.org
X-WR-CALDESC:Events for Las Vegas Central Office for Alcoholics Anonymous
REFRESH-INTERVAL;VALUE=DURATION:PT1H
X-Robots-Tag:noindex
X-PUBLISHED-TTL:PT1H
BEGIN:VTIMEZONE
TZID:America/Los_Angeles
BEGIN:DAYLIGHT
TZOFFSETFROM:-0800
TZOFFSETTO:-0700
TZNAME:PDT
DTSTART:20280312T100000
END:DAYLIGHT
BEGIN:STANDARD
TZOFFSETFROM:-0700
TZOFFSETTO:-0800
TZNAME:PST
DTSTART:20281105T090000
END:STANDARD
BEGIN:DAYLIGHT
TZOFFSETFROM:-0800
TZOFFSETTO:-0700
TZNAME:PDT
DTSTART:20290311T100000
END:DAYLIGHT
BEGIN:STANDARD
TZOFFSETFROM:-0700
TZOFFSETTO:-0800
TZNAME:PST
DTSTART:20291104T090000
END:STANDARD
BEGIN:DAYLIGHT
TZOFFSETFROM:-0800
TZOFFSETTO:-0700
TZNAME:PDT
DTSTART:20300310T100000
END:DAYLIGHT
BEGIN:STANDARD
TZOFFSETFROM:-0700
TZOFFSETTO:-0800
TZNAME:PST
DTSTART:20301103T090000
END:STANDARD
END:VTIMEZONE
BEGIN:VEVENT
DTSTART;TZID=America/Los_Angeles:20290124T170000
DTEND;TZID=America/Los_Angeles:20290124T180000
DTSTAMP:20260423T220554
CREATED:20250604T213851Z
LAST-MODIFIED:20250604T213851Z
UID:10003144-1863968400-1863972000@www.lvcentraloffice.org
SUMMARY:Public Information Committee Meeting
DESCRIPTION:
URL:https://www.lvcentraloffice.org/event/public-information-committee-meeting/2029-01-24/
LOCATION:Central Office Meeting Room\, 1515 E Tropicana Ave\, Suite 710\, Las Vegas\, NV\, 89119\, United States
END:VEVENT
BEGIN:VEVENT
DTSTART;TZID=America/Los_Angeles:20290125T190000
DTEND;TZID=America/Los_Angeles:20290125T200000
DTSTAMP:20260423T220554
CREATED:20250424T212353Z
LAST-MODIFIED:20250424T212353Z
UID:10001248-1864062000-1864065600@www.lvcentraloffice.org
SUMMARY:D21 General Service Meeting
DESCRIPTION:
URL:https://www.lvcentraloffice.org/event/d21-general-service-meeting/2029-01-25/
LOCATION:D21 meeting place\, 1401 North Decatur Blvd\, Suite 19\, Las Vegas\, NV\, 89108\, United States
END:VEVENT
BEGIN:VEVENT
DTSTART;TZID=America/Los_Angeles:20290126T090000
DTEND;TZID=America/Los_Angeles:20290126T130000
DTSTAMP:20260423T220554
CREATED:20260323T165052Z
LAST-MODIFIED:20260323T203718Z
UID:10004409-1864112400-1864126800@www.lvcentraloffice.org
SUMMARY:Archive Committee Meeting
DESCRIPTION:Archives Meetings Flyer
URL:https://www.lvcentraloffice.org/event/archive-committee-meeting-2-2/2029-01-26/
LOCATION:Central Office Meeting Room\, 1515 E Tropicana Ave\, Suite 710\, Las Vegas\, NV\, 89119\, United States
END:VEVENT
BEGIN:VEVENT
DTSTART;TZID=America/Los_Angeles:20290128T180000
DTEND;TZID=America/Los_Angeles:20290128T190000
DTSTAMP:20260423T220554
CREATED:20250527T171424Z
LAST-MODIFIED:20250804T192231Z
UID:10001436-1864317600-1864321200@www.lvcentraloffice.org
SUMMARY:The Traditions and Concepts Presentation
DESCRIPTION:Geared to help General Service Reps \nZoom Meeting ID: 653 006 6012 \nPassword: 1935
URL:https://www.lvcentraloffice.org/event/the-traditions-and-concepts-presentation/2029-01-28/
LOCATION:ONLINE ONLY
END:VEVENT
BEGIN:VEVENT
DTSTART;TZID=America/Los_Angeles:20290130T190000
DTEND;TZID=America/Los_Angeles:20290130T200000
DTSTAMP:20260423T220554
CREATED:20250424T195145Z
LAST-MODIFIED:20250424T195145Z
UID:10000534-1864494000-1864497600@www.lvcentraloffice.org
SUMMARY:Grapevine Committee Meeting
DESCRIPTION:ID:  863 7191 9329  Passcode: Grapevine
URL:https://www.lvcentraloffice.org/event/grapevine-committee-meeting/2029-01-30/
LOCATION:ONLINE ONLY
END:VEVENT
BEGIN:VEVENT
DTSTART;TZID=America/Los_Angeles:20290201T190000
DTEND;TZID=America/Los_Angeles:20290201T200000
DTSTAMP:20260423T220554
CREATED:20250424T212353Z
LAST-MODIFIED:20250424T212353Z
UID:10001249-1864666800-1864670400@www.lvcentraloffice.org
SUMMARY:D21 General Service Meeting
DESCRIPTION:
URL:https://www.lvcentraloffice.org/event/d21-general-service-meeting/2029-02-01/
LOCATION:D21 meeting place\, 1401 North Decatur Blvd\, Suite 19\, Las Vegas\, NV\, 89108\, United States
END:VEVENT
BEGIN:VEVENT
DTSTART;TZID=America/Los_Angeles:20290203T133000
DTEND;TZID=America/Los_Angeles:20290203T143000
DTSTAMP:20260423T220554
CREATED:20250424T174809Z
LAST-MODIFIED:20250424T211009Z
UID:10000048-1864819800-1864823400@www.lvcentraloffice.org
SUMMARY:D9 General Service Meeting
DESCRIPTION:
URL:https://www.lvcentraloffice.org/event/d9-committee-meeting/2029-02-03/
LOCATION:Central Office Meeting Room\, 1515 E Tropicana Ave\, Suite 710\, Las Vegas\, NV\, 89119\, United States
END:VEVENT
BEGIN:VEVENT
DTSTART;TZID=America/Los_Angeles:20290204T133000
DTEND;TZID=America/Los_Angeles:20290204T143000
DTSTAMP:20260423T220554
CREATED:20250424T175052Z
LAST-MODIFIED:20250722T222356Z
UID:10000109-1864906200-1864909800@www.lvcentraloffice.org
SUMMARY:LVYPAA Committee Meeting
DESCRIPTION:
URL:https://www.lvcentraloffice.org/event/lvypa-committee-meeting/2029-02-04/
LOCATION:Central Office Meeting Room\, 1515 E Tropicana Ave\, Suite 710\, Las Vegas\, NV\, 89119\, United States
END:VEVENT
BEGIN:VEVENT
DTSTART;TZID=America/Los_Angeles:20290207T183000
DTEND;TZID=America/Los_Angeles:20290207T193000
DTSTAMP:20260423T220554
CREATED:20250424T212109Z
LAST-MODIFIED:20250424T212109Z
UID:10001038-1865183400-1865187000@www.lvcentraloffice.org
SUMMARY:District 17 General Service Meeting
DESCRIPTION:
URL:https://www.lvcentraloffice.org/event/district-17-general-service-meeting/2029-02-07/
LOCATION:Desert View Hospital Conference Room\, 360 S Lola Ln\, Pahrump\, NV\, 89048\, United States
END:VEVENT
BEGIN:VEVENT
DTSTART;TZID=America/Los_Angeles:20290208T190000
DTEND;TZID=America/Los_Angeles:20290208T200000
DTSTAMP:20260423T220554
CREATED:20250424T212353Z
LAST-MODIFIED:20250424T212353Z
UID:10001250-1865271600-1865275200@www.lvcentraloffice.org
SUMMARY:D21 General Service Meeting
DESCRIPTION:
URL:https://www.lvcentraloffice.org/event/d21-general-service-meeting/2029-02-08/
LOCATION:D21 meeting place\, 1401 North Decatur Blvd\, Suite 19\, Las Vegas\, NV\, 89108\, United States
END:VEVENT
BEGIN:VEVENT
DTSTART;TZID=America/Los_Angeles:20290210T131500
DTEND;TZID=America/Los_Angeles:20290210T141500
DTSTAMP:20260423T220554
CREATED:20250424T210244Z
LAST-MODIFIED:20250424T210244Z
UID:10000858-1865423700-1865427300@www.lvcentraloffice.org
SUMMARY:District 5B General Service Meeting
DESCRIPTION:
URL:https://www.lvcentraloffice.org/event/district-5b-general-service-meeting/2029-02-10/
LOCATION:Keep Coming Back Club\, 5717 W Alexander Rd Ste 145\, Las Vegas\, NV\, 89130\, United States
END:VEVENT
BEGIN:VEVENT
DTSTART;TZID=America/Los_Angeles:20290211T094500
DTEND;TZID=America/Los_Angeles:20290211T104500
DTSTAMP:20260423T220554
CREATED:20250424T211729Z
LAST-MODIFIED:20250424T211729Z
UID:10000978-1865497500-1865501100@www.lvcentraloffice.org
SUMMARY:D15 General Service Meeting
DESCRIPTION:
URL:https://www.lvcentraloffice.org/event/d15-general-service-meeting/2029-02-11/
LOCATION:TIE Club\, 329 North 11th Street\, Las Vegas\, NV\, 89101\, United States
END:VEVENT
BEGIN:VEVENT
DTSTART;TZID=America/Los_Angeles:20290212T163000
DTEND;TZID=America/Los_Angeles:20290212T173000
DTSTAMP:20260423T220554
CREATED:20250424T194307Z
LAST-MODIFIED:20250424T194307Z
UID:10000474-1865608200-1865611800@www.lvcentraloffice.org
SUMMARY:CPC Committee Meeting
DESCRIPTION:ID: 869 7461 4930   Passcode: Serenity
URL:https://www.lvcentraloffice.org/event/cpc-committee-meeting/2029-02-12/
LOCATION:ONLINE ONLY
END:VEVENT
BEGIN:VEVENT
DTSTART;TZID=America/Los_Angeles:20290212T180000
DTEND;TZID=America/Los_Angeles:20290212T190000
DTSTAMP:20260423T220554
CREATED:20250424T175208Z
LAST-MODIFIED:20250424T180936Z
UID:10000169-1865613600-1865617200@www.lvcentraloffice.org
SUMMARY:Intergroup Meeting
DESCRIPTION:Zoom Information: \nMeeting ID: 95812571807 Pass Code: 710AA  \n 
URL:https://www.lvcentraloffice.org/event/intergroup-meeting/2029-02-12/
LOCATION:Central Office Meeting Room\, 1515 E Tropicana Ave\, Suite 710\, Las Vegas\, NV\, 89119\, United States
END:VEVENT
BEGIN:VEVENT
DTSTART;TZID=America/Los_Angeles:20290215T190000
DTEND;TZID=America/Los_Angeles:20290215T200000
DTSTAMP:20260423T220554
CREATED:20250424T212353Z
LAST-MODIFIED:20250424T212353Z
UID:10001251-1865876400-1865880000@www.lvcentraloffice.org
SUMMARY:D21 General Service Meeting
DESCRIPTION:
URL:https://www.lvcentraloffice.org/event/d21-general-service-meeting/2029-02-15/
LOCATION:D21 meeting place\, 1401 North Decatur Blvd\, Suite 19\, Las Vegas\, NV\, 89108\, United States
END:VEVENT
BEGIN:VEVENT
DTSTART;TZID=America/Los_Angeles:20290217T103000
DTEND;TZID=America/Los_Angeles:20290217T140000
DTSTAMP:20260423T220555
CREATED:20260323T165914Z
LAST-MODIFIED:20260413T184320Z
UID:10004469-1866018600-1866031200@www.lvcentraloffice.org
SUMMARY:Archives Virtual Committee Meeting
DESCRIPTION:Archives Meetings Flyer \nMEETING ID: 867 1631 4717\nPasscode: Archives42
URL:https://www.lvcentraloffice.org/event/archives-virtual-committee-meeting/2029-02-17/
LOCATION:
END:VEVENT
BEGIN:VEVENT
DTSTART;TZID=America/Los_Angeles:20290218T100000
DTEND;TZID=America/Los_Angeles:20290218T230000
DTSTAMP:20260423T220555
CREATED:20251104T191839Z
LAST-MODIFIED:20260313T215429Z
UID:10000229-1866103200-1866150000@www.lvcentraloffice.org
SUMMARY:District 1 General Service Meeting
DESCRIPTION:
URL:https://www.lvcentraloffice.org/event/district-1-committee-meeting-2/2029-02-18/
LOCATION:Central Office Meeting Room\, 1515 E Tropicana Ave\, Suite 710\, Las Vegas\, NV\, 89119\, United States
END:VEVENT
BEGIN:VEVENT
DTSTART;TZID=America/Los_Angeles:20290218T150000
DTEND;TZID=America/Los_Angeles:20290218T160000
DTSTAMP:20260423T220555
CREATED:20250424T211456Z
LAST-MODIFIED:20250424T211456Z
UID:10000918-1866121200-1866124800@www.lvcentraloffice.org
SUMMARY:D13 General Service Meeting
DESCRIPTION:
URL:https://www.lvcentraloffice.org/event/d13-general-service-meeting/2029-02-18/
LOCATION:Triangle Club\, 4600 S. Nellis Blvd\, Las Vegas\, NV\, 89121\, United States
END:VEVENT
BEGIN:VEVENT
DTSTART;TZID=America/Los_Angeles:20290220T173000
DTEND;TZID=America/Los_Angeles:20290220T175000
DTSTAMP:20260423T220555
CREATED:20250424T180028Z
LAST-MODIFIED:20250424T180028Z
UID:10000290-1866303000-1866304200@www.lvcentraloffice.org
SUMMARY:H&I Committee Orientation
DESCRIPTION:
URL:https://www.lvcentraloffice.org/event/hi-committee-orientation/2029-02-20/
LOCATION:Central Office Meeting Room\, 1515 E Tropicana Ave\, Suite 710\, Las Vegas\, NV\, 89119\, United States
END:VEVENT
BEGIN:VEVENT
DTSTART;TZID=America/Los_Angeles:20290220T180000
DTEND;TZID=America/Los_Angeles:20290220T190000
DTSTAMP:20260423T220555
CREATED:20250424T182008Z
LAST-MODIFIED:20250424T182008Z
UID:10000353-1866304800-1866308400@www.lvcentraloffice.org
SUMMARY:H&I Committee Meeting
DESCRIPTION:
URL:https://www.lvcentraloffice.org/event/hi-committee-meeting/2029-02-20/
LOCATION:Central Office Meeting Room\, 1515 E Tropicana Ave\, Suite 710\, Las Vegas\, NV\, 89119\, United States
END:VEVENT
BEGIN:VEVENT
DTSTART;TZID=America/Los_Angeles:20290222T190000
DTEND;TZID=America/Los_Angeles:20290222T200000
DTSTAMP:20260423T220555
CREATED:20250424T212353Z
LAST-MODIFIED:20250424T212353Z
UID:10001252-1866481200-1866484800@www.lvcentraloffice.org
SUMMARY:D21 General Service Meeting
DESCRIPTION:
URL:https://www.lvcentraloffice.org/event/d21-general-service-meeting/2029-02-22/
LOCATION:D21 meeting place\, 1401 North Decatur Blvd\, Suite 19\, Las Vegas\, NV\, 89108\, United States
END:VEVENT
BEGIN:VEVENT
DTSTART;TZID=America/Los_Angeles:20290223T090000
DTEND;TZID=America/Los_Angeles:20290223T130000
DTSTAMP:20260423T220555
CREATED:20260323T165052Z
LAST-MODIFIED:20260323T203718Z
UID:10004410-1866531600-1866546000@www.lvcentraloffice.org
SUMMARY:Archive Committee Meeting
DESCRIPTION:Archives Meetings Flyer
URL:https://www.lvcentraloffice.org/event/archive-committee-meeting-2-2/2029-02-23/
LOCATION:Central Office Meeting Room\, 1515 E Tropicana Ave\, Suite 710\, Las Vegas\, NV\, 89119\, United States
END:VEVENT
BEGIN:VEVENT
DTSTART;TZID=America/Los_Angeles:20290225T180000
DTEND;TZID=America/Los_Angeles:20290225T190000
DTSTAMP:20260423T220555
CREATED:20250527T171424Z
LAST-MODIFIED:20250804T192231Z
UID:10001437-1866736800-1866740400@www.lvcentraloffice.org
SUMMARY:The Traditions and Concepts Presentation
DESCRIPTION:Geared to help General Service Reps \nZoom Meeting ID: 653 006 6012 \nPassword: 1935
URL:https://www.lvcentraloffice.org/event/the-traditions-and-concepts-presentation/2029-02-25/
LOCATION:ONLINE ONLY
END:VEVENT
BEGIN:VEVENT
DTSTART;TZID=America/Los_Angeles:20290226T190000
DTEND;TZID=America/Los_Angeles:20290226T200000
DTSTAMP:20260423T220555
CREATED:20250424T194038Z
LAST-MODIFIED:20250424T194038Z
UID:10000414-1866826800-1866830400@www.lvcentraloffice.org
SUMMARY:Accessibility/Meetings To Go Committee Meeting
DESCRIPTION:ID: 8330 643 2783   Passcode: handofaa
URL:https://www.lvcentraloffice.org/event/accessibility-meetings-to-go-committee-meeting/2029-02-26/
LOCATION:ONLINE ONLY
END:VEVENT
BEGIN:VEVENT
DTSTART;TZID=America/Los_Angeles:20290227T190000
DTEND;TZID=America/Los_Angeles:20290227T200000
DTSTAMP:20260423T220555
CREATED:20250424T195145Z
LAST-MODIFIED:20250424T195145Z
UID:10000535-1866913200-1866916800@www.lvcentraloffice.org
SUMMARY:Grapevine Committee Meeting
DESCRIPTION:ID:  863 7191 9329  Passcode: Grapevine
URL:https://www.lvcentraloffice.org/event/grapevine-committee-meeting/2029-02-27/
LOCATION:ONLINE ONLY
END:VEVENT
BEGIN:VEVENT
DTSTART;TZID=America/Los_Angeles:20290228T170000
DTEND;TZID=America/Los_Angeles:20290228T180000
DTSTAMP:20260423T220555
CREATED:20250604T213851Z
LAST-MODIFIED:20250604T213851Z
UID:10003145-1866992400-1866996000@www.lvcentraloffice.org
SUMMARY:Public Information Committee Meeting
DESCRIPTION:
URL:https://www.lvcentraloffice.org/event/public-information-committee-meeting/2029-02-28/
LOCATION:Central Office Meeting Room\, 1515 E Tropicana Ave\, Suite 710\, Las Vegas\, NV\, 89119\, United States
END:VEVENT
BEGIN:VEVENT
DTSTART;TZID=America/Los_Angeles:20290301T190000
DTEND;TZID=America/Los_Angeles:20290301T200000
DTSTAMP:20260423T220555
CREATED:20250424T212353Z
LAST-MODIFIED:20250424T212353Z
UID:10001253-1867086000-1867089600@www.lvcentraloffice.org
SUMMARY:D21 General Service Meeting
DESCRIPTION:
URL:https://www.lvcentraloffice.org/event/d21-general-service-meeting/2029-03-01/
LOCATION:D21 meeting place\, 1401 North Decatur Blvd\, Suite 19\, Las Vegas\, NV\, 89108\, United States
END:VEVENT
BEGIN:VEVENT
DTSTART;TZID=America/Los_Angeles:20290303T133000
DTEND;TZID=America/Los_Angeles:20290303T143000
DTSTAMP:20260423T220555
CREATED:20250424T174809Z
LAST-MODIFIED:20250424T211009Z
UID:10000049-1867239000-1867242600@www.lvcentraloffice.org
SUMMARY:D9 General Service Meeting
DESCRIPTION:
URL:https://www.lvcentraloffice.org/event/d9-committee-meeting/2029-03-03/
LOCATION:Central Office Meeting Room\, 1515 E Tropicana Ave\, Suite 710\, Las Vegas\, NV\, 89119\, United States
END:VEVENT
BEGIN:VEVENT
DTSTART;TZID=America/Los_Angeles:20290304T133000
DTEND;TZID=America/Los_Angeles:20290304T143000
DTSTAMP:20260423T220555
CREATED:20250424T175052Z
LAST-MODIFIED:20250722T222356Z
UID:10000110-1867325400-1867329000@www.lvcentraloffice.org
SUMMARY:LVYPAA Committee Meeting
DESCRIPTION:
URL:https://www.lvcentraloffice.org/event/lvypa-committee-meeting/2029-03-04/
LOCATION:Central Office Meeting Room\, 1515 E Tropicana Ave\, Suite 710\, Las Vegas\, NV\, 89119\, United States
END:VEVENT
BEGIN:VEVENT
DTSTART;TZID=America/Los_Angeles:20290307T183000
DTEND;TZID=America/Los_Angeles:20290307T193000
DTSTAMP:20260423T220555
CREATED:20250424T212109Z
LAST-MODIFIED:20250424T212109Z
UID:10001039-1867602600-1867606200@www.lvcentraloffice.org
SUMMARY:District 17 General Service Meeting
DESCRIPTION:
URL:https://www.lvcentraloffice.org/event/district-17-general-service-meeting/2029-03-07/
LOCATION:Desert View Hospital Conference Room\, 360 S Lola Ln\, Pahrump\, NV\, 89048\, United States
END:VEVENT
END:VCALENDAR