BEGIN:VCALENDAR
VERSION:2.0
PRODID:-//Las Vegas Central Office for Alcoholics Anonymous - ECPv6.15.20//NONSGML v1.0//EN
CALSCALE:GREGORIAN
METHOD:PUBLISH
X-ORIGINAL-URL:https://www.lvcentraloffice.org
X-WR-CALDESC:Events for Las Vegas Central Office for Alcoholics Anonymous
REFRESH-INTERVAL;VALUE=DURATION:PT1H
X-Robots-Tag:noindex
X-PUBLISHED-TTL:PT1H
BEGIN:VTIMEZONE
TZID:America/Los_Angeles
BEGIN:DAYLIGHT
TZOFFSETFROM:-0800
TZOFFSETTO:-0700
TZNAME:PDT
DTSTART:20270314T100000
END:DAYLIGHT
BEGIN:STANDARD
TZOFFSETFROM:-0700
TZOFFSETTO:-0800
TZNAME:PST
DTSTART:20271107T090000
END:STANDARD
BEGIN:DAYLIGHT
TZOFFSETFROM:-0800
TZOFFSETTO:-0700
TZNAME:PDT
DTSTART:20280312T100000
END:DAYLIGHT
BEGIN:STANDARD
TZOFFSETFROM:-0700
TZOFFSETTO:-0800
TZNAME:PST
DTSTART:20281105T090000
END:STANDARD
BEGIN:DAYLIGHT
TZOFFSETFROM:-0800
TZOFFSETTO:-0700
TZNAME:PDT
DTSTART:20290311T100000
END:DAYLIGHT
BEGIN:STANDARD
TZOFFSETFROM:-0700
TZOFFSETTO:-0800
TZNAME:PST
DTSTART:20291104T090000
END:STANDARD
END:VTIMEZONE
BEGIN:VEVENT
DTSTART;TZID=America/Los_Angeles:20281031T190000
DTEND;TZID=America/Los_Angeles:20281031T200000
DTSTAMP:20260423T133651
CREATED:20250424T195145Z
LAST-MODIFIED:20250424T195145Z
UID:10000531-1856631600-1856635200@www.lvcentraloffice.org
SUMMARY:Grapevine Committee Meeting
DESCRIPTION:ID:  863 7191 9329  Passcode: Grapevine
URL:https://www.lvcentraloffice.org/event/grapevine-committee-meeting/2028-10-31/
LOCATION:ONLINE ONLY
END:VEVENT
BEGIN:VEVENT
DTSTART;TZID=America/Los_Angeles:20281101T183000
DTEND;TZID=America/Los_Angeles:20281101T193000
DTSTAMP:20260423T133651
CREATED:20250424T212109Z
LAST-MODIFIED:20250424T212109Z
UID:10001035-1856716200-1856719800@www.lvcentraloffice.org
SUMMARY:District 17 General Service Meeting
DESCRIPTION:
URL:https://www.lvcentraloffice.org/event/district-17-general-service-meeting/2028-11-01/
LOCATION:Desert View Hospital Conference Room\, 360 S Lola Ln\, Pahrump\, NV\, 89048\, United States
END:VEVENT
BEGIN:VEVENT
DTSTART;TZID=America/Los_Angeles:20281102T190000
DTEND;TZID=America/Los_Angeles:20281102T200000
DTSTAMP:20260423T133651
CREATED:20250424T212353Z
LAST-MODIFIED:20250424T212353Z
UID:10001236-1856804400-1856808000@www.lvcentraloffice.org
SUMMARY:D21 General Service Meeting
DESCRIPTION:
URL:https://www.lvcentraloffice.org/event/d21-general-service-meeting/2028-11-02/
LOCATION:D21 meeting place\, 1401 North Decatur Blvd\, Suite 19\, Las Vegas\, NV\, 89108\, United States
END:VEVENT
BEGIN:VEVENT
DTSTART;TZID=America/Los_Angeles:20281104T133000
DTEND;TZID=America/Los_Angeles:20281104T143000
DTSTAMP:20260423T133651
CREATED:20250424T174809Z
LAST-MODIFIED:20250424T211009Z
UID:10000045-1856957400-1856961000@www.lvcentraloffice.org
SUMMARY:D9 General Service Meeting
DESCRIPTION:
URL:https://www.lvcentraloffice.org/event/d9-committee-meeting/2028-11-04/
LOCATION:Central Office Meeting Room\, 1515 E Tropicana Ave\, Suite 710\, Las Vegas\, NV\, 89119\, United States
END:VEVENT
BEGIN:VEVENT
DTSTART;TZID=America/Los_Angeles:20281105T133000
DTEND;TZID=America/Los_Angeles:20281105T143000
DTSTAMP:20260423T133651
CREATED:20250424T175052Z
LAST-MODIFIED:20250722T222356Z
UID:10000106-1857043800-1857047400@www.lvcentraloffice.org
SUMMARY:LVYPAA Committee Meeting
DESCRIPTION:
URL:https://www.lvcentraloffice.org/event/lvypa-committee-meeting/2028-11-05/
LOCATION:Central Office Meeting Room\, 1515 E Tropicana Ave\, Suite 710\, Las Vegas\, NV\, 89119\, United States
END:VEVENT
BEGIN:VEVENT
DTSTART;TZID=America/Los_Angeles:20281109T190000
DTEND;TZID=America/Los_Angeles:20281109T200000
DTSTAMP:20260423T133651
CREATED:20250424T212353Z
LAST-MODIFIED:20250424T212353Z
UID:10001237-1857409200-1857412800@www.lvcentraloffice.org
SUMMARY:D21 General Service Meeting
DESCRIPTION:
URL:https://www.lvcentraloffice.org/event/d21-general-service-meeting/2028-11-09/
LOCATION:D21 meeting place\, 1401 North Decatur Blvd\, Suite 19\, Las Vegas\, NV\, 89108\, United States
END:VEVENT
BEGIN:VEVENT
DTSTART;TZID=America/Los_Angeles:20281111T131500
DTEND;TZID=America/Los_Angeles:20281111T141500
DTSTAMP:20260423T133651
CREATED:20250424T210244Z
LAST-MODIFIED:20250424T210244Z
UID:10000855-1857561300-1857564900@www.lvcentraloffice.org
SUMMARY:District 5B General Service Meeting
DESCRIPTION:
URL:https://www.lvcentraloffice.org/event/district-5b-general-service-meeting/2028-11-11/
LOCATION:Keep Coming Back Club\, 5717 W Alexander Rd Ste 145\, Las Vegas\, NV\, 89130\, United States
END:VEVENT
BEGIN:VEVENT
DTSTART;TZID=America/Los_Angeles:20281112T094500
DTEND;TZID=America/Los_Angeles:20281112T104500
DTSTAMP:20260423T133651
CREATED:20250424T211729Z
LAST-MODIFIED:20250424T211729Z
UID:10000975-1857635100-1857638700@www.lvcentraloffice.org
SUMMARY:D15 General Service Meeting
DESCRIPTION:
URL:https://www.lvcentraloffice.org/event/d15-general-service-meeting/2028-11-12/
LOCATION:TIE Club\, 329 North 11th Street\, Las Vegas\, NV\, 89101\, United States
END:VEVENT
BEGIN:VEVENT
DTSTART;TZID=America/Los_Angeles:20281113T163000
DTEND;TZID=America/Los_Angeles:20281113T173000
DTSTAMP:20260423T133651
CREATED:20250424T194307Z
LAST-MODIFIED:20250424T194307Z
UID:10000471-1857745800-1857749400@www.lvcentraloffice.org
SUMMARY:CPC Committee Meeting
DESCRIPTION:ID: 869 7461 4930   Passcode: Serenity
URL:https://www.lvcentraloffice.org/event/cpc-committee-meeting/2028-11-13/
LOCATION:ONLINE ONLY
END:VEVENT
BEGIN:VEVENT
DTSTART;TZID=America/Los_Angeles:20281113T180000
DTEND;TZID=America/Los_Angeles:20281113T190000
DTSTAMP:20260423T133651
CREATED:20250424T175208Z
LAST-MODIFIED:20250424T180936Z
UID:10000166-1857751200-1857754800@www.lvcentraloffice.org
SUMMARY:Intergroup Meeting
DESCRIPTION:Zoom Information: \nMeeting ID: 95812571807 Pass Code: 710AA  \n 
URL:https://www.lvcentraloffice.org/event/intergroup-meeting/2028-11-13/
LOCATION:Central Office Meeting Room\, 1515 E Tropicana Ave\, Suite 710\, Las Vegas\, NV\, 89119\, United States
END:VEVENT
BEGIN:VEVENT
DTSTART;TZID=America/Los_Angeles:20281116T190000
DTEND;TZID=America/Los_Angeles:20281116T200000
DTSTAMP:20260423T133651
CREATED:20250424T212353Z
LAST-MODIFIED:20250424T212353Z
UID:10001238-1858014000-1858017600@www.lvcentraloffice.org
SUMMARY:D21 General Service Meeting
DESCRIPTION:
URL:https://www.lvcentraloffice.org/event/d21-general-service-meeting/2028-11-16/
LOCATION:D21 meeting place\, 1401 North Decatur Blvd\, Suite 19\, Las Vegas\, NV\, 89108\, United States
END:VEVENT
BEGIN:VEVENT
DTSTART;TZID=America/Los_Angeles:20281118T103000
DTEND;TZID=America/Los_Angeles:20281118T140000
DTSTAMP:20260423T133651
CREATED:20260323T165914Z
LAST-MODIFIED:20260413T184320Z
UID:10004466-1858156200-1858168800@www.lvcentraloffice.org
SUMMARY:Archives Virtual Committee Meeting
DESCRIPTION:Archives Meetings Flyer \nMEETING ID: 867 1631 4717\nPasscode: Archives42
URL:https://www.lvcentraloffice.org/event/archives-virtual-committee-meeting/2028-11-18/
LOCATION:
END:VEVENT
BEGIN:VEVENT
DTSTART;TZID=America/Los_Angeles:20281119T100000
DTEND;TZID=America/Los_Angeles:20281119T230000
DTSTAMP:20260423T133651
CREATED:20251104T191839Z
LAST-MODIFIED:20260313T215429Z
UID:10000226-1858240800-1858287600@www.lvcentraloffice.org
SUMMARY:District 1 General Service Meeting
DESCRIPTION:
URL:https://www.lvcentraloffice.org/event/district-1-committee-meeting-2/2028-11-19/
LOCATION:Central Office Meeting Room\, 1515 E Tropicana Ave\, Suite 710\, Las Vegas\, NV\, 89119\, United States
END:VEVENT
BEGIN:VEVENT
DTSTART;TZID=America/Los_Angeles:20281119T150000
DTEND;TZID=America/Los_Angeles:20281119T160000
DTSTAMP:20260423T133651
CREATED:20250424T211456Z
LAST-MODIFIED:20250424T211456Z
UID:10000915-1858258800-1858262400@www.lvcentraloffice.org
SUMMARY:D13 General Service Meeting
DESCRIPTION:
URL:https://www.lvcentraloffice.org/event/d13-general-service-meeting/2028-11-19/
LOCATION:Triangle Club\, 4600 S. Nellis Blvd\, Las Vegas\, NV\, 89121\, United States
END:VEVENT
BEGIN:VEVENT
DTSTART;TZID=America/Los_Angeles:20281121T173000
DTEND;TZID=America/Los_Angeles:20281121T175000
DTSTAMP:20260423T133651
CREATED:20250424T180028Z
LAST-MODIFIED:20250424T180028Z
UID:10000287-1858440600-1858441800@www.lvcentraloffice.org
SUMMARY:H&I Committee Orientation
DESCRIPTION:
URL:https://www.lvcentraloffice.org/event/hi-committee-orientation/2028-11-21/
LOCATION:Central Office Meeting Room\, 1515 E Tropicana Ave\, Suite 710\, Las Vegas\, NV\, 89119\, United States
END:VEVENT
BEGIN:VEVENT
DTSTART;TZID=America/Los_Angeles:20281121T180000
DTEND;TZID=America/Los_Angeles:20281121T190000
DTSTAMP:20260423T133651
CREATED:20250424T182008Z
LAST-MODIFIED:20250424T182008Z
UID:10000350-1858442400-1858446000@www.lvcentraloffice.org
SUMMARY:H&I Committee Meeting
DESCRIPTION:
URL:https://www.lvcentraloffice.org/event/hi-committee-meeting/2028-11-21/
LOCATION:Central Office Meeting Room\, 1515 E Tropicana Ave\, Suite 710\, Las Vegas\, NV\, 89119\, United States
END:VEVENT
BEGIN:VEVENT
DTSTART;TZID=America/Los_Angeles:20281122T170000
DTEND;TZID=America/Los_Angeles:20281122T180000
DTSTAMP:20260423T133651
CREATED:20250604T213851Z
LAST-MODIFIED:20250604T213851Z
UID:10003142-1858525200-1858528800@www.lvcentraloffice.org
SUMMARY:Public Information Committee Meeting
DESCRIPTION:
URL:https://www.lvcentraloffice.org/event/public-information-committee-meeting/2028-11-22/
LOCATION:Central Office Meeting Room\, 1515 E Tropicana Ave\, Suite 710\, Las Vegas\, NV\, 89119\, United States
END:VEVENT
BEGIN:VEVENT
DTSTART;TZID=America/Los_Angeles:20281123T190000
DTEND;TZID=America/Los_Angeles:20281123T200000
DTSTAMP:20260423T133651
CREATED:20250424T212353Z
LAST-MODIFIED:20250424T212353Z
UID:10001239-1858618800-1858622400@www.lvcentraloffice.org
SUMMARY:D21 General Service Meeting
DESCRIPTION:
URL:https://www.lvcentraloffice.org/event/d21-general-service-meeting/2028-11-23/
LOCATION:D21 meeting place\, 1401 North Decatur Blvd\, Suite 19\, Las Vegas\, NV\, 89108\, United States
END:VEVENT
BEGIN:VEVENT
DTSTART;TZID=America/Los_Angeles:20281124T090000
DTEND;TZID=America/Los_Angeles:20281124T130000
DTSTAMP:20260423T133651
CREATED:20260323T165052Z
LAST-MODIFIED:20260323T203718Z
UID:10004407-1858669200-1858683600@www.lvcentraloffice.org
SUMMARY:Archive Committee Meeting
DESCRIPTION:Archives Meetings Flyer
URL:https://www.lvcentraloffice.org/event/archive-committee-meeting-2-2/2028-11-24/
LOCATION:Central Office Meeting Room\, 1515 E Tropicana Ave\, Suite 710\, Las Vegas\, NV\, 89119\, United States
END:VEVENT
BEGIN:VEVENT
DTSTART;TZID=America/Los_Angeles:20281126T180000
DTEND;TZID=America/Los_Angeles:20281126T190000
DTSTAMP:20260423T133651
CREATED:20250527T171424Z
LAST-MODIFIED:20250804T192231Z
UID:10001434-1858874400-1858878000@www.lvcentraloffice.org
SUMMARY:The Traditions and Concepts Presentation
DESCRIPTION:Geared to help General Service Reps \nZoom Meeting ID: 653 006 6012 \nPassword: 1935
URL:https://www.lvcentraloffice.org/event/the-traditions-and-concepts-presentation/2028-11-26/
LOCATION:ONLINE ONLY
END:VEVENT
BEGIN:VEVENT
DTSTART;TZID=America/Los_Angeles:20281127T190000
DTEND;TZID=America/Los_Angeles:20281127T200000
DTSTAMP:20260423T133651
CREATED:20250424T194038Z
LAST-MODIFIED:20250424T194038Z
UID:10000411-1858964400-1858968000@www.lvcentraloffice.org
SUMMARY:Accessibility/Meetings To Go Committee Meeting
DESCRIPTION:ID: 8330 643 2783   Passcode: handofaa
URL:https://www.lvcentraloffice.org/event/accessibility-meetings-to-go-committee-meeting/2028-11-27/
LOCATION:ONLINE ONLY
END:VEVENT
BEGIN:VEVENT
DTSTART;TZID=America/Los_Angeles:20281128T190000
DTEND;TZID=America/Los_Angeles:20281128T200000
DTSTAMP:20260423T133651
CREATED:20250424T195145Z
LAST-MODIFIED:20250424T195145Z
UID:10000532-1859050800-1859054400@www.lvcentraloffice.org
SUMMARY:Grapevine Committee Meeting
DESCRIPTION:ID:  863 7191 9329  Passcode: Grapevine
URL:https://www.lvcentraloffice.org/event/grapevine-committee-meeting/2028-11-28/
LOCATION:ONLINE ONLY
END:VEVENT
BEGIN:VEVENT
DTSTART;TZID=America/Los_Angeles:20281130T190000
DTEND;TZID=America/Los_Angeles:20281130T200000
DTSTAMP:20260423T133651
CREATED:20250424T212353Z
LAST-MODIFIED:20250424T212353Z
UID:10001240-1859223600-1859227200@www.lvcentraloffice.org
SUMMARY:D21 General Service Meeting
DESCRIPTION:
URL:https://www.lvcentraloffice.org/event/d21-general-service-meeting/2028-11-30/
LOCATION:D21 meeting place\, 1401 North Decatur Blvd\, Suite 19\, Las Vegas\, NV\, 89108\, United States
END:VEVENT
BEGIN:VEVENT
DTSTART;TZID=America/Los_Angeles:20281202T133000
DTEND;TZID=America/Los_Angeles:20281202T143000
DTSTAMP:20260423T133651
CREATED:20250424T174809Z
LAST-MODIFIED:20250424T211009Z
UID:10000046-1859376600-1859380200@www.lvcentraloffice.org
SUMMARY:D9 General Service Meeting
DESCRIPTION:
URL:https://www.lvcentraloffice.org/event/d9-committee-meeting/2028-12-02/
LOCATION:Central Office Meeting Room\, 1515 E Tropicana Ave\, Suite 710\, Las Vegas\, NV\, 89119\, United States
END:VEVENT
BEGIN:VEVENT
DTSTART;TZID=America/Los_Angeles:20281203T133000
DTEND;TZID=America/Los_Angeles:20281203T143000
DTSTAMP:20260423T133651
CREATED:20250424T175052Z
LAST-MODIFIED:20250722T222356Z
UID:10000107-1859463000-1859466600@www.lvcentraloffice.org
SUMMARY:LVYPAA Committee Meeting
DESCRIPTION:
URL:https://www.lvcentraloffice.org/event/lvypa-committee-meeting/2028-12-03/
LOCATION:Central Office Meeting Room\, 1515 E Tropicana Ave\, Suite 710\, Las Vegas\, NV\, 89119\, United States
END:VEVENT
BEGIN:VEVENT
DTSTART;TZID=America/Los_Angeles:20281206T183000
DTEND;TZID=America/Los_Angeles:20281206T193000
DTSTAMP:20260423T133651
CREATED:20250424T212109Z
LAST-MODIFIED:20250424T212109Z
UID:10001036-1859740200-1859743800@www.lvcentraloffice.org
SUMMARY:District 17 General Service Meeting
DESCRIPTION:
URL:https://www.lvcentraloffice.org/event/district-17-general-service-meeting/2028-12-06/
LOCATION:Desert View Hospital Conference Room\, 360 S Lola Ln\, Pahrump\, NV\, 89048\, United States
END:VEVENT
BEGIN:VEVENT
DTSTART;TZID=America/Los_Angeles:20281207T190000
DTEND;TZID=America/Los_Angeles:20281207T200000
DTSTAMP:20260423T133651
CREATED:20250424T212353Z
LAST-MODIFIED:20250424T212353Z
UID:10001241-1859828400-1859832000@www.lvcentraloffice.org
SUMMARY:D21 General Service Meeting
DESCRIPTION:
URL:https://www.lvcentraloffice.org/event/d21-general-service-meeting/2028-12-07/
LOCATION:D21 meeting place\, 1401 North Decatur Blvd\, Suite 19\, Las Vegas\, NV\, 89108\, United States
END:VEVENT
BEGIN:VEVENT
DTSTART;TZID=America/Los_Angeles:20281209T131500
DTEND;TZID=America/Los_Angeles:20281209T141500
DTSTAMP:20260423T133651
CREATED:20250424T210244Z
LAST-MODIFIED:20250424T210244Z
UID:10000856-1859980500-1859984100@www.lvcentraloffice.org
SUMMARY:District 5B General Service Meeting
DESCRIPTION:
URL:https://www.lvcentraloffice.org/event/district-5b-general-service-meeting/2028-12-09/
LOCATION:Keep Coming Back Club\, 5717 W Alexander Rd Ste 145\, Las Vegas\, NV\, 89130\, United States
END:VEVENT
BEGIN:VEVENT
DTSTART;TZID=America/Los_Angeles:20281210T094500
DTEND;TZID=America/Los_Angeles:20281210T104500
DTSTAMP:20260423T133651
CREATED:20250424T211729Z
LAST-MODIFIED:20250424T211729Z
UID:10000976-1860054300-1860057900@www.lvcentraloffice.org
SUMMARY:D15 General Service Meeting
DESCRIPTION:
URL:https://www.lvcentraloffice.org/event/d15-general-service-meeting/2028-12-10/
LOCATION:TIE Club\, 329 North 11th Street\, Las Vegas\, NV\, 89101\, United States
END:VEVENT
BEGIN:VEVENT
DTSTART;TZID=America/Los_Angeles:20281211T163000
DTEND;TZID=America/Los_Angeles:20281211T173000
DTSTAMP:20260423T133651
CREATED:20250424T194307Z
LAST-MODIFIED:20250424T194307Z
UID:10000472-1860165000-1860168600@www.lvcentraloffice.org
SUMMARY:CPC Committee Meeting
DESCRIPTION:ID: 869 7461 4930   Passcode: Serenity
URL:https://www.lvcentraloffice.org/event/cpc-committee-meeting/2028-12-11/
LOCATION:ONLINE ONLY
END:VEVENT
END:VCALENDAR