BEGIN:VCALENDAR
VERSION:2.0
PRODID:-//Las Vegas Central Office for Alcoholics Anonymous - ECPv6.15.20//NONSGML v1.0//EN
CALSCALE:GREGORIAN
METHOD:PUBLISH
X-WR-CALNAME:Las Vegas Central Office for Alcoholics Anonymous
X-ORIGINAL-URL:https://www.lvcentraloffice.org
X-WR-CALDESC:Events for Las Vegas Central Office for Alcoholics Anonymous
REFRESH-INTERVAL;VALUE=DURATION:PT1H
X-Robots-Tag:noindex
X-PUBLISHED-TTL:PT1H
BEGIN:VTIMEZONE
TZID:America/Los_Angeles
BEGIN:DAYLIGHT
TZOFFSETFROM:-0800
TZOFFSETTO:-0700
TZNAME:PDT
DTSTART:20270314T100000
END:DAYLIGHT
BEGIN:STANDARD
TZOFFSETFROM:-0700
TZOFFSETTO:-0800
TZNAME:PST
DTSTART:20271107T090000
END:STANDARD
BEGIN:DAYLIGHT
TZOFFSETFROM:-0800
TZOFFSETTO:-0700
TZNAME:PDT
DTSTART:20280312T100000
END:DAYLIGHT
BEGIN:STANDARD
TZOFFSETFROM:-0700
TZOFFSETTO:-0800
TZNAME:PST
DTSTART:20281105T090000
END:STANDARD
BEGIN:DAYLIGHT
TZOFFSETFROM:-0800
TZOFFSETTO:-0700
TZNAME:PDT
DTSTART:20290311T100000
END:DAYLIGHT
BEGIN:STANDARD
TZOFFSETFROM:-0700
TZOFFSETTO:-0800
TZNAME:PST
DTSTART:20291104T090000
END:STANDARD
END:VTIMEZONE
BEGIN:VEVENT
DTSTART;TZID=America/Los_Angeles:20280806T133000
DTEND;TZID=America/Los_Angeles:20280806T143000
DTSTAMP:20260423T042414
CREATED:20250424T175052Z
LAST-MODIFIED:20250722T222356Z
UID:10000103-1849181400-1849185000@www.lvcentraloffice.org
SUMMARY:LVYPAA Committee Meeting
DESCRIPTION:
URL:https://www.lvcentraloffice.org/event/lvypa-committee-meeting/2028-08-06/
LOCATION:Central Office Meeting Room\, 1515 E Tropicana Ave\, Suite 710\, Las Vegas\, NV\, 89119\, United States
END:VEVENT
BEGIN:VEVENT
DTSTART;TZID=America/Los_Angeles:20280810T190000
DTEND;TZID=America/Los_Angeles:20280810T200000
DTSTAMP:20260423T042414
CREATED:20250424T212353Z
LAST-MODIFIED:20250424T212353Z
UID:10001224-1849546800-1849550400@www.lvcentraloffice.org
SUMMARY:D21 General Service Meeting
DESCRIPTION:
URL:https://www.lvcentraloffice.org/event/d21-general-service-meeting/2028-08-10/
LOCATION:D21 meeting place\, 1401 North Decatur Blvd\, Suite 19\, Las Vegas\, NV\, 89108\, United States
END:VEVENT
BEGIN:VEVENT
DTSTART;TZID=America/Los_Angeles:20280812T131500
DTEND;TZID=America/Los_Angeles:20280812T141500
DTSTAMP:20260423T042414
CREATED:20250424T210244Z
LAST-MODIFIED:20250424T210244Z
UID:10000852-1849698900-1849702500@www.lvcentraloffice.org
SUMMARY:District 5B General Service Meeting
DESCRIPTION:
URL:https://www.lvcentraloffice.org/event/district-5b-general-service-meeting/2028-08-12/
LOCATION:Keep Coming Back Club\, 5717 W Alexander Rd Ste 145\, Las Vegas\, NV\, 89130\, United States
END:VEVENT
BEGIN:VEVENT
DTSTART;TZID=America/Los_Angeles:20280813T094500
DTEND;TZID=America/Los_Angeles:20280813T104500
DTSTAMP:20260423T042414
CREATED:20250424T211729Z
LAST-MODIFIED:20250424T211729Z
UID:10000972-1849772700-1849776300@www.lvcentraloffice.org
SUMMARY:D15 General Service Meeting
DESCRIPTION:
URL:https://www.lvcentraloffice.org/event/d15-general-service-meeting/2028-08-13/
LOCATION:TIE Club\, 329 North 11th Street\, Las Vegas\, NV\, 89101\, United States
END:VEVENT
BEGIN:VEVENT
DTSTART;TZID=America/Los_Angeles:20280814T163000
DTEND;TZID=America/Los_Angeles:20280814T173000
DTSTAMP:20260423T042414
CREATED:20250424T194307Z
LAST-MODIFIED:20250424T194307Z
UID:10000468-1849883400-1849887000@www.lvcentraloffice.org
SUMMARY:CPC Committee Meeting
DESCRIPTION:ID: 869 7461 4930   Passcode: Serenity
URL:https://www.lvcentraloffice.org/event/cpc-committee-meeting/2028-08-14/
LOCATION:ONLINE ONLY
END:VEVENT
BEGIN:VEVENT
DTSTART;TZID=America/Los_Angeles:20280814T180000
DTEND;TZID=America/Los_Angeles:20280814T190000
DTSTAMP:20260423T042414
CREATED:20250424T175208Z
LAST-MODIFIED:20250424T180936Z
UID:10000163-1849888800-1849892400@www.lvcentraloffice.org
SUMMARY:Intergroup Meeting
DESCRIPTION:Zoom Information: \nMeeting ID: 95812571807 Pass Code: 710AA  \n 
URL:https://www.lvcentraloffice.org/event/intergroup-meeting/2028-08-14/
LOCATION:Central Office Meeting Room\, 1515 E Tropicana Ave\, Suite 710\, Las Vegas\, NV\, 89119\, United States
END:VEVENT
BEGIN:VEVENT
DTSTART;TZID=America/Los_Angeles:20280815T173000
DTEND;TZID=America/Los_Angeles:20280815T175000
DTSTAMP:20260423T042414
CREATED:20250424T180028Z
LAST-MODIFIED:20250424T180028Z
UID:10000284-1849973400-1849974600@www.lvcentraloffice.org
SUMMARY:H&I Committee Orientation
DESCRIPTION:
URL:https://www.lvcentraloffice.org/event/hi-committee-orientation/2028-08-15/
LOCATION:Central Office Meeting Room\, 1515 E Tropicana Ave\, Suite 710\, Las Vegas\, NV\, 89119\, United States
END:VEVENT
BEGIN:VEVENT
DTSTART;TZID=America/Los_Angeles:20280815T180000
DTEND;TZID=America/Los_Angeles:20280815T190000
DTSTAMP:20260423T042414
CREATED:20250424T182008Z
LAST-MODIFIED:20250424T182008Z
UID:10000347-1849975200-1849978800@www.lvcentraloffice.org
SUMMARY:H&I Committee Meeting
DESCRIPTION:
URL:https://www.lvcentraloffice.org/event/hi-committee-meeting/2028-08-15/
LOCATION:Central Office Meeting Room\, 1515 E Tropicana Ave\, Suite 710\, Las Vegas\, NV\, 89119\, United States
END:VEVENT
BEGIN:VEVENT
DTSTART;TZID=America/Los_Angeles:20280817T190000
DTEND;TZID=America/Los_Angeles:20280817T200000
DTSTAMP:20260423T042414
CREATED:20250424T212353Z
LAST-MODIFIED:20250424T212353Z
UID:10001225-1850151600-1850155200@www.lvcentraloffice.org
SUMMARY:D21 General Service Meeting
DESCRIPTION:
URL:https://www.lvcentraloffice.org/event/d21-general-service-meeting/2028-08-17/
LOCATION:D21 meeting place\, 1401 North Decatur Blvd\, Suite 19\, Las Vegas\, NV\, 89108\, United States
END:VEVENT
BEGIN:VEVENT
DTSTART;TZID=America/Los_Angeles:20280819T103000
DTEND;TZID=America/Los_Angeles:20280819T140000
DTSTAMP:20260423T042414
CREATED:20260323T165914Z
LAST-MODIFIED:20260413T184320Z
UID:10004463-1850293800-1850306400@www.lvcentraloffice.org
SUMMARY:Archives Virtual Committee Meeting
DESCRIPTION:Archives Meetings Flyer \nMEETING ID: 867 1631 4717\nPasscode: Archives42
URL:https://www.lvcentraloffice.org/event/archives-virtual-committee-meeting/2028-08-19/
LOCATION:
END:VEVENT
BEGIN:VEVENT
DTSTART;TZID=America/Los_Angeles:20280820T100000
DTEND;TZID=America/Los_Angeles:20280820T230000
DTSTAMP:20260423T042414
CREATED:20251104T191839Z
LAST-MODIFIED:20260313T215429Z
UID:10000223-1850378400-1850425200@www.lvcentraloffice.org
SUMMARY:District 1 General Service Meeting
DESCRIPTION:
URL:https://www.lvcentraloffice.org/event/district-1-committee-meeting-2/2028-08-20/
LOCATION:Central Office Meeting Room\, 1515 E Tropicana Ave\, Suite 710\, Las Vegas\, NV\, 89119\, United States
END:VEVENT
BEGIN:VEVENT
DTSTART;TZID=America/Los_Angeles:20280820T150000
DTEND;TZID=America/Los_Angeles:20280820T160000
DTSTAMP:20260423T042414
CREATED:20250424T211456Z
LAST-MODIFIED:20250424T211456Z
UID:10000912-1850396400-1850400000@www.lvcentraloffice.org
SUMMARY:D13 General Service Meeting
DESCRIPTION:
URL:https://www.lvcentraloffice.org/event/d13-general-service-meeting/2028-08-20/
LOCATION:Triangle Club\, 4600 S. Nellis Blvd\, Las Vegas\, NV\, 89121\, United States
END:VEVENT
BEGIN:VEVENT
DTSTART;TZID=America/Los_Angeles:20280823T170000
DTEND;TZID=America/Los_Angeles:20280823T180000
DTSTAMP:20260423T042414
CREATED:20250604T213851Z
LAST-MODIFIED:20250604T213851Z
UID:10003139-1850662800-1850666400@www.lvcentraloffice.org
SUMMARY:Public Information Committee Meeting
DESCRIPTION:
URL:https://www.lvcentraloffice.org/event/public-information-committee-meeting/2028-08-23/
LOCATION:Central Office Meeting Room\, 1515 E Tropicana Ave\, Suite 710\, Las Vegas\, NV\, 89119\, United States
END:VEVENT
BEGIN:VEVENT
DTSTART;TZID=America/Los_Angeles:20280824T190000
DTEND;TZID=America/Los_Angeles:20280824T200000
DTSTAMP:20260423T042414
CREATED:20250424T212353Z
LAST-MODIFIED:20250424T212353Z
UID:10001226-1850756400-1850760000@www.lvcentraloffice.org
SUMMARY:D21 General Service Meeting
DESCRIPTION:
URL:https://www.lvcentraloffice.org/event/d21-general-service-meeting/2028-08-24/
LOCATION:D21 meeting place\, 1401 North Decatur Blvd\, Suite 19\, Las Vegas\, NV\, 89108\, United States
END:VEVENT
BEGIN:VEVENT
DTSTART;TZID=America/Los_Angeles:20280825T090000
DTEND;TZID=America/Los_Angeles:20280825T130000
DTSTAMP:20260423T042414
CREATED:20260323T165052Z
LAST-MODIFIED:20260323T203718Z
UID:10004404-1850806800-1850821200@www.lvcentraloffice.org
SUMMARY:Archive Committee Meeting
DESCRIPTION:Archives Meetings Flyer
URL:https://www.lvcentraloffice.org/event/archive-committee-meeting-2-2/2028-08-25/
LOCATION:Central Office Meeting Room\, 1515 E Tropicana Ave\, Suite 710\, Las Vegas\, NV\, 89119\, United States
END:VEVENT
BEGIN:VEVENT
DTSTART;TZID=America/Los_Angeles:20280827T180000
DTEND;TZID=America/Los_Angeles:20280827T190000
DTSTAMP:20260423T042414
CREATED:20250527T171424Z
LAST-MODIFIED:20250804T192231Z
UID:10001431-1851012000-1851015600@www.lvcentraloffice.org
SUMMARY:The Traditions and Concepts Presentation
DESCRIPTION:Geared to help General Service Reps \nZoom Meeting ID: 653 006 6012 \nPassword: 1935
URL:https://www.lvcentraloffice.org/event/the-traditions-and-concepts-presentation/2028-08-27/
LOCATION:ONLINE ONLY
END:VEVENT
BEGIN:VEVENT
DTSTART;TZID=America/Los_Angeles:20280828T190000
DTEND;TZID=America/Los_Angeles:20280828T200000
DTSTAMP:20260423T042415
CREATED:20250424T194038Z
LAST-MODIFIED:20250424T194038Z
UID:10000408-1851102000-1851105600@www.lvcentraloffice.org
SUMMARY:Accessibility/Meetings To Go Committee Meeting
DESCRIPTION:ID: 8330 643 2783   Passcode: handofaa
URL:https://www.lvcentraloffice.org/event/accessibility-meetings-to-go-committee-meeting/2028-08-28/
LOCATION:ONLINE ONLY
END:VEVENT
BEGIN:VEVENT
DTSTART;TZID=America/Los_Angeles:20280829T190000
DTEND;TZID=America/Los_Angeles:20280829T200000
DTSTAMP:20260423T042415
CREATED:20250424T195145Z
LAST-MODIFIED:20250424T195145Z
UID:10000529-1851188400-1851192000@www.lvcentraloffice.org
SUMMARY:Grapevine Committee Meeting
DESCRIPTION:ID:  863 7191 9329  Passcode: Grapevine
URL:https://www.lvcentraloffice.org/event/grapevine-committee-meeting/2028-08-29/
LOCATION:ONLINE ONLY
END:VEVENT
BEGIN:VEVENT
DTSTART;TZID=America/Los_Angeles:20280831T190000
DTEND;TZID=America/Los_Angeles:20280831T200000
DTSTAMP:20260423T042415
CREATED:20250424T212353Z
LAST-MODIFIED:20250424T212353Z
UID:10001227-1851361200-1851364800@www.lvcentraloffice.org
SUMMARY:D21 General Service Meeting
DESCRIPTION:
URL:https://www.lvcentraloffice.org/event/d21-general-service-meeting/2028-08-31/
LOCATION:D21 meeting place\, 1401 North Decatur Blvd\, Suite 19\, Las Vegas\, NV\, 89108\, United States
END:VEVENT
BEGIN:VEVENT
DTSTART;TZID=America/Los_Angeles:20280902T133000
DTEND;TZID=America/Los_Angeles:20280902T143000
DTSTAMP:20260423T042415
CREATED:20250424T174809Z
LAST-MODIFIED:20250424T211009Z
UID:10000043-1851514200-1851517800@www.lvcentraloffice.org
SUMMARY:D9 General Service Meeting
DESCRIPTION:
URL:https://www.lvcentraloffice.org/event/d9-committee-meeting/2028-09-02/
LOCATION:Central Office Meeting Room\, 1515 E Tropicana Ave\, Suite 710\, Las Vegas\, NV\, 89119\, United States
END:VEVENT
BEGIN:VEVENT
DTSTART;TZID=America/Los_Angeles:20280903T133000
DTEND;TZID=America/Los_Angeles:20280903T143000
DTSTAMP:20260423T042415
CREATED:20250424T175052Z
LAST-MODIFIED:20250722T222356Z
UID:10000104-1851600600-1851604200@www.lvcentraloffice.org
SUMMARY:LVYPAA Committee Meeting
DESCRIPTION:
URL:https://www.lvcentraloffice.org/event/lvypa-committee-meeting/2028-09-03/
LOCATION:Central Office Meeting Room\, 1515 E Tropicana Ave\, Suite 710\, Las Vegas\, NV\, 89119\, United States
END:VEVENT
BEGIN:VEVENT
DTSTART;TZID=America/Los_Angeles:20280906T183000
DTEND;TZID=America/Los_Angeles:20280906T193000
DTSTAMP:20260423T042415
CREATED:20250424T212109Z
LAST-MODIFIED:20250424T212109Z
UID:10001033-1851877800-1851881400@www.lvcentraloffice.org
SUMMARY:District 17 General Service Meeting
DESCRIPTION:
URL:https://www.lvcentraloffice.org/event/district-17-general-service-meeting/2028-09-06/
LOCATION:Desert View Hospital Conference Room\, 360 S Lola Ln\, Pahrump\, NV\, 89048\, United States
END:VEVENT
BEGIN:VEVENT
DTSTART;TZID=America/Los_Angeles:20280907T190000
DTEND;TZID=America/Los_Angeles:20280907T200000
DTSTAMP:20260423T042415
CREATED:20250424T212353Z
LAST-MODIFIED:20250424T212353Z
UID:10001228-1851966000-1851969600@www.lvcentraloffice.org
SUMMARY:D21 General Service Meeting
DESCRIPTION:
URL:https://www.lvcentraloffice.org/event/d21-general-service-meeting/2028-09-07/
LOCATION:D21 meeting place\, 1401 North Decatur Blvd\, Suite 19\, Las Vegas\, NV\, 89108\, United States
END:VEVENT
BEGIN:VEVENT
DTSTART;TZID=America/Los_Angeles:20280909T131500
DTEND;TZID=America/Los_Angeles:20280909T141500
DTSTAMP:20260423T042415
CREATED:20250424T210244Z
LAST-MODIFIED:20250424T210244Z
UID:10000853-1852118100-1852121700@www.lvcentraloffice.org
SUMMARY:District 5B General Service Meeting
DESCRIPTION:
URL:https://www.lvcentraloffice.org/event/district-5b-general-service-meeting/2028-09-09/
LOCATION:Keep Coming Back Club\, 5717 W Alexander Rd Ste 145\, Las Vegas\, NV\, 89130\, United States
END:VEVENT
BEGIN:VEVENT
DTSTART;TZID=America/Los_Angeles:20280910T094500
DTEND;TZID=America/Los_Angeles:20280910T104500
DTSTAMP:20260423T042415
CREATED:20250424T211729Z
LAST-MODIFIED:20250424T211729Z
UID:10000973-1852191900-1852195500@www.lvcentraloffice.org
SUMMARY:D15 General Service Meeting
DESCRIPTION:
URL:https://www.lvcentraloffice.org/event/d15-general-service-meeting/2028-09-10/
LOCATION:TIE Club\, 329 North 11th Street\, Las Vegas\, NV\, 89101\, United States
END:VEVENT
BEGIN:VEVENT
DTSTART;TZID=America/Los_Angeles:20280911T163000
DTEND;TZID=America/Los_Angeles:20280911T173000
DTSTAMP:20260423T042415
CREATED:20250424T194307Z
LAST-MODIFIED:20250424T194307Z
UID:10000469-1852302600-1852306200@www.lvcentraloffice.org
SUMMARY:CPC Committee Meeting
DESCRIPTION:ID: 869 7461 4930   Passcode: Serenity
URL:https://www.lvcentraloffice.org/event/cpc-committee-meeting/2028-09-11/
LOCATION:ONLINE ONLY
END:VEVENT
BEGIN:VEVENT
DTSTART;TZID=America/Los_Angeles:20280911T180000
DTEND;TZID=America/Los_Angeles:20280911T190000
DTSTAMP:20260423T042415
CREATED:20250424T175208Z
LAST-MODIFIED:20250424T180936Z
UID:10000164-1852308000-1852311600@www.lvcentraloffice.org
SUMMARY:Intergroup Meeting
DESCRIPTION:Zoom Information: \nMeeting ID: 95812571807 Pass Code: 710AA  \n 
URL:https://www.lvcentraloffice.org/event/intergroup-meeting/2028-09-11/
LOCATION:Central Office Meeting Room\, 1515 E Tropicana Ave\, Suite 710\, Las Vegas\, NV\, 89119\, United States
END:VEVENT
BEGIN:VEVENT
DTSTART;TZID=America/Los_Angeles:20280914T190000
DTEND;TZID=America/Los_Angeles:20280914T200000
DTSTAMP:20260423T042415
CREATED:20250424T212353Z
LAST-MODIFIED:20250424T212353Z
UID:10001229-1852570800-1852574400@www.lvcentraloffice.org
SUMMARY:D21 General Service Meeting
DESCRIPTION:
URL:https://www.lvcentraloffice.org/event/d21-general-service-meeting/2028-09-14/
LOCATION:D21 meeting place\, 1401 North Decatur Blvd\, Suite 19\, Las Vegas\, NV\, 89108\, United States
END:VEVENT
BEGIN:VEVENT
DTSTART;TZID=America/Los_Angeles:20280916T103000
DTEND;TZID=America/Los_Angeles:20280916T140000
DTSTAMP:20260423T042415
CREATED:20260323T165914Z
LAST-MODIFIED:20260413T184320Z
UID:10004464-1852713000-1852725600@www.lvcentraloffice.org
SUMMARY:Archives Virtual Committee Meeting
DESCRIPTION:Archives Meetings Flyer \nMEETING ID: 867 1631 4717\nPasscode: Archives42
URL:https://www.lvcentraloffice.org/event/archives-virtual-committee-meeting/2028-09-16/
LOCATION:
END:VEVENT
BEGIN:VEVENT
DTSTART;TZID=America/Los_Angeles:20280917T100000
DTEND;TZID=America/Los_Angeles:20280917T230000
DTSTAMP:20260423T042415
CREATED:20251104T191839Z
LAST-MODIFIED:20260313T215429Z
UID:10000224-1852797600-1852844400@www.lvcentraloffice.org
SUMMARY:District 1 General Service Meeting
DESCRIPTION:
URL:https://www.lvcentraloffice.org/event/district-1-committee-meeting-2/2028-09-17/
LOCATION:Central Office Meeting Room\, 1515 E Tropicana Ave\, Suite 710\, Las Vegas\, NV\, 89119\, United States
END:VEVENT
END:VCALENDAR