BEGIN:VCALENDAR
VERSION:2.0
PRODID:-//Las Vegas Central Office for Alcoholics Anonymous - ECPv6.15.20//NONSGML v1.0//EN
CALSCALE:GREGORIAN
METHOD:PUBLISH
X-WR-CALNAME:Las Vegas Central Office for Alcoholics Anonymous
X-ORIGINAL-URL:https://www.lvcentraloffice.org
X-WR-CALDESC:Events for Las Vegas Central Office for Alcoholics Anonymous
REFRESH-INTERVAL;VALUE=DURATION:PT1H
X-Robots-Tag:noindex
X-PUBLISHED-TTL:PT1H
BEGIN:VTIMEZONE
TZID:America/Los_Angeles
BEGIN:DAYLIGHT
TZOFFSETFROM:-0800
TZOFFSETTO:-0700
TZNAME:PDT
DTSTART:20270314T100000
END:DAYLIGHT
BEGIN:STANDARD
TZOFFSETFROM:-0700
TZOFFSETTO:-0800
TZNAME:PST
DTSTART:20271107T090000
END:STANDARD
BEGIN:DAYLIGHT
TZOFFSETFROM:-0800
TZOFFSETTO:-0700
TZNAME:PDT
DTSTART:20280312T100000
END:DAYLIGHT
BEGIN:STANDARD
TZOFFSETFROM:-0700
TZOFFSETTO:-0800
TZNAME:PST
DTSTART:20281105T090000
END:STANDARD
BEGIN:DAYLIGHT
TZOFFSETFROM:-0800
TZOFFSETTO:-0700
TZNAME:PDT
DTSTART:20290311T100000
END:DAYLIGHT
BEGIN:STANDARD
TZOFFSETFROM:-0700
TZOFFSETTO:-0800
TZNAME:PST
DTSTART:20291104T090000
END:STANDARD
END:VTIMEZONE
BEGIN:VEVENT
DTSTART;TZID=America/Los_Angeles:20280528T180000
DTEND;TZID=America/Los_Angeles:20280528T190000
DTSTAMP:20260422T210519
CREATED:20250527T171424Z
LAST-MODIFIED:20250804T192231Z
UID:10001428-1843149600-1843153200@www.lvcentraloffice.org
SUMMARY:The Traditions and Concepts Presentation
DESCRIPTION:Geared to help General Service Reps \nZoom Meeting ID: 653 006 6012 \nPassword: 1935
URL:https://www.lvcentraloffice.org/event/the-traditions-and-concepts-presentation/2028-05-28/
LOCATION:ONLINE ONLY
END:VEVENT
BEGIN:VEVENT
DTSTART;TZID=America/Los_Angeles:20280530T190000
DTEND;TZID=America/Los_Angeles:20280530T200000
DTSTAMP:20260422T210519
CREATED:20250424T195145Z
LAST-MODIFIED:20250424T195145Z
UID:10000526-1843326000-1843329600@www.lvcentraloffice.org
SUMMARY:Grapevine Committee Meeting
DESCRIPTION:ID:  863 7191 9329  Passcode: Grapevine
URL:https://www.lvcentraloffice.org/event/grapevine-committee-meeting/2028-05-30/
LOCATION:ONLINE ONLY
END:VEVENT
BEGIN:VEVENT
DTSTART;TZID=America/Los_Angeles:20280601T190000
DTEND;TZID=America/Los_Angeles:20280601T200000
DTSTAMP:20260422T210519
CREATED:20250424T212353Z
LAST-MODIFIED:20250424T212353Z
UID:10001214-1843498800-1843502400@www.lvcentraloffice.org
SUMMARY:D21 General Service Meeting
DESCRIPTION:
URL:https://www.lvcentraloffice.org/event/d21-general-service-meeting/2028-06-01/
LOCATION:D21 meeting place\, 1401 North Decatur Blvd\, Suite 19\, Las Vegas\, NV\, 89108\, United States
END:VEVENT
BEGIN:VEVENT
DTSTART;TZID=America/Los_Angeles:20280603T133000
DTEND;TZID=America/Los_Angeles:20280603T143000
DTSTAMP:20260422T210520
CREATED:20250424T174809Z
LAST-MODIFIED:20250424T211009Z
UID:10000040-1843651800-1843655400@www.lvcentraloffice.org
SUMMARY:D9 General Service Meeting
DESCRIPTION:
URL:https://www.lvcentraloffice.org/event/d9-committee-meeting/2028-06-03/
LOCATION:Central Office Meeting Room\, 1515 E Tropicana Ave\, Suite 710\, Las Vegas\, NV\, 89119\, United States
END:VEVENT
BEGIN:VEVENT
DTSTART;TZID=America/Los_Angeles:20280604T133000
DTEND;TZID=America/Los_Angeles:20280604T143000
DTSTAMP:20260422T210520
CREATED:20250424T175052Z
LAST-MODIFIED:20250722T222356Z
UID:10000101-1843738200-1843741800@www.lvcentraloffice.org
SUMMARY:LVYPAA Committee Meeting
DESCRIPTION:
URL:https://www.lvcentraloffice.org/event/lvypa-committee-meeting/2028-06-04/
LOCATION:Central Office Meeting Room\, 1515 E Tropicana Ave\, Suite 710\, Las Vegas\, NV\, 89119\, United States
END:VEVENT
BEGIN:VEVENT
DTSTART;TZID=America/Los_Angeles:20280607T183000
DTEND;TZID=America/Los_Angeles:20280607T193000
DTSTAMP:20260422T210520
CREATED:20250424T212109Z
LAST-MODIFIED:20250424T212109Z
UID:10001030-1844015400-1844019000@www.lvcentraloffice.org
SUMMARY:District 17 General Service Meeting
DESCRIPTION:
URL:https://www.lvcentraloffice.org/event/district-17-general-service-meeting/2028-06-07/
LOCATION:Desert View Hospital Conference Room\, 360 S Lola Ln\, Pahrump\, NV\, 89048\, United States
END:VEVENT
BEGIN:VEVENT
DTSTART;TZID=America/Los_Angeles:20280608T190000
DTEND;TZID=America/Los_Angeles:20280608T200000
DTSTAMP:20260422T210520
CREATED:20250424T212353Z
LAST-MODIFIED:20250424T212353Z
UID:10001215-1844103600-1844107200@www.lvcentraloffice.org
SUMMARY:D21 General Service Meeting
DESCRIPTION:
URL:https://www.lvcentraloffice.org/event/d21-general-service-meeting/2028-06-08/
LOCATION:D21 meeting place\, 1401 North Decatur Blvd\, Suite 19\, Las Vegas\, NV\, 89108\, United States
END:VEVENT
BEGIN:VEVENT
DTSTART;TZID=America/Los_Angeles:20280610T131500
DTEND;TZID=America/Los_Angeles:20280610T141500
DTSTAMP:20260422T210520
CREATED:20250424T210244Z
LAST-MODIFIED:20250424T210244Z
UID:10000850-1844255700-1844259300@www.lvcentraloffice.org
SUMMARY:District 5B General Service Meeting
DESCRIPTION:
URL:https://www.lvcentraloffice.org/event/district-5b-general-service-meeting/2028-06-10/
LOCATION:Keep Coming Back Club\, 5717 W Alexander Rd Ste 145\, Las Vegas\, NV\, 89130\, United States
END:VEVENT
BEGIN:VEVENT
DTSTART;TZID=America/Los_Angeles:20280611T094500
DTEND;TZID=America/Los_Angeles:20280611T104500
DTSTAMP:20260422T210520
CREATED:20250424T211729Z
LAST-MODIFIED:20250424T211729Z
UID:10000970-1844329500-1844333100@www.lvcentraloffice.org
SUMMARY:D15 General Service Meeting
DESCRIPTION:
URL:https://www.lvcentraloffice.org/event/d15-general-service-meeting/2028-06-11/
LOCATION:TIE Club\, 329 North 11th Street\, Las Vegas\, NV\, 89101\, United States
END:VEVENT
BEGIN:VEVENT
DTSTART;TZID=America/Los_Angeles:20280612T163000
DTEND;TZID=America/Los_Angeles:20280612T173000
DTSTAMP:20260422T210520
CREATED:20250424T194307Z
LAST-MODIFIED:20250424T194307Z
UID:10000466-1844440200-1844443800@www.lvcentraloffice.org
SUMMARY:CPC Committee Meeting
DESCRIPTION:ID: 869 7461 4930   Passcode: Serenity
URL:https://www.lvcentraloffice.org/event/cpc-committee-meeting/2028-06-12/
LOCATION:ONLINE ONLY
END:VEVENT
BEGIN:VEVENT
DTSTART;TZID=America/Los_Angeles:20280612T180000
DTEND;TZID=America/Los_Angeles:20280612T190000
DTSTAMP:20260422T210520
CREATED:20250424T175208Z
LAST-MODIFIED:20250424T180936Z
UID:10000161-1844445600-1844449200@www.lvcentraloffice.org
SUMMARY:Intergroup Meeting
DESCRIPTION:Zoom Information: \nMeeting ID: 95812571807 Pass Code: 710AA  \n 
URL:https://www.lvcentraloffice.org/event/intergroup-meeting/2028-06-12/
LOCATION:Central Office Meeting Room\, 1515 E Tropicana Ave\, Suite 710\, Las Vegas\, NV\, 89119\, United States
END:VEVENT
BEGIN:VEVENT
DTSTART;TZID=America/Los_Angeles:20280615T190000
DTEND;TZID=America/Los_Angeles:20280615T200000
DTSTAMP:20260422T210520
CREATED:20250424T212353Z
LAST-MODIFIED:20250424T212353Z
UID:10001216-1844708400-1844712000@www.lvcentraloffice.org
SUMMARY:D21 General Service Meeting
DESCRIPTION:
URL:https://www.lvcentraloffice.org/event/d21-general-service-meeting/2028-06-15/
LOCATION:D21 meeting place\, 1401 North Decatur Blvd\, Suite 19\, Las Vegas\, NV\, 89108\, United States
END:VEVENT
BEGIN:VEVENT
DTSTART;TZID=America/Los_Angeles:20280617T103000
DTEND;TZID=America/Los_Angeles:20280617T140000
DTSTAMP:20260422T210520
CREATED:20260323T165914Z
LAST-MODIFIED:20260413T184320Z
UID:10004461-1844850600-1844863200@www.lvcentraloffice.org
SUMMARY:Archives Virtual Committee Meeting
DESCRIPTION:Archives Meetings Flyer \nMEETING ID: 867 1631 4717\nPasscode: Archives42
URL:https://www.lvcentraloffice.org/event/archives-virtual-committee-meeting/2028-06-17/
LOCATION:
END:VEVENT
BEGIN:VEVENT
DTSTART;TZID=America/Los_Angeles:20280618T100000
DTEND;TZID=America/Los_Angeles:20280618T230000
DTSTAMP:20260422T210520
CREATED:20251104T191839Z
LAST-MODIFIED:20260313T215429Z
UID:10000221-1844935200-1844982000@www.lvcentraloffice.org
SUMMARY:District 1 General Service Meeting
DESCRIPTION:
URL:https://www.lvcentraloffice.org/event/district-1-committee-meeting-2/2028-06-18/
LOCATION:Central Office Meeting Room\, 1515 E Tropicana Ave\, Suite 710\, Las Vegas\, NV\, 89119\, United States
END:VEVENT
BEGIN:VEVENT
DTSTART;TZID=America/Los_Angeles:20280618T150000
DTEND;TZID=America/Los_Angeles:20280618T160000
DTSTAMP:20260422T210520
CREATED:20250424T211456Z
LAST-MODIFIED:20250424T211456Z
UID:10000910-1844953200-1844956800@www.lvcentraloffice.org
SUMMARY:D13 General Service Meeting
DESCRIPTION:
URL:https://www.lvcentraloffice.org/event/d13-general-service-meeting/2028-06-18/
LOCATION:Triangle Club\, 4600 S. Nellis Blvd\, Las Vegas\, NV\, 89121\, United States
END:VEVENT
BEGIN:VEVENT
DTSTART;TZID=America/Los_Angeles:20280620T173000
DTEND;TZID=America/Los_Angeles:20280620T175000
DTSTAMP:20260422T210520
CREATED:20250424T180028Z
LAST-MODIFIED:20250424T180028Z
UID:10000282-1845135000-1845136200@www.lvcentraloffice.org
SUMMARY:H&I Committee Orientation
DESCRIPTION:
URL:https://www.lvcentraloffice.org/event/hi-committee-orientation/2028-06-20/
LOCATION:Central Office Meeting Room\, 1515 E Tropicana Ave\, Suite 710\, Las Vegas\, NV\, 89119\, United States
END:VEVENT
BEGIN:VEVENT
DTSTART;TZID=America/Los_Angeles:20280620T180000
DTEND;TZID=America/Los_Angeles:20280620T190000
DTSTAMP:20260422T210520
CREATED:20250424T182008Z
LAST-MODIFIED:20250424T182008Z
UID:10000345-1845136800-1845140400@www.lvcentraloffice.org
SUMMARY:H&I Committee Meeting
DESCRIPTION:
URL:https://www.lvcentraloffice.org/event/hi-committee-meeting/2028-06-20/
LOCATION:Central Office Meeting Room\, 1515 E Tropicana Ave\, Suite 710\, Las Vegas\, NV\, 89119\, United States
END:VEVENT
BEGIN:VEVENT
DTSTART;TZID=America/Los_Angeles:20280622T190000
DTEND;TZID=America/Los_Angeles:20280622T200000
DTSTAMP:20260422T210520
CREATED:20250424T212353Z
LAST-MODIFIED:20250424T212353Z
UID:10001217-1845313200-1845316800@www.lvcentraloffice.org
SUMMARY:D21 General Service Meeting
DESCRIPTION:
URL:https://www.lvcentraloffice.org/event/d21-general-service-meeting/2028-06-22/
LOCATION:D21 meeting place\, 1401 North Decatur Blvd\, Suite 19\, Las Vegas\, NV\, 89108\, United States
END:VEVENT
BEGIN:VEVENT
DTSTART;TZID=America/Los_Angeles:20280625T180000
DTEND;TZID=America/Los_Angeles:20280625T190000
DTSTAMP:20260422T210520
CREATED:20250527T171424Z
LAST-MODIFIED:20250804T192231Z
UID:10001429-1845568800-1845572400@www.lvcentraloffice.org
SUMMARY:The Traditions and Concepts Presentation
DESCRIPTION:Geared to help General Service Reps \nZoom Meeting ID: 653 006 6012 \nPassword: 1935
URL:https://www.lvcentraloffice.org/event/the-traditions-and-concepts-presentation/2028-06-25/
LOCATION:ONLINE ONLY
END:VEVENT
BEGIN:VEVENT
DTSTART;TZID=America/Los_Angeles:20280626T190000
DTEND;TZID=America/Los_Angeles:20280626T200000
DTSTAMP:20260422T210520
CREATED:20250424T194038Z
LAST-MODIFIED:20250424T194038Z
UID:10000406-1845658800-1845662400@www.lvcentraloffice.org
SUMMARY:Accessibility/Meetings To Go Committee Meeting
DESCRIPTION:ID: 8330 643 2783   Passcode: handofaa
URL:https://www.lvcentraloffice.org/event/accessibility-meetings-to-go-committee-meeting/2028-06-26/
LOCATION:ONLINE ONLY
END:VEVENT
BEGIN:VEVENT
DTSTART;TZID=America/Los_Angeles:20280627T190000
DTEND;TZID=America/Los_Angeles:20280627T200000
DTSTAMP:20260422T210520
CREATED:20250424T195145Z
LAST-MODIFIED:20250424T195145Z
UID:10000527-1845745200-1845748800@www.lvcentraloffice.org
SUMMARY:Grapevine Committee Meeting
DESCRIPTION:ID:  863 7191 9329  Passcode: Grapevine
URL:https://www.lvcentraloffice.org/event/grapevine-committee-meeting/2028-06-27/
LOCATION:ONLINE ONLY
END:VEVENT
BEGIN:VEVENT
DTSTART;TZID=America/Los_Angeles:20280628T170000
DTEND;TZID=America/Los_Angeles:20280628T180000
DTSTAMP:20260422T210520
CREATED:20250604T213851Z
LAST-MODIFIED:20250604T213851Z
UID:10003137-1845824400-1845828000@www.lvcentraloffice.org
SUMMARY:Public Information Committee Meeting
DESCRIPTION:
URL:https://www.lvcentraloffice.org/event/public-information-committee-meeting/2028-06-28/
LOCATION:Central Office Meeting Room\, 1515 E Tropicana Ave\, Suite 710\, Las Vegas\, NV\, 89119\, United States
END:VEVENT
BEGIN:VEVENT
DTSTART;TZID=America/Los_Angeles:20280629T190000
DTEND;TZID=America/Los_Angeles:20280629T200000
DTSTAMP:20260422T210520
CREATED:20250424T212353Z
LAST-MODIFIED:20250424T212353Z
UID:10001218-1845918000-1845921600@www.lvcentraloffice.org
SUMMARY:D21 General Service Meeting
DESCRIPTION:
URL:https://www.lvcentraloffice.org/event/d21-general-service-meeting/2028-06-29/
LOCATION:D21 meeting place\, 1401 North Decatur Blvd\, Suite 19\, Las Vegas\, NV\, 89108\, United States
END:VEVENT
BEGIN:VEVENT
DTSTART;TZID=America/Los_Angeles:20280630T090000
DTEND;TZID=America/Los_Angeles:20280630T130000
DTSTAMP:20260422T210520
CREATED:20260323T165052Z
LAST-MODIFIED:20260323T203718Z
UID:10004402-1845968400-1845982800@www.lvcentraloffice.org
SUMMARY:Archive Committee Meeting
DESCRIPTION:Archives Meetings Flyer
URL:https://www.lvcentraloffice.org/event/archive-committee-meeting-2-2/2028-06-30/
LOCATION:Central Office Meeting Room\, 1515 E Tropicana Ave\, Suite 710\, Las Vegas\, NV\, 89119\, United States
END:VEVENT
BEGIN:VEVENT
DTSTART;TZID=America/Los_Angeles:20280701T133000
DTEND;TZID=America/Los_Angeles:20280701T143000
DTSTAMP:20260422T210520
CREATED:20250424T174809Z
LAST-MODIFIED:20250424T211009Z
UID:10000041-1846071000-1846074600@www.lvcentraloffice.org
SUMMARY:D9 General Service Meeting
DESCRIPTION:
URL:https://www.lvcentraloffice.org/event/d9-committee-meeting/2028-07-01/
LOCATION:Central Office Meeting Room\, 1515 E Tropicana Ave\, Suite 710\, Las Vegas\, NV\, 89119\, United States
END:VEVENT
BEGIN:VEVENT
DTSTART;TZID=America/Los_Angeles:20280702T133000
DTEND;TZID=America/Los_Angeles:20280702T143000
DTSTAMP:20260422T210520
CREATED:20250424T175052Z
LAST-MODIFIED:20250722T222356Z
UID:10000102-1846157400-1846161000@www.lvcentraloffice.org
SUMMARY:LVYPAA Committee Meeting
DESCRIPTION:
URL:https://www.lvcentraloffice.org/event/lvypa-committee-meeting/2028-07-02/
LOCATION:Central Office Meeting Room\, 1515 E Tropicana Ave\, Suite 710\, Las Vegas\, NV\, 89119\, United States
END:VEVENT
BEGIN:VEVENT
DTSTART;TZID=America/Los_Angeles:20280705T183000
DTEND;TZID=America/Los_Angeles:20280705T193000
DTSTAMP:20260422T210520
CREATED:20250424T212109Z
LAST-MODIFIED:20250424T212109Z
UID:10001031-1846434600-1846438200@www.lvcentraloffice.org
SUMMARY:District 17 General Service Meeting
DESCRIPTION:
URL:https://www.lvcentraloffice.org/event/district-17-general-service-meeting/2028-07-05/
LOCATION:Desert View Hospital Conference Room\, 360 S Lola Ln\, Pahrump\, NV\, 89048\, United States
END:VEVENT
BEGIN:VEVENT
DTSTART;TZID=America/Los_Angeles:20280706T190000
DTEND;TZID=America/Los_Angeles:20280706T200000
DTSTAMP:20260422T210520
CREATED:20250424T212353Z
LAST-MODIFIED:20250424T212353Z
UID:10001219-1846522800-1846526400@www.lvcentraloffice.org
SUMMARY:D21 General Service Meeting
DESCRIPTION:
URL:https://www.lvcentraloffice.org/event/d21-general-service-meeting/2028-07-06/
LOCATION:D21 meeting place\, 1401 North Decatur Blvd\, Suite 19\, Las Vegas\, NV\, 89108\, United States
END:VEVENT
BEGIN:VEVENT
DTSTART;TZID=America/Los_Angeles:20280708T131500
DTEND;TZID=America/Los_Angeles:20280708T141500
DTSTAMP:20260422T210520
CREATED:20250424T210244Z
LAST-MODIFIED:20250424T210244Z
UID:10000851-1846674900-1846678500@www.lvcentraloffice.org
SUMMARY:District 5B General Service Meeting
DESCRIPTION:
URL:https://www.lvcentraloffice.org/event/district-5b-general-service-meeting/2028-07-08/
LOCATION:Keep Coming Back Club\, 5717 W Alexander Rd Ste 145\, Las Vegas\, NV\, 89130\, United States
END:VEVENT
BEGIN:VEVENT
DTSTART;TZID=America/Los_Angeles:20280709T094500
DTEND;TZID=America/Los_Angeles:20280709T104500
DTSTAMP:20260422T210520
CREATED:20250424T211729Z
LAST-MODIFIED:20250424T211729Z
UID:10000971-1846748700-1846752300@www.lvcentraloffice.org
SUMMARY:D15 General Service Meeting
DESCRIPTION:
URL:https://www.lvcentraloffice.org/event/d15-general-service-meeting/2028-07-09/
LOCATION:TIE Club\, 329 North 11th Street\, Las Vegas\, NV\, 89101\, United States
END:VEVENT
END:VCALENDAR