BEGIN:VCALENDAR
VERSION:2.0
PRODID:-//Las Vegas Central Office for Alcoholics Anonymous - ECPv6.15.20//NONSGML v1.0//EN
CALSCALE:GREGORIAN
METHOD:PUBLISH
X-WR-CALNAME:Las Vegas Central Office for Alcoholics Anonymous
X-ORIGINAL-URL:https://www.lvcentraloffice.org
X-WR-CALDESC:Events for Las Vegas Central Office for Alcoholics Anonymous
REFRESH-INTERVAL;VALUE=DURATION:PT1H
X-Robots-Tag:noindex
X-PUBLISHED-TTL:PT1H
BEGIN:VTIMEZONE
TZID:America/Los_Angeles
BEGIN:DAYLIGHT
TZOFFSETFROM:-0800
TZOFFSETTO:-0700
TZNAME:PDT
DTSTART:20270314T100000
END:DAYLIGHT
BEGIN:STANDARD
TZOFFSETFROM:-0700
TZOFFSETTO:-0800
TZNAME:PST
DTSTART:20271107T090000
END:STANDARD
BEGIN:DAYLIGHT
TZOFFSETFROM:-0800
TZOFFSETTO:-0700
TZNAME:PDT
DTSTART:20280312T100000
END:DAYLIGHT
BEGIN:STANDARD
TZOFFSETFROM:-0700
TZOFFSETTO:-0800
TZNAME:PST
DTSTART:20281105T090000
END:STANDARD
BEGIN:DAYLIGHT
TZOFFSETFROM:-0800
TZOFFSETTO:-0700
TZNAME:PDT
DTSTART:20290311T100000
END:DAYLIGHT
BEGIN:STANDARD
TZOFFSETFROM:-0700
TZOFFSETTO:-0800
TZNAME:PST
DTSTART:20291104T090000
END:STANDARD
END:VTIMEZONE
BEGIN:VEVENT
DTSTART;TZID=America/Los_Angeles:20280408T131500
DTEND;TZID=America/Los_Angeles:20280408T141500
DTSTAMP:20260422T152911
CREATED:20250424T210244Z
LAST-MODIFIED:20250424T210244Z
UID:10000848-1838812500-1838816100@www.lvcentraloffice.org
SUMMARY:District 5B General Service Meeting
DESCRIPTION:
URL:https://www.lvcentraloffice.org/event/district-5b-general-service-meeting/2028-04-08/
LOCATION:Keep Coming Back Club\, 5717 W Alexander Rd Ste 145\, Las Vegas\, NV\, 89130\, United States
END:VEVENT
BEGIN:VEVENT
DTSTART;TZID=America/Los_Angeles:20280409T094500
DTEND;TZID=America/Los_Angeles:20280409T104500
DTSTAMP:20260422T152911
CREATED:20250424T211729Z
LAST-MODIFIED:20250424T211729Z
UID:10000968-1838886300-1838889900@www.lvcentraloffice.org
SUMMARY:D15 General Service Meeting
DESCRIPTION:
URL:https://www.lvcentraloffice.org/event/d15-general-service-meeting/2028-04-09/
LOCATION:TIE Club\, 329 North 11th Street\, Las Vegas\, NV\, 89101\, United States
END:VEVENT
BEGIN:VEVENT
DTSTART;TZID=America/Los_Angeles:20280410T163000
DTEND;TZID=America/Los_Angeles:20280410T173000
DTSTAMP:20260422T152911
CREATED:20250424T194307Z
LAST-MODIFIED:20250424T194307Z
UID:10000464-1838997000-1839000600@www.lvcentraloffice.org
SUMMARY:CPC Committee Meeting
DESCRIPTION:ID: 869 7461 4930   Passcode: Serenity
URL:https://www.lvcentraloffice.org/event/cpc-committee-meeting/2028-04-10/
LOCATION:ONLINE ONLY
END:VEVENT
BEGIN:VEVENT
DTSTART;TZID=America/Los_Angeles:20280410T180000
DTEND;TZID=America/Los_Angeles:20280410T190000
DTSTAMP:20260422T152911
CREATED:20250424T175208Z
LAST-MODIFIED:20250424T180936Z
UID:10000159-1839002400-1839006000@www.lvcentraloffice.org
SUMMARY:Intergroup Meeting
DESCRIPTION:Zoom Information: \nMeeting ID: 95812571807 Pass Code: 710AA  \n 
URL:https://www.lvcentraloffice.org/event/intergroup-meeting/2028-04-10/
LOCATION:Central Office Meeting Room\, 1515 E Tropicana Ave\, Suite 710\, Las Vegas\, NV\, 89119\, United States
END:VEVENT
BEGIN:VEVENT
DTSTART;TZID=America/Los_Angeles:20280413T190000
DTEND;TZID=America/Los_Angeles:20280413T200000
DTSTAMP:20260422T152911
CREATED:20250424T212353Z
LAST-MODIFIED:20250424T212353Z
UID:10001207-1839265200-1839268800@www.lvcentraloffice.org
SUMMARY:D21 General Service Meeting
DESCRIPTION:
URL:https://www.lvcentraloffice.org/event/d21-general-service-meeting/2028-04-13/
LOCATION:D21 meeting place\, 1401 North Decatur Blvd\, Suite 19\, Las Vegas\, NV\, 89108\, United States
END:VEVENT
BEGIN:VEVENT
DTSTART;TZID=America/Los_Angeles:20280415T103000
DTEND;TZID=America/Los_Angeles:20280415T140000
DTSTAMP:20260422T152911
CREATED:20260323T165914Z
LAST-MODIFIED:20260413T184320Z
UID:10004459-1839407400-1839420000@www.lvcentraloffice.org
SUMMARY:Archives Virtual Committee Meeting
DESCRIPTION:Archives Meetings Flyer \nMEETING ID: 867 1631 4717\nPasscode: Archives42
URL:https://www.lvcentraloffice.org/event/archives-virtual-committee-meeting/2028-04-15/
LOCATION:
END:VEVENT
BEGIN:VEVENT
DTSTART;TZID=America/Los_Angeles:20280416T100000
DTEND;TZID=America/Los_Angeles:20280416T230000
DTSTAMP:20260422T152911
CREATED:20251104T191839Z
LAST-MODIFIED:20260313T215429Z
UID:10000219-1839492000-1839538800@www.lvcentraloffice.org
SUMMARY:District 1 General Service Meeting
DESCRIPTION:
URL:https://www.lvcentraloffice.org/event/district-1-committee-meeting-2/2028-04-16/
LOCATION:Central Office Meeting Room\, 1515 E Tropicana Ave\, Suite 710\, Las Vegas\, NV\, 89119\, United States
END:VEVENT
BEGIN:VEVENT
DTSTART;TZID=America/Los_Angeles:20280416T150000
DTEND;TZID=America/Los_Angeles:20280416T160000
DTSTAMP:20260422T152911
CREATED:20250424T211456Z
LAST-MODIFIED:20250424T211456Z
UID:10000908-1839510000-1839513600@www.lvcentraloffice.org
SUMMARY:D13 General Service Meeting
DESCRIPTION:
URL:https://www.lvcentraloffice.org/event/d13-general-service-meeting/2028-04-16/
LOCATION:Triangle Club\, 4600 S. Nellis Blvd\, Las Vegas\, NV\, 89121\, United States
END:VEVENT
BEGIN:VEVENT
DTSTART;TZID=America/Los_Angeles:20280418T173000
DTEND;TZID=America/Los_Angeles:20280418T175000
DTSTAMP:20260422T152911
CREATED:20250424T180028Z
LAST-MODIFIED:20250424T180028Z
UID:10000280-1839691800-1839693000@www.lvcentraloffice.org
SUMMARY:H&I Committee Orientation
DESCRIPTION:
URL:https://www.lvcentraloffice.org/event/hi-committee-orientation/2028-04-18/
LOCATION:Central Office Meeting Room\, 1515 E Tropicana Ave\, Suite 710\, Las Vegas\, NV\, 89119\, United States
END:VEVENT
BEGIN:VEVENT
DTSTART;TZID=America/Los_Angeles:20280418T180000
DTEND;TZID=America/Los_Angeles:20280418T190000
DTSTAMP:20260422T152911
CREATED:20250424T182008Z
LAST-MODIFIED:20250424T182008Z
UID:10000343-1839693600-1839697200@www.lvcentraloffice.org
SUMMARY:H&I Committee Meeting
DESCRIPTION:
URL:https://www.lvcentraloffice.org/event/hi-committee-meeting/2028-04-18/
LOCATION:Central Office Meeting Room\, 1515 E Tropicana Ave\, Suite 710\, Las Vegas\, NV\, 89119\, United States
END:VEVENT
BEGIN:VEVENT
DTSTART;TZID=America/Los_Angeles:20280420T190000
DTEND;TZID=America/Los_Angeles:20280420T200000
DTSTAMP:20260422T152911
CREATED:20250424T212353Z
LAST-MODIFIED:20250424T212353Z
UID:10001208-1839870000-1839873600@www.lvcentraloffice.org
SUMMARY:D21 General Service Meeting
DESCRIPTION:
URL:https://www.lvcentraloffice.org/event/d21-general-service-meeting/2028-04-20/
LOCATION:D21 meeting place\, 1401 North Decatur Blvd\, Suite 19\, Las Vegas\, NV\, 89108\, United States
END:VEVENT
BEGIN:VEVENT
DTSTART;TZID=America/Los_Angeles:20280424T190000
DTEND;TZID=America/Los_Angeles:20280424T200000
DTSTAMP:20260422T152911
CREATED:20250424T194038Z
LAST-MODIFIED:20250424T194038Z
UID:10000404-1840215600-1840219200@www.lvcentraloffice.org
SUMMARY:Accessibility/Meetings To Go Committee Meeting
DESCRIPTION:ID: 8330 643 2783   Passcode: handofaa
URL:https://www.lvcentraloffice.org/event/accessibility-meetings-to-go-committee-meeting/2028-04-24/
LOCATION:ONLINE ONLY
END:VEVENT
BEGIN:VEVENT
DTSTART;TZID=America/Los_Angeles:20280425T190000
DTEND;TZID=America/Los_Angeles:20280425T200000
DTSTAMP:20260422T152911
CREATED:20250424T195145Z
LAST-MODIFIED:20250424T195145Z
UID:10000525-1840302000-1840305600@www.lvcentraloffice.org
SUMMARY:Grapevine Committee Meeting
DESCRIPTION:ID:  863 7191 9329  Passcode: Grapevine
URL:https://www.lvcentraloffice.org/event/grapevine-committee-meeting/2028-04-25/
LOCATION:ONLINE ONLY
END:VEVENT
BEGIN:VEVENT
DTSTART;TZID=America/Los_Angeles:20280426T170000
DTEND;TZID=America/Los_Angeles:20280426T180000
DTSTAMP:20260422T152911
CREATED:20250604T213851Z
LAST-MODIFIED:20250604T213851Z
UID:10003135-1840381200-1840384800@www.lvcentraloffice.org
SUMMARY:Public Information Committee Meeting
DESCRIPTION:
URL:https://www.lvcentraloffice.org/event/public-information-committee-meeting/2028-04-26/
LOCATION:Central Office Meeting Room\, 1515 E Tropicana Ave\, Suite 710\, Las Vegas\, NV\, 89119\, United States
END:VEVENT
BEGIN:VEVENT
DTSTART;TZID=America/Los_Angeles:20280427T190000
DTEND;TZID=America/Los_Angeles:20280427T200000
DTSTAMP:20260422T152911
CREATED:20250424T212353Z
LAST-MODIFIED:20250424T212353Z
UID:10001209-1840474800-1840478400@www.lvcentraloffice.org
SUMMARY:D21 General Service Meeting
DESCRIPTION:
URL:https://www.lvcentraloffice.org/event/d21-general-service-meeting/2028-04-27/
LOCATION:D21 meeting place\, 1401 North Decatur Blvd\, Suite 19\, Las Vegas\, NV\, 89108\, United States
END:VEVENT
BEGIN:VEVENT
DTSTART;TZID=America/Los_Angeles:20280428T090000
DTEND;TZID=America/Los_Angeles:20280428T130000
DTSTAMP:20260422T152911
CREATED:20260323T165052Z
LAST-MODIFIED:20260323T203718Z
UID:10004400-1840525200-1840539600@www.lvcentraloffice.org
SUMMARY:Archive Committee Meeting
DESCRIPTION:Archives Meetings Flyer
URL:https://www.lvcentraloffice.org/event/archive-committee-meeting-2-2/2028-04-28/
LOCATION:Central Office Meeting Room\, 1515 E Tropicana Ave\, Suite 710\, Las Vegas\, NV\, 89119\, United States
END:VEVENT
BEGIN:VEVENT
DTSTART;TZID=America/Los_Angeles:20280430T180000
DTEND;TZID=America/Los_Angeles:20280430T190000
DTSTAMP:20260422T152911
CREATED:20250527T171424Z
LAST-MODIFIED:20250804T192231Z
UID:10001427-1840730400-1840734000@www.lvcentraloffice.org
SUMMARY:The Traditions and Concepts Presentation
DESCRIPTION:Geared to help General Service Reps \nZoom Meeting ID: 653 006 6012 \nPassword: 1935
URL:https://www.lvcentraloffice.org/event/the-traditions-and-concepts-presentation/2028-04-30/
LOCATION:ONLINE ONLY
END:VEVENT
BEGIN:VEVENT
DTSTART;TZID=America/Los_Angeles:20280503T183000
DTEND;TZID=America/Los_Angeles:20280503T193000
DTSTAMP:20260422T152911
CREATED:20250424T212109Z
LAST-MODIFIED:20250424T212109Z
UID:10001029-1840991400-1840995000@www.lvcentraloffice.org
SUMMARY:District 17 General Service Meeting
DESCRIPTION:
URL:https://www.lvcentraloffice.org/event/district-17-general-service-meeting/2028-05-03/
LOCATION:Desert View Hospital Conference Room\, 360 S Lola Ln\, Pahrump\, NV\, 89048\, United States
END:VEVENT
BEGIN:VEVENT
DTSTART;TZID=America/Los_Angeles:20280504T190000
DTEND;TZID=America/Los_Angeles:20280504T200000
DTSTAMP:20260422T152911
CREATED:20250424T212353Z
LAST-MODIFIED:20250424T212353Z
UID:10001210-1841079600-1841083200@www.lvcentraloffice.org
SUMMARY:D21 General Service Meeting
DESCRIPTION:
URL:https://www.lvcentraloffice.org/event/d21-general-service-meeting/2028-05-04/
LOCATION:D21 meeting place\, 1401 North Decatur Blvd\, Suite 19\, Las Vegas\, NV\, 89108\, United States
END:VEVENT
BEGIN:VEVENT
DTSTART;TZID=America/Los_Angeles:20280506T133000
DTEND;TZID=America/Los_Angeles:20280506T143000
DTSTAMP:20260422T152911
CREATED:20250424T174809Z
LAST-MODIFIED:20250424T211009Z
UID:10000039-1841232600-1841236200@www.lvcentraloffice.org
SUMMARY:D9 General Service Meeting
DESCRIPTION:
URL:https://www.lvcentraloffice.org/event/d9-committee-meeting/2028-05-06/
LOCATION:Central Office Meeting Room\, 1515 E Tropicana Ave\, Suite 710\, Las Vegas\, NV\, 89119\, United States
END:VEVENT
BEGIN:VEVENT
DTSTART;TZID=America/Los_Angeles:20280507T133000
DTEND;TZID=America/Los_Angeles:20280507T143000
DTSTAMP:20260422T152911
CREATED:20250424T175052Z
LAST-MODIFIED:20250722T222356Z
UID:10000100-1841319000-1841322600@www.lvcentraloffice.org
SUMMARY:LVYPAA Committee Meeting
DESCRIPTION:
URL:https://www.lvcentraloffice.org/event/lvypa-committee-meeting/2028-05-07/
LOCATION:Central Office Meeting Room\, 1515 E Tropicana Ave\, Suite 710\, Las Vegas\, NV\, 89119\, United States
END:VEVENT
BEGIN:VEVENT
DTSTART;TZID=America/Los_Angeles:20280508T163000
DTEND;TZID=America/Los_Angeles:20280508T173000
DTSTAMP:20260422T152911
CREATED:20250424T194307Z
LAST-MODIFIED:20250424T194307Z
UID:10000465-1841416200-1841419800@www.lvcentraloffice.org
SUMMARY:CPC Committee Meeting
DESCRIPTION:ID: 869 7461 4930   Passcode: Serenity
URL:https://www.lvcentraloffice.org/event/cpc-committee-meeting/2028-05-08/
LOCATION:ONLINE ONLY
END:VEVENT
BEGIN:VEVENT
DTSTART;TZID=America/Los_Angeles:20280508T180000
DTEND;TZID=America/Los_Angeles:20280508T190000
DTSTAMP:20260422T152911
CREATED:20250424T175208Z
LAST-MODIFIED:20250424T180936Z
UID:10000160-1841421600-1841425200@www.lvcentraloffice.org
SUMMARY:Intergroup Meeting
DESCRIPTION:Zoom Information: \nMeeting ID: 95812571807 Pass Code: 710AA  \n 
URL:https://www.lvcentraloffice.org/event/intergroup-meeting/2028-05-08/
LOCATION:Central Office Meeting Room\, 1515 E Tropicana Ave\, Suite 710\, Las Vegas\, NV\, 89119\, United States
END:VEVENT
BEGIN:VEVENT
DTSTART;TZID=America/Los_Angeles:20280511T190000
DTEND;TZID=America/Los_Angeles:20280511T200000
DTSTAMP:20260422T152911
CREATED:20250424T212353Z
LAST-MODIFIED:20250424T212353Z
UID:10001211-1841684400-1841688000@www.lvcentraloffice.org
SUMMARY:D21 General Service Meeting
DESCRIPTION:
URL:https://www.lvcentraloffice.org/event/d21-general-service-meeting/2028-05-11/
LOCATION:D21 meeting place\, 1401 North Decatur Blvd\, Suite 19\, Las Vegas\, NV\, 89108\, United States
END:VEVENT
BEGIN:VEVENT
DTSTART;TZID=America/Los_Angeles:20280513T131500
DTEND;TZID=America/Los_Angeles:20280513T141500
DTSTAMP:20260422T152911
CREATED:20250424T210244Z
LAST-MODIFIED:20250424T210244Z
UID:10000849-1841836500-1841840100@www.lvcentraloffice.org
SUMMARY:District 5B General Service Meeting
DESCRIPTION:
URL:https://www.lvcentraloffice.org/event/district-5b-general-service-meeting/2028-05-13/
LOCATION:Keep Coming Back Club\, 5717 W Alexander Rd Ste 145\, Las Vegas\, NV\, 89130\, United States
END:VEVENT
BEGIN:VEVENT
DTSTART;TZID=America/Los_Angeles:20280514T094500
DTEND;TZID=America/Los_Angeles:20280514T104500
DTSTAMP:20260422T152911
CREATED:20250424T211729Z
LAST-MODIFIED:20250424T211729Z
UID:10000969-1841910300-1841913900@www.lvcentraloffice.org
SUMMARY:D15 General Service Meeting
DESCRIPTION:
URL:https://www.lvcentraloffice.org/event/d15-general-service-meeting/2028-05-14/
LOCATION:TIE Club\, 329 North 11th Street\, Las Vegas\, NV\, 89101\, United States
END:VEVENT
BEGIN:VEVENT
DTSTART;TZID=America/Los_Angeles:20280516T173000
DTEND;TZID=America/Los_Angeles:20280516T175000
DTSTAMP:20260422T152911
CREATED:20250424T180028Z
LAST-MODIFIED:20250424T180028Z
UID:10000281-1842111000-1842112200@www.lvcentraloffice.org
SUMMARY:H&I Committee Orientation
DESCRIPTION:
URL:https://www.lvcentraloffice.org/event/hi-committee-orientation/2028-05-16/
LOCATION:Central Office Meeting Room\, 1515 E Tropicana Ave\, Suite 710\, Las Vegas\, NV\, 89119\, United States
END:VEVENT
BEGIN:VEVENT
DTSTART;TZID=America/Los_Angeles:20280516T180000
DTEND;TZID=America/Los_Angeles:20280516T190000
DTSTAMP:20260422T152911
CREATED:20250424T182008Z
LAST-MODIFIED:20250424T182008Z
UID:10000344-1842112800-1842116400@www.lvcentraloffice.org
SUMMARY:H&I Committee Meeting
DESCRIPTION:
URL:https://www.lvcentraloffice.org/event/hi-committee-meeting/2028-05-16/
LOCATION:Central Office Meeting Room\, 1515 E Tropicana Ave\, Suite 710\, Las Vegas\, NV\, 89119\, United States
END:VEVENT
BEGIN:VEVENT
DTSTART;TZID=America/Los_Angeles:20280518T190000
DTEND;TZID=America/Los_Angeles:20280518T200000
DTSTAMP:20260422T152911
CREATED:20250424T212353Z
LAST-MODIFIED:20250424T212353Z
UID:10001212-1842289200-1842292800@www.lvcentraloffice.org
SUMMARY:D21 General Service Meeting
DESCRIPTION:
URL:https://www.lvcentraloffice.org/event/d21-general-service-meeting/2028-05-18/
LOCATION:D21 meeting place\, 1401 North Decatur Blvd\, Suite 19\, Las Vegas\, NV\, 89108\, United States
END:VEVENT
BEGIN:VEVENT
DTSTART;TZID=America/Los_Angeles:20280520T103000
DTEND;TZID=America/Los_Angeles:20280520T140000
DTSTAMP:20260422T152911
CREATED:20260323T165914Z
LAST-MODIFIED:20260413T184320Z
UID:10004460-1842431400-1842444000@www.lvcentraloffice.org
SUMMARY:Archives Virtual Committee Meeting
DESCRIPTION:Archives Meetings Flyer \nMEETING ID: 867 1631 4717\nPasscode: Archives42
URL:https://www.lvcentraloffice.org/event/archives-virtual-committee-meeting/2028-05-20/
LOCATION:
END:VEVENT
END:VCALENDAR