BEGIN:VCALENDAR
VERSION:2.0
PRODID:-//Las Vegas Central Office for Alcoholics Anonymous - ECPv6.15.20//NONSGML v1.0//EN
CALSCALE:GREGORIAN
METHOD:PUBLISH
X-ORIGINAL-URL:https://www.lvcentraloffice.org
X-WR-CALDESC:Events for Las Vegas Central Office for Alcoholics Anonymous
REFRESH-INTERVAL;VALUE=DURATION:PT1H
X-Robots-Tag:noindex
X-PUBLISHED-TTL:PT1H
BEGIN:VTIMEZONE
TZID:America/Los_Angeles
BEGIN:DAYLIGHT
TZOFFSETFROM:-0800
TZOFFSETTO:-0700
TZNAME:PDT
DTSTART:20270314T100000
END:DAYLIGHT
BEGIN:STANDARD
TZOFFSETFROM:-0700
TZOFFSETTO:-0800
TZNAME:PST
DTSTART:20271107T090000
END:STANDARD
BEGIN:DAYLIGHT
TZOFFSETFROM:-0800
TZOFFSETTO:-0700
TZNAME:PDT
DTSTART:20280312T100000
END:DAYLIGHT
BEGIN:STANDARD
TZOFFSETFROM:-0700
TZOFFSETTO:-0800
TZNAME:PST
DTSTART:20281105T090000
END:STANDARD
BEGIN:DAYLIGHT
TZOFFSETFROM:-0800
TZOFFSETTO:-0700
TZNAME:PDT
DTSTART:20290311T100000
END:DAYLIGHT
BEGIN:STANDARD
TZOFFSETFROM:-0700
TZOFFSETTO:-0800
TZNAME:PST
DTSTART:20291104T090000
END:STANDARD
END:VTIMEZONE
BEGIN:VEVENT
DTSTART;TZID=America/Los_Angeles:20280102T133000
DTEND;TZID=America/Los_Angeles:20280102T143000
DTSTAMP:20260422T200147
CREATED:20250424T175052Z
LAST-MODIFIED:20250722T222356Z
UID:10000096-1830432600-1830436200@www.lvcentraloffice.org
SUMMARY:LVYPAA Committee Meeting
DESCRIPTION:
URL:https://www.lvcentraloffice.org/event/lvypa-committee-meeting/2028-01-02/
LOCATION:Central Office Meeting Room\, 1515 E Tropicana Ave\, Suite 710\, Las Vegas\, NV\, 89119\, United States
END:VEVENT
BEGIN:VEVENT
DTSTART;TZID=America/Los_Angeles:20280105T183000
DTEND;TZID=America/Los_Angeles:20280105T193000
DTSTAMP:20260422T200147
CREATED:20250424T212109Z
LAST-MODIFIED:20250424T212109Z
UID:10001025-1830709800-1830713400@www.lvcentraloffice.org
SUMMARY:District 17 General Service Meeting
DESCRIPTION:
URL:https://www.lvcentraloffice.org/event/district-17-general-service-meeting/2028-01-05/
LOCATION:Desert View Hospital Conference Room\, 360 S Lola Ln\, Pahrump\, NV\, 89048\, United States
END:VEVENT
BEGIN:VEVENT
DTSTART;TZID=America/Los_Angeles:20280106T190000
DTEND;TZID=America/Los_Angeles:20280106T200000
DTSTAMP:20260422T200147
CREATED:20250424T212353Z
LAST-MODIFIED:20250424T212353Z
UID:10001193-1830798000-1830801600@www.lvcentraloffice.org
SUMMARY:D21 General Service Meeting
DESCRIPTION:
URL:https://www.lvcentraloffice.org/event/d21-general-service-meeting/2028-01-06/
LOCATION:D21 meeting place\, 1401 North Decatur Blvd\, Suite 19\, Las Vegas\, NV\, 89108\, United States
END:VEVENT
BEGIN:VEVENT
DTSTART;TZID=America/Los_Angeles:20280108T131500
DTEND;TZID=America/Los_Angeles:20280108T141500
DTSTAMP:20260422T200147
CREATED:20250424T210244Z
LAST-MODIFIED:20250424T210244Z
UID:10000845-1830950100-1830953700@www.lvcentraloffice.org
SUMMARY:District 5B General Service Meeting
DESCRIPTION:
URL:https://www.lvcentraloffice.org/event/district-5b-general-service-meeting/2028-01-08/
LOCATION:Keep Coming Back Club\, 5717 W Alexander Rd Ste 145\, Las Vegas\, NV\, 89130\, United States
END:VEVENT
BEGIN:VEVENT
DTSTART;TZID=America/Los_Angeles:20280109T094500
DTEND;TZID=America/Los_Angeles:20280109T104500
DTSTAMP:20260422T200147
CREATED:20250424T211729Z
LAST-MODIFIED:20250424T211729Z
UID:10000965-1831023900-1831027500@www.lvcentraloffice.org
SUMMARY:D15 General Service Meeting
DESCRIPTION:
URL:https://www.lvcentraloffice.org/event/d15-general-service-meeting/2028-01-09/
LOCATION:TIE Club\, 329 North 11th Street\, Las Vegas\, NV\, 89101\, United States
END:VEVENT
BEGIN:VEVENT
DTSTART;TZID=America/Los_Angeles:20280110T163000
DTEND;TZID=America/Los_Angeles:20280110T173000
DTSTAMP:20260422T200147
CREATED:20250424T194307Z
LAST-MODIFIED:20250424T194307Z
UID:10000461-1831134600-1831138200@www.lvcentraloffice.org
SUMMARY:CPC Committee Meeting
DESCRIPTION:ID: 869 7461 4930   Passcode: Serenity
URL:https://www.lvcentraloffice.org/event/cpc-committee-meeting/2028-01-10/
LOCATION:ONLINE ONLY
END:VEVENT
BEGIN:VEVENT
DTSTART;TZID=America/Los_Angeles:20280110T180000
DTEND;TZID=America/Los_Angeles:20280110T190000
DTSTAMP:20260422T200147
CREATED:20250424T175208Z
LAST-MODIFIED:20250424T180936Z
UID:10000156-1831140000-1831143600@www.lvcentraloffice.org
SUMMARY:Intergroup Meeting
DESCRIPTION:Zoom Information: \nMeeting ID: 95812571807 Pass Code: 710AA  \n 
URL:https://www.lvcentraloffice.org/event/intergroup-meeting/2028-01-10/
LOCATION:Central Office Meeting Room\, 1515 E Tropicana Ave\, Suite 710\, Las Vegas\, NV\, 89119\, United States
END:VEVENT
BEGIN:VEVENT
DTSTART;TZID=America/Los_Angeles:20280113T190000
DTEND;TZID=America/Los_Angeles:20280113T200000
DTSTAMP:20260422T200147
CREATED:20250424T212353Z
LAST-MODIFIED:20250424T212353Z
UID:10001194-1831402800-1831406400@www.lvcentraloffice.org
SUMMARY:D21 General Service Meeting
DESCRIPTION:
URL:https://www.lvcentraloffice.org/event/d21-general-service-meeting/2028-01-13/
LOCATION:D21 meeting place\, 1401 North Decatur Blvd\, Suite 19\, Las Vegas\, NV\, 89108\, United States
END:VEVENT
BEGIN:VEVENT
DTSTART;TZID=America/Los_Angeles:20280115T103000
DTEND;TZID=America/Los_Angeles:20280115T140000
DTSTAMP:20260422T200147
CREATED:20260323T165914Z
LAST-MODIFIED:20260413T184320Z
UID:10004456-1831545000-1831557600@www.lvcentraloffice.org
SUMMARY:Archives Virtual Committee Meeting
DESCRIPTION:Archives Meetings Flyer \nMEETING ID: 867 1631 4717\nPasscode: Archives42
URL:https://www.lvcentraloffice.org/event/archives-virtual-committee-meeting/2028-01-15/
LOCATION:
END:VEVENT
BEGIN:VEVENT
DTSTART;TZID=America/Los_Angeles:20280116T100000
DTEND;TZID=America/Los_Angeles:20280116T230000
DTSTAMP:20260422T200147
CREATED:20251104T191839Z
LAST-MODIFIED:20260313T215429Z
UID:10000216-1831629600-1831676400@www.lvcentraloffice.org
SUMMARY:District 1 General Service Meeting
DESCRIPTION:
URL:https://www.lvcentraloffice.org/event/district-1-committee-meeting-2/2028-01-16/
LOCATION:Central Office Meeting Room\, 1515 E Tropicana Ave\, Suite 710\, Las Vegas\, NV\, 89119\, United States
END:VEVENT
BEGIN:VEVENT
DTSTART;TZID=America/Los_Angeles:20280116T150000
DTEND;TZID=America/Los_Angeles:20280116T160000
DTSTAMP:20260422T200147
CREATED:20250424T211456Z
LAST-MODIFIED:20250424T211456Z
UID:10000905-1831647600-1831651200@www.lvcentraloffice.org
SUMMARY:D13 General Service Meeting
DESCRIPTION:
URL:https://www.lvcentraloffice.org/event/d13-general-service-meeting/2028-01-16/
LOCATION:Triangle Club\, 4600 S. Nellis Blvd\, Las Vegas\, NV\, 89121\, United States
END:VEVENT
BEGIN:VEVENT
DTSTART;TZID=America/Los_Angeles:20280118T173000
DTEND;TZID=America/Los_Angeles:20280118T175000
DTSTAMP:20260422T200147
CREATED:20250424T180028Z
LAST-MODIFIED:20250424T180028Z
UID:10000277-1831829400-1831830600@www.lvcentraloffice.org
SUMMARY:H&I Committee Orientation
DESCRIPTION:
URL:https://www.lvcentraloffice.org/event/hi-committee-orientation/2028-01-18/
LOCATION:Central Office Meeting Room\, 1515 E Tropicana Ave\, Suite 710\, Las Vegas\, NV\, 89119\, United States
END:VEVENT
BEGIN:VEVENT
DTSTART;TZID=America/Los_Angeles:20280118T180000
DTEND;TZID=America/Los_Angeles:20280118T190000
DTSTAMP:20260422T200147
CREATED:20250424T182008Z
LAST-MODIFIED:20250424T182008Z
UID:10000340-1831831200-1831834800@www.lvcentraloffice.org
SUMMARY:H&I Committee Meeting
DESCRIPTION:
URL:https://www.lvcentraloffice.org/event/hi-committee-meeting/2028-01-18/
LOCATION:Central Office Meeting Room\, 1515 E Tropicana Ave\, Suite 710\, Las Vegas\, NV\, 89119\, United States
END:VEVENT
BEGIN:VEVENT
DTSTART;TZID=America/Los_Angeles:20280120T190000
DTEND;TZID=America/Los_Angeles:20280120T200000
DTSTAMP:20260422T200147
CREATED:20250424T212353Z
LAST-MODIFIED:20250424T212353Z
UID:10001195-1832007600-1832011200@www.lvcentraloffice.org
SUMMARY:D21 General Service Meeting
DESCRIPTION:
URL:https://www.lvcentraloffice.org/event/d21-general-service-meeting/2028-01-20/
LOCATION:D21 meeting place\, 1401 North Decatur Blvd\, Suite 19\, Las Vegas\, NV\, 89108\, United States
END:VEVENT
BEGIN:VEVENT
DTSTART;TZID=America/Los_Angeles:20280124T190000
DTEND;TZID=America/Los_Angeles:20280124T200000
DTSTAMP:20260422T200147
CREATED:20250424T194038Z
LAST-MODIFIED:20250424T194038Z
UID:10000401-1832353200-1832356800@www.lvcentraloffice.org
SUMMARY:Accessibility/Meetings To Go Committee Meeting
DESCRIPTION:ID: 8330 643 2783   Passcode: handofaa
URL:https://www.lvcentraloffice.org/event/accessibility-meetings-to-go-committee-meeting/2028-01-24/
LOCATION:ONLINE ONLY
END:VEVENT
BEGIN:VEVENT
DTSTART;TZID=America/Los_Angeles:20280125T190000
DTEND;TZID=America/Los_Angeles:20280125T200000
DTSTAMP:20260422T200147
CREATED:20250424T195145Z
LAST-MODIFIED:20250424T195145Z
UID:10000522-1832439600-1832443200@www.lvcentraloffice.org
SUMMARY:Grapevine Committee Meeting
DESCRIPTION:ID:  863 7191 9329  Passcode: Grapevine
URL:https://www.lvcentraloffice.org/event/grapevine-committee-meeting/2028-01-25/
LOCATION:ONLINE ONLY
END:VEVENT
BEGIN:VEVENT
DTSTART;TZID=America/Los_Angeles:20280126T170000
DTEND;TZID=America/Los_Angeles:20280126T180000
DTSTAMP:20260422T200147
CREATED:20250604T213851Z
LAST-MODIFIED:20250604T213851Z
UID:10003132-1832518800-1832522400@www.lvcentraloffice.org
SUMMARY:Public Information Committee Meeting
DESCRIPTION:
URL:https://www.lvcentraloffice.org/event/public-information-committee-meeting/2028-01-26/
LOCATION:Central Office Meeting Room\, 1515 E Tropicana Ave\, Suite 710\, Las Vegas\, NV\, 89119\, United States
END:VEVENT
BEGIN:VEVENT
DTSTART;TZID=America/Los_Angeles:20280127T190000
DTEND;TZID=America/Los_Angeles:20280127T200000
DTSTAMP:20260422T200147
CREATED:20250424T212353Z
LAST-MODIFIED:20250424T212353Z
UID:10001196-1832612400-1832616000@www.lvcentraloffice.org
SUMMARY:D21 General Service Meeting
DESCRIPTION:
URL:https://www.lvcentraloffice.org/event/d21-general-service-meeting/2028-01-27/
LOCATION:D21 meeting place\, 1401 North Decatur Blvd\, Suite 19\, Las Vegas\, NV\, 89108\, United States
END:VEVENT
BEGIN:VEVENT
DTSTART;TZID=America/Los_Angeles:20280128T090000
DTEND;TZID=America/Los_Angeles:20280128T130000
DTSTAMP:20260422T200147
CREATED:20260323T165052Z
LAST-MODIFIED:20260323T203718Z
UID:10004397-1832662800-1832677200@www.lvcentraloffice.org
SUMMARY:Archive Committee Meeting
DESCRIPTION:Archives Meetings Flyer
URL:https://www.lvcentraloffice.org/event/archive-committee-meeting-2-2/2028-01-28/
LOCATION:Central Office Meeting Room\, 1515 E Tropicana Ave\, Suite 710\, Las Vegas\, NV\, 89119\, United States
END:VEVENT
BEGIN:VEVENT
DTSTART;TZID=America/Los_Angeles:20280130T180000
DTEND;TZID=America/Los_Angeles:20280130T190000
DTSTAMP:20260422T200147
CREATED:20250527T171424Z
LAST-MODIFIED:20250804T192231Z
UID:10001424-1832868000-1832871600@www.lvcentraloffice.org
SUMMARY:The Traditions and Concepts Presentation
DESCRIPTION:Geared to help General Service Reps \nZoom Meeting ID: 653 006 6012 \nPassword: 1935
URL:https://www.lvcentraloffice.org/event/the-traditions-and-concepts-presentation/2028-01-30/
LOCATION:ONLINE ONLY
END:VEVENT
BEGIN:VEVENT
DTSTART;TZID=America/Los_Angeles:20280202T183000
DTEND;TZID=America/Los_Angeles:20280202T193000
DTSTAMP:20260422T200147
CREATED:20250424T212109Z
LAST-MODIFIED:20250424T212109Z
UID:10001026-1833129000-1833132600@www.lvcentraloffice.org
SUMMARY:District 17 General Service Meeting
DESCRIPTION:
URL:https://www.lvcentraloffice.org/event/district-17-general-service-meeting/2028-02-02/
LOCATION:Desert View Hospital Conference Room\, 360 S Lola Ln\, Pahrump\, NV\, 89048\, United States
END:VEVENT
BEGIN:VEVENT
DTSTART;TZID=America/Los_Angeles:20280203T190000
DTEND;TZID=America/Los_Angeles:20280203T200000
DTSTAMP:20260422T200147
CREATED:20250424T212353Z
LAST-MODIFIED:20250424T212353Z
UID:10001197-1833217200-1833220800@www.lvcentraloffice.org
SUMMARY:D21 General Service Meeting
DESCRIPTION:
URL:https://www.lvcentraloffice.org/event/d21-general-service-meeting/2028-02-03/
LOCATION:D21 meeting place\, 1401 North Decatur Blvd\, Suite 19\, Las Vegas\, NV\, 89108\, United States
END:VEVENT
BEGIN:VEVENT
DTSTART;TZID=America/Los_Angeles:20280205T133000
DTEND;TZID=America/Los_Angeles:20280205T143000
DTSTAMP:20260422T200147
CREATED:20250424T174809Z
LAST-MODIFIED:20250424T211009Z
UID:10000036-1833370200-1833373800@www.lvcentraloffice.org
SUMMARY:D9 General Service Meeting
DESCRIPTION:
URL:https://www.lvcentraloffice.org/event/d9-committee-meeting/2028-02-05/
LOCATION:Central Office Meeting Room\, 1515 E Tropicana Ave\, Suite 710\, Las Vegas\, NV\, 89119\, United States
END:VEVENT
BEGIN:VEVENT
DTSTART;TZID=America/Los_Angeles:20280206T133000
DTEND;TZID=America/Los_Angeles:20280206T143000
DTSTAMP:20260422T200147
CREATED:20250424T175052Z
LAST-MODIFIED:20250722T222356Z
UID:10000097-1833456600-1833460200@www.lvcentraloffice.org
SUMMARY:LVYPAA Committee Meeting
DESCRIPTION:
URL:https://www.lvcentraloffice.org/event/lvypa-committee-meeting/2028-02-06/
LOCATION:Central Office Meeting Room\, 1515 E Tropicana Ave\, Suite 710\, Las Vegas\, NV\, 89119\, United States
END:VEVENT
BEGIN:VEVENT
DTSTART;TZID=America/Los_Angeles:20280210T190000
DTEND;TZID=America/Los_Angeles:20280210T200000
DTSTAMP:20260422T200147
CREATED:20250424T212353Z
LAST-MODIFIED:20250424T212353Z
UID:10001198-1833822000-1833825600@www.lvcentraloffice.org
SUMMARY:D21 General Service Meeting
DESCRIPTION:
URL:https://www.lvcentraloffice.org/event/d21-general-service-meeting/2028-02-10/
LOCATION:D21 meeting place\, 1401 North Decatur Blvd\, Suite 19\, Las Vegas\, NV\, 89108\, United States
END:VEVENT
BEGIN:VEVENT
DTSTART;TZID=America/Los_Angeles:20280212T131500
DTEND;TZID=America/Los_Angeles:20280212T141500
DTSTAMP:20260422T200147
CREATED:20250424T210244Z
LAST-MODIFIED:20250424T210244Z
UID:10000846-1833974100-1833977700@www.lvcentraloffice.org
SUMMARY:District 5B General Service Meeting
DESCRIPTION:
URL:https://www.lvcentraloffice.org/event/district-5b-general-service-meeting/2028-02-12/
LOCATION:Keep Coming Back Club\, 5717 W Alexander Rd Ste 145\, Las Vegas\, NV\, 89130\, United States
END:VEVENT
BEGIN:VEVENT
DTSTART;TZID=America/Los_Angeles:20280213T094500
DTEND;TZID=America/Los_Angeles:20280213T104500
DTSTAMP:20260422T200147
CREATED:20250424T211729Z
LAST-MODIFIED:20250424T211729Z
UID:10000966-1834047900-1834051500@www.lvcentraloffice.org
SUMMARY:D15 General Service Meeting
DESCRIPTION:
URL:https://www.lvcentraloffice.org/event/d15-general-service-meeting/2028-02-13/
LOCATION:TIE Club\, 329 North 11th Street\, Las Vegas\, NV\, 89101\, United States
END:VEVENT
BEGIN:VEVENT
DTSTART;TZID=America/Los_Angeles:20280214T163000
DTEND;TZID=America/Los_Angeles:20280214T173000
DTSTAMP:20260422T200147
CREATED:20250424T194307Z
LAST-MODIFIED:20250424T194307Z
UID:10000462-1834158600-1834162200@www.lvcentraloffice.org
SUMMARY:CPC Committee Meeting
DESCRIPTION:ID: 869 7461 4930   Passcode: Serenity
URL:https://www.lvcentraloffice.org/event/cpc-committee-meeting/2028-02-14/
LOCATION:ONLINE ONLY
END:VEVENT
BEGIN:VEVENT
DTSTART;TZID=America/Los_Angeles:20280214T180000
DTEND;TZID=America/Los_Angeles:20280214T190000
DTSTAMP:20260422T200147
CREATED:20250424T175208Z
LAST-MODIFIED:20250424T180936Z
UID:10000157-1834164000-1834167600@www.lvcentraloffice.org
SUMMARY:Intergroup Meeting
DESCRIPTION:Zoom Information: \nMeeting ID: 95812571807 Pass Code: 710AA  \n 
URL:https://www.lvcentraloffice.org/event/intergroup-meeting/2028-02-14/
LOCATION:Central Office Meeting Room\, 1515 E Tropicana Ave\, Suite 710\, Las Vegas\, NV\, 89119\, United States
END:VEVENT
BEGIN:VEVENT
DTSTART;TZID=America/Los_Angeles:20280215T173000
DTEND;TZID=America/Los_Angeles:20280215T175000
DTSTAMP:20260422T200147
CREATED:20250424T180028Z
LAST-MODIFIED:20250424T180028Z
UID:10000278-1834248600-1834249800@www.lvcentraloffice.org
SUMMARY:H&I Committee Orientation
DESCRIPTION:
URL:https://www.lvcentraloffice.org/event/hi-committee-orientation/2028-02-15/
LOCATION:Central Office Meeting Room\, 1515 E Tropicana Ave\, Suite 710\, Las Vegas\, NV\, 89119\, United States
END:VEVENT
END:VCALENDAR