BEGIN:VCALENDAR
VERSION:2.0
PRODID:-//Las Vegas Central Office for Alcoholics Anonymous - ECPv6.15.17//NONSGML v1.0//EN
CALSCALE:GREGORIAN
METHOD:PUBLISH
X-WR-CALNAME:Las Vegas Central Office for Alcoholics Anonymous
X-ORIGINAL-URL:https://www.lvcentraloffice.org
X-WR-CALDESC:Events for Las Vegas Central Office for Alcoholics Anonymous
REFRESH-INTERVAL;VALUE=DURATION:PT1H
X-Robots-Tag:noindex
X-PUBLISHED-TTL:PT1H
BEGIN:VTIMEZONE
TZID:America/Los_Angeles
BEGIN:DAYLIGHT
TZOFFSETFROM:-0800
TZOFFSETTO:-0700
TZNAME:PDT
DTSTART:20260308T100000
END:DAYLIGHT
BEGIN:STANDARD
TZOFFSETFROM:-0700
TZOFFSETTO:-0800
TZNAME:PST
DTSTART:20261101T090000
END:STANDARD
BEGIN:DAYLIGHT
TZOFFSETFROM:-0800
TZOFFSETTO:-0700
TZNAME:PDT
DTSTART:20270314T100000
END:DAYLIGHT
BEGIN:STANDARD
TZOFFSETFROM:-0700
TZOFFSETTO:-0800
TZNAME:PST
DTSTART:20271107T090000
END:STANDARD
BEGIN:DAYLIGHT
TZOFFSETFROM:-0800
TZOFFSETTO:-0700
TZNAME:PDT
DTSTART:20280312T100000
END:DAYLIGHT
BEGIN:STANDARD
TZOFFSETFROM:-0700
TZOFFSETTO:-0800
TZNAME:PST
DTSTART:20281105T090000
END:STANDARD
END:VTIMEZONE
BEGIN:VEVENT
DTSTART;TZID=America/Los_Angeles:20270829T180000
DTEND;TZID=America/Los_Angeles:20270829T190000
DTSTAMP:20260419T160753
CREATED:20250527T171424Z
LAST-MODIFIED:20250804T192231Z
UID:10001419-1819562400-1819566000@www.lvcentraloffice.org
SUMMARY:The Traditions and Concepts Presentation
DESCRIPTION:Geared to help General Service Reps \nZoom Meeting ID: 653 006 6012 \nPassword: 1935
URL:https://www.lvcentraloffice.org/event/the-traditions-and-concepts-presentation/2027-08-29/
LOCATION:ONLINE ONLY
END:VEVENT
BEGIN:VEVENT
DTSTART;TZID=America/Los_Angeles:20270831T190000
DTEND;TZID=America/Los_Angeles:20270831T200000
DTSTAMP:20260419T160753
CREATED:20250424T195145Z
LAST-MODIFIED:20250424T195145Z
UID:10000517-1819738800-1819742400@www.lvcentraloffice.org
SUMMARY:Grapevine Committee Meeting
DESCRIPTION:ID:  863 7191 9329  Passcode: Grapevine
URL:https://www.lvcentraloffice.org/event/grapevine-committee-meeting/2027-08-31/
LOCATION:ONLINE ONLY
END:VEVENT
BEGIN:VEVENT
DTSTART;TZID=America/Los_Angeles:20270901T183000
DTEND;TZID=America/Los_Angeles:20270901T193000
DTSTAMP:20260419T160753
CREATED:20250424T212109Z
LAST-MODIFIED:20250424T212109Z
UID:10001021-1819823400-1819827000@www.lvcentraloffice.org
SUMMARY:District 17 General Service Meeting
DESCRIPTION:
URL:https://www.lvcentraloffice.org/event/district-17-general-service-meeting/2027-09-01/
LOCATION:Desert View Hospital Conference Room\, 360 S Lola Ln\, Pahrump\, NV\, 89048\, United States
END:VEVENT
BEGIN:VEVENT
DTSTART;TZID=America/Los_Angeles:20270902T190000
DTEND;TZID=America/Los_Angeles:20270902T200000
DTSTAMP:20260419T160753
CREATED:20250424T212353Z
LAST-MODIFIED:20250424T212353Z
UID:10001175-1819911600-1819915200@www.lvcentraloffice.org
SUMMARY:D21 General Service Meeting
DESCRIPTION:
URL:https://www.lvcentraloffice.org/event/d21-general-service-meeting/2027-09-02/
LOCATION:D21 meeting place\, 1401 North Decatur Blvd\, Suite 19\, Las Vegas\, NV\, 89108\, United States
END:VEVENT
BEGIN:VEVENT
DTSTART;TZID=America/Los_Angeles:20270904T133000
DTEND;TZID=America/Los_Angeles:20270904T143000
DTSTAMP:20260419T160753
CREATED:20250424T174809Z
LAST-MODIFIED:20250424T211009Z
UID:10000031-1820064600-1820068200@www.lvcentraloffice.org
SUMMARY:D9 General Service Meeting
DESCRIPTION:
URL:https://www.lvcentraloffice.org/event/d9-committee-meeting/2027-09-04/
LOCATION:Central Office Meeting Room\, 1515 E Tropicana Ave\, Suite 710\, Las Vegas\, NV\, 89119\, United States
END:VEVENT
BEGIN:VEVENT
DTSTART;TZID=America/Los_Angeles:20270905T133000
DTEND;TZID=America/Los_Angeles:20270905T143000
DTSTAMP:20260419T160753
CREATED:20250424T175052Z
LAST-MODIFIED:20250722T222356Z
UID:10000092-1820151000-1820154600@www.lvcentraloffice.org
SUMMARY:LVYPAA Committee Meeting
DESCRIPTION:
URL:https://www.lvcentraloffice.org/event/lvypa-committee-meeting/2027-09-05/
LOCATION:Central Office Meeting Room\, 1515 E Tropicana Ave\, Suite 710\, Las Vegas\, NV\, 89119\, United States
END:VEVENT
BEGIN:VEVENT
DTSTART;TZID=America/Los_Angeles:20270909T190000
DTEND;TZID=America/Los_Angeles:20270909T200000
DTSTAMP:20260419T160753
CREATED:20250424T212353Z
LAST-MODIFIED:20250424T212353Z
UID:10001176-1820516400-1820520000@www.lvcentraloffice.org
SUMMARY:D21 General Service Meeting
DESCRIPTION:
URL:https://www.lvcentraloffice.org/event/d21-general-service-meeting/2027-09-09/
LOCATION:D21 meeting place\, 1401 North Decatur Blvd\, Suite 19\, Las Vegas\, NV\, 89108\, United States
END:VEVENT
BEGIN:VEVENT
DTSTART;TZID=America/Los_Angeles:20270911T131500
DTEND;TZID=America/Los_Angeles:20270911T141500
DTSTAMP:20260419T160753
CREATED:20250424T210244Z
LAST-MODIFIED:20250424T210244Z
UID:10000841-1820668500-1820672100@www.lvcentraloffice.org
SUMMARY:District 5B General Service Meeting
DESCRIPTION:
URL:https://www.lvcentraloffice.org/event/district-5b-general-service-meeting/2027-09-11/
LOCATION:Keep Coming Back Club\, 5717 W Alexander Rd Ste 145\, Las Vegas\, NV\, 89130\, United States
END:VEVENT
BEGIN:VEVENT
DTSTART;TZID=America/Los_Angeles:20270912T094500
DTEND;TZID=America/Los_Angeles:20270912T104500
DTSTAMP:20260419T160753
CREATED:20250424T211729Z
LAST-MODIFIED:20250424T211729Z
UID:10000961-1820742300-1820745900@www.lvcentraloffice.org
SUMMARY:D15 General Service Meeting
DESCRIPTION:
URL:https://www.lvcentraloffice.org/event/d15-general-service-meeting/2027-09-12/
LOCATION:TIE Club\, 329 North 11th Street\, Las Vegas\, NV\, 89101\, United States
END:VEVENT
BEGIN:VEVENT
DTSTART;TZID=America/Los_Angeles:20270913T163000
DTEND;TZID=America/Los_Angeles:20270913T173000
DTSTAMP:20260419T160753
CREATED:20250424T194307Z
LAST-MODIFIED:20250424T194307Z
UID:10000457-1820853000-1820856600@www.lvcentraloffice.org
SUMMARY:CPC Committee Meeting
DESCRIPTION:ID: 869 7461 4930   Passcode: Serenity
URL:https://www.lvcentraloffice.org/event/cpc-committee-meeting/2027-09-13/
LOCATION:ONLINE ONLY
END:VEVENT
BEGIN:VEVENT
DTSTART;TZID=America/Los_Angeles:20270913T180000
DTEND;TZID=America/Los_Angeles:20270913T190000
DTSTAMP:20260419T160753
CREATED:20250424T175208Z
LAST-MODIFIED:20250424T180936Z
UID:10000152-1820858400-1820862000@www.lvcentraloffice.org
SUMMARY:Intergroup Meeting
DESCRIPTION:Zoom Information: \nMeeting ID: 95812571807 Pass Code: 710AA  \n 
URL:https://www.lvcentraloffice.org/event/intergroup-meeting/2027-09-13/
LOCATION:Central Office Meeting Room\, 1515 E Tropicana Ave\, Suite 710\, Las Vegas\, NV\, 89119\, United States
END:VEVENT
BEGIN:VEVENT
DTSTART;TZID=America/Los_Angeles:20270916T190000
DTEND;TZID=America/Los_Angeles:20270916T200000
DTSTAMP:20260419T160753
CREATED:20250424T212353Z
LAST-MODIFIED:20250424T212353Z
UID:10001177-1821121200-1821124800@www.lvcentraloffice.org
SUMMARY:D21 General Service Meeting
DESCRIPTION:
URL:https://www.lvcentraloffice.org/event/d21-general-service-meeting/2027-09-16/
LOCATION:D21 meeting place\, 1401 North Decatur Blvd\, Suite 19\, Las Vegas\, NV\, 89108\, United States
END:VEVENT
BEGIN:VEVENT
DTSTART;TZID=America/Los_Angeles:20270918T103000
DTEND;TZID=America/Los_Angeles:20270918T140000
DTSTAMP:20260419T160753
CREATED:20260323T165914Z
LAST-MODIFIED:20260413T184320Z
UID:10004452-1821263400-1821276000@www.lvcentraloffice.org
SUMMARY:Archives Virtual Committee Meeting
DESCRIPTION:Archives Meetings Flyer \nMEETING ID: 867 1631 4717\nPasscode: Archives42
URL:https://www.lvcentraloffice.org/event/archives-virtual-committee-meeting/2027-09-18/
LOCATION:
END:VEVENT
BEGIN:VEVENT
DTSTART;TZID=America/Los_Angeles:20270919T100000
DTEND;TZID=America/Los_Angeles:20270919T230000
DTSTAMP:20260419T160753
CREATED:20251104T191839Z
LAST-MODIFIED:20260313T215429Z
UID:10000212-1821348000-1821394800@www.lvcentraloffice.org
SUMMARY:District 1 General Service Meeting
DESCRIPTION:
URL:https://www.lvcentraloffice.org/event/district-1-committee-meeting-2/2027-09-19/
LOCATION:Central Office Meeting Room\, 1515 E Tropicana Ave\, Suite 710\, Las Vegas\, NV\, 89119\, United States
END:VEVENT
BEGIN:VEVENT
DTSTART;TZID=America/Los_Angeles:20270919T150000
DTEND;TZID=America/Los_Angeles:20270919T160000
DTSTAMP:20260419T160753
CREATED:20250424T211456Z
LAST-MODIFIED:20250424T211456Z
UID:10000901-1821366000-1821369600@www.lvcentraloffice.org
SUMMARY:D13 General Service Meeting
DESCRIPTION:
URL:https://www.lvcentraloffice.org/event/d13-general-service-meeting/2027-09-19/
LOCATION:Triangle Club\, 4600 S. Nellis Blvd\, Las Vegas\, NV\, 89121\, United States
END:VEVENT
BEGIN:VEVENT
DTSTART;TZID=America/Los_Angeles:20270921T173000
DTEND;TZID=America/Los_Angeles:20270921T175000
DTSTAMP:20260419T160753
CREATED:20250424T180028Z
LAST-MODIFIED:20250424T180028Z
UID:10000273-1821547800-1821549000@www.lvcentraloffice.org
SUMMARY:H&I Committee Orientation
DESCRIPTION:
URL:https://www.lvcentraloffice.org/event/hi-committee-orientation/2027-09-21/
LOCATION:Central Office Meeting Room\, 1515 E Tropicana Ave\, Suite 710\, Las Vegas\, NV\, 89119\, United States
END:VEVENT
BEGIN:VEVENT
DTSTART;TZID=America/Los_Angeles:20270921T180000
DTEND;TZID=America/Los_Angeles:20270921T190000
DTSTAMP:20260419T160753
CREATED:20250424T182008Z
LAST-MODIFIED:20250424T182008Z
UID:10000336-1821549600-1821553200@www.lvcentraloffice.org
SUMMARY:H&I Committee Meeting
DESCRIPTION:
URL:https://www.lvcentraloffice.org/event/hi-committee-meeting/2027-09-21/
LOCATION:Central Office Meeting Room\, 1515 E Tropicana Ave\, Suite 710\, Las Vegas\, NV\, 89119\, United States
END:VEVENT
BEGIN:VEVENT
DTSTART;TZID=America/Los_Angeles:20270922T170000
DTEND;TZID=America/Los_Angeles:20270922T180000
DTSTAMP:20260419T160753
CREATED:20250604T213851Z
LAST-MODIFIED:20250604T213851Z
UID:10003128-1821632400-1821636000@www.lvcentraloffice.org
SUMMARY:Public Information Committee Meeting
DESCRIPTION:
URL:https://www.lvcentraloffice.org/event/public-information-committee-meeting/2027-09-22/
LOCATION:Central Office Meeting Room\, 1515 E Tropicana Ave\, Suite 710\, Las Vegas\, NV\, 89119\, United States
END:VEVENT
BEGIN:VEVENT
DTSTART;TZID=America/Los_Angeles:20270923T190000
DTEND;TZID=America/Los_Angeles:20270923T200000
DTSTAMP:20260419T160753
CREATED:20250424T212353Z
LAST-MODIFIED:20250424T212353Z
UID:10001178-1821726000-1821729600@www.lvcentraloffice.org
SUMMARY:D21 General Service Meeting
DESCRIPTION:
URL:https://www.lvcentraloffice.org/event/d21-general-service-meeting/2027-09-23/
LOCATION:D21 meeting place\, 1401 North Decatur Blvd\, Suite 19\, Las Vegas\, NV\, 89108\, United States
END:VEVENT
BEGIN:VEVENT
DTSTART;TZID=America/Los_Angeles:20270924T090000
DTEND;TZID=America/Los_Angeles:20270924T130000
DTSTAMP:20260419T160753
CREATED:20260323T165052Z
LAST-MODIFIED:20260323T203718Z
UID:10004393-1821776400-1821790800@www.lvcentraloffice.org
SUMMARY:Archive Committee Meeting
DESCRIPTION:Archives Meetings Flyer
URL:https://www.lvcentraloffice.org/event/archive-committee-meeting-2-2/2027-09-24/
LOCATION:Central Office Meeting Room\, 1515 E Tropicana Ave\, Suite 710\, Las Vegas\, NV\, 89119\, United States
END:VEVENT
BEGIN:VEVENT
DTSTART;TZID=America/Los_Angeles:20270926T180000
DTEND;TZID=America/Los_Angeles:20270926T190000
DTSTAMP:20260419T160753
CREATED:20250527T171424Z
LAST-MODIFIED:20250804T192231Z
UID:10001420-1821981600-1821985200@www.lvcentraloffice.org
SUMMARY:The Traditions and Concepts Presentation
DESCRIPTION:Geared to help General Service Reps \nZoom Meeting ID: 653 006 6012 \nPassword: 1935
URL:https://www.lvcentraloffice.org/event/the-traditions-and-concepts-presentation/2027-09-26/
LOCATION:ONLINE ONLY
END:VEVENT
BEGIN:VEVENT
DTSTART;TZID=America/Los_Angeles:20270927T190000
DTEND;TZID=America/Los_Angeles:20270927T200000
DTSTAMP:20260419T160753
CREATED:20250424T194038Z
LAST-MODIFIED:20250424T194038Z
UID:10000397-1822071600-1822075200@www.lvcentraloffice.org
SUMMARY:Accessibility/Meetings To Go Committee Meeting
DESCRIPTION:ID: 8330 643 2783   Passcode: handofaa
URL:https://www.lvcentraloffice.org/event/accessibility-meetings-to-go-committee-meeting/2027-09-27/
LOCATION:ONLINE ONLY
END:VEVENT
BEGIN:VEVENT
DTSTART;TZID=America/Los_Angeles:20270928T190000
DTEND;TZID=America/Los_Angeles:20270928T200000
DTSTAMP:20260419T160753
CREATED:20250424T195145Z
LAST-MODIFIED:20250424T195145Z
UID:10000518-1822158000-1822161600@www.lvcentraloffice.org
SUMMARY:Grapevine Committee Meeting
DESCRIPTION:ID:  863 7191 9329  Passcode: Grapevine
URL:https://www.lvcentraloffice.org/event/grapevine-committee-meeting/2027-09-28/
LOCATION:ONLINE ONLY
END:VEVENT
BEGIN:VEVENT
DTSTART;TZID=America/Los_Angeles:20270930T190000
DTEND;TZID=America/Los_Angeles:20270930T200000
DTSTAMP:20260419T160753
CREATED:20250424T212353Z
LAST-MODIFIED:20250424T212353Z
UID:10001179-1822330800-1822334400@www.lvcentraloffice.org
SUMMARY:D21 General Service Meeting
DESCRIPTION:
URL:https://www.lvcentraloffice.org/event/d21-general-service-meeting/2027-09-30/
LOCATION:D21 meeting place\, 1401 North Decatur Blvd\, Suite 19\, Las Vegas\, NV\, 89108\, United States
END:VEVENT
BEGIN:VEVENT
DTSTART;TZID=America/Los_Angeles:20271002T133000
DTEND;TZID=America/Los_Angeles:20271002T143000
DTSTAMP:20260419T160753
CREATED:20250424T174809Z
LAST-MODIFIED:20250424T211009Z
UID:10000032-1822483800-1822487400@www.lvcentraloffice.org
SUMMARY:D9 General Service Meeting
DESCRIPTION:
URL:https://www.lvcentraloffice.org/event/d9-committee-meeting/2027-10-02/
LOCATION:Central Office Meeting Room\, 1515 E Tropicana Ave\, Suite 710\, Las Vegas\, NV\, 89119\, United States
END:VEVENT
BEGIN:VEVENT
DTSTART;TZID=America/Los_Angeles:20271003T133000
DTEND;TZID=America/Los_Angeles:20271003T143000
DTSTAMP:20260419T160753
CREATED:20250424T175052Z
LAST-MODIFIED:20250722T222356Z
UID:10000093-1822570200-1822573800@www.lvcentraloffice.org
SUMMARY:LVYPAA Committee Meeting
DESCRIPTION:
URL:https://www.lvcentraloffice.org/event/lvypa-committee-meeting/2027-10-03/
LOCATION:Central Office Meeting Room\, 1515 E Tropicana Ave\, Suite 710\, Las Vegas\, NV\, 89119\, United States
END:VEVENT
BEGIN:VEVENT
DTSTART;TZID=America/Los_Angeles:20271006T183000
DTEND;TZID=America/Los_Angeles:20271006T193000
DTSTAMP:20260419T160753
CREATED:20250424T212109Z
LAST-MODIFIED:20250424T212109Z
UID:10001022-1822847400-1822851000@www.lvcentraloffice.org
SUMMARY:District 17 General Service Meeting
DESCRIPTION:
URL:https://www.lvcentraloffice.org/event/district-17-general-service-meeting/2027-10-06/
LOCATION:Desert View Hospital Conference Room\, 360 S Lola Ln\, Pahrump\, NV\, 89048\, United States
END:VEVENT
BEGIN:VEVENT
DTSTART;TZID=America/Los_Angeles:20271007T190000
DTEND;TZID=America/Los_Angeles:20271007T200000
DTSTAMP:20260419T160753
CREATED:20250424T212353Z
LAST-MODIFIED:20250424T212353Z
UID:10001180-1822935600-1822939200@www.lvcentraloffice.org
SUMMARY:D21 General Service Meeting
DESCRIPTION:
URL:https://www.lvcentraloffice.org/event/d21-general-service-meeting/2027-10-07/
LOCATION:D21 meeting place\, 1401 North Decatur Blvd\, Suite 19\, Las Vegas\, NV\, 89108\, United States
END:VEVENT
BEGIN:VEVENT
DTSTART;TZID=America/Los_Angeles:20271009T131500
DTEND;TZID=America/Los_Angeles:20271009T141500
DTSTAMP:20260419T160753
CREATED:20250424T210244Z
LAST-MODIFIED:20250424T210244Z
UID:10000842-1823087700-1823091300@www.lvcentraloffice.org
SUMMARY:District 5B General Service Meeting
DESCRIPTION:
URL:https://www.lvcentraloffice.org/event/district-5b-general-service-meeting/2027-10-09/
LOCATION:Keep Coming Back Club\, 5717 W Alexander Rd Ste 145\, Las Vegas\, NV\, 89130\, United States
END:VEVENT
BEGIN:VEVENT
DTSTART;TZID=America/Los_Angeles:20271010T094500
DTEND;TZID=America/Los_Angeles:20271010T104500
DTSTAMP:20260419T160753
CREATED:20250424T211729Z
LAST-MODIFIED:20250424T211729Z
UID:10000962-1823161500-1823165100@www.lvcentraloffice.org
SUMMARY:D15 General Service Meeting
DESCRIPTION:
URL:https://www.lvcentraloffice.org/event/d15-general-service-meeting/2027-10-10/
LOCATION:TIE Club\, 329 North 11th Street\, Las Vegas\, NV\, 89101\, United States
END:VEVENT
END:VCALENDAR